From mboxrd@z Thu Jan  1 00:00:00 1970
Return-Path: <test-report-bounces@dpdk.org>
Received: from mails.dpdk.org (mails.dpdk.org [217.70.189.124])
	by inbox.dpdk.org (Postfix) with ESMTP id 82DDF43CB8
	for <public@inbox.dpdk.org>; Fri, 15 Mar 2024 10:19:58 +0100 (CET)
Received: from mails.dpdk.org (localhost [127.0.0.1])
	by mails.dpdk.org (Postfix) with ESMTP id 7E11D4027B;
	Fri, 15 Mar 2024 10:19:58 +0100 (CET)
Received: from mail-pf1-f226.google.com (mail-pf1-f226.google.com
 [209.85.210.226])
 by mails.dpdk.org (Postfix) with ESMTP id 38BED4025C
 for <test-report@dpdk.org>; Fri, 15 Mar 2024 10:19:57 +0100 (CET)
Received: by mail-pf1-f226.google.com with SMTP id
 d2e1a72fcca58-6e6f69e850bso606171b3a.0
 for <test-report@dpdk.org>; Fri, 15 Mar 2024 02:19:57 -0700 (PDT)
DKIM-Signature: v=1; a=rsa-sha256; c=relaxed/relaxed;
 d=iol.unh.edu; s=unh-iol; t=1710494396; x=1711099196; darn=dpdk.org;
 h=references:in-reply-to:cc:to:from:subject:message-id:date:from:to
 :cc:subject:date:message-id:reply-to;
 bh=nlG4ZAbnoEfHhwF5fAThdq5JqKpdo2JD7RH/wW+nLNU=;
 b=VbRMt1bVXuOLclxrIyaED8VOcgtJfBuS7gBDiJrrzwkA+fNcFsUbDrD5OJNHhnOaWz
 nqQ1r2eRCxJIl3btuFgb9PQZshN9AH5AusVnYqM5uNOcfuyA3SkiUlrFUM8EFieoA7sC
 ueg6E2wF/vbzEkWEucvJkDdStXkfjNuPR4+dU=
X-Google-DKIM-Signature: v=1; a=rsa-sha256; c=relaxed/relaxed;
 d=1e100.net; s=20230601; t=1710494396; x=1711099196;
 h=references:in-reply-to:cc:to:from:subject:message-id:date
 :x-gm-message-state:from:to:cc:subject:date:message-id:reply-to;
 bh=nlG4ZAbnoEfHhwF5fAThdq5JqKpdo2JD7RH/wW+nLNU=;
 b=dTIuxqeNhDtfBGaIVkxwG773y/HDIn9ut0AlJ5B2y4vPRYXddiMaRtlI5mU0xfLSpC
 y3QROzp6BcS1OVJuRQNLk3r1P7rZtJU7u7LBP9n/rrsOMBgvEQ/rCmg5GPX1c3ekl9bd
 S5VUNanefbuqY27y+OxooLBfaImSkmzXKDHgJnwluR3Yejr+SpvCFXq67udL3kKQxI1E
 V7MkWKgvILeYrNRAe69sFqKvrOlglOGGzYlJkYlh5SjOGF73uIPURYDC7Q9c2nDOK+RC
 u9zjbUzHhoI9Jgh6bPiGWPr/u7PGzZX9pKHZ6impIBqnFr1bNvqc6PUJHEus8Bz33qRM
 bwWg==
X-Gm-Message-State: AOJu0Yx8DSJDKdFYHbJSVPUPD1y8Rm+pMJrFKx4meJ8Yp/0J/OwLlqjh
 w5mIySNK7iFieIIkoRUO9HIdDVcLiQL6SR1f8wfAAft3GpXZ6/wGvNyuorN4wKi/fp8dqccsimL
 W8FLlGK50UXD1/VoaqBGKfDVqum2mKsSwnspGPoO8iywe3c57UQ44xE4W
X-Google-Smtp-Source: AGHT+IG4xgiY78IBf22Ml3MtQHqW4lVWOGF/i0kJXVNdwaSbhUYMIrgt9eM/q1V7cT5sw9k0ccrWD3vXnURZ
X-Received: by 2002:a05:6a00:1142:b0:6e6:1822:1296 with SMTP id
 b2-20020a056a00114200b006e618221296mr4659773pfm.26.1710494396429; 
 Fri, 15 Mar 2024 02:19:56 -0700 (PDT)
Received: from postal.iol.unh.edu (postal.iol.unh.edu.
 [2606:4100:3880:1234::84]) by smtp-relay.gmail.com with ESMTPS id
 g2-20020a056a000b8200b006e68bf967a7sm182074pfj.17.2024.03.15.02.19.56
 (version=TLS1_2 cipher=ECDHE-ECDSA-AES128-GCM-SHA256 bits=128/128);
 Fri, 15 Mar 2024 02:19:56 -0700 (PDT)
X-Relaying-Domain: iol.unh.edu
Date: Fri, 15 Mar 2024 02:19:56 -0700 (PDT)
Message-ID: <65f412bc.050a0220.59180.bdddSMTPIN_ADDED_MISSING@mx.google.com>
Received: from [172.17.0.7] (unknown [172.18.0.217])
 by postal.iol.unh.edu (Postfix) with ESMTP id DAB9D6052471;
 Fri, 15 Mar 2024 05:19:55 -0400 (EDT)
Subject: |SUCCESS| pw138423-138430 [PATCH] [v4,8/8] crypto/cnxk: update the c
From: dpdklab@iol.unh.edu
To: Test Report <test-report@dpdk.org>
Cc: dpdk-test-reports@iol.unh.edu
In-Reply-To: <20240315064511.639-9-vvelumuri@marvell.com>
References: <20240315064511.639-9-vvelumuri@marvell.com>
Content-Type: text/plain
X-BeenThere: test-report@dpdk.org
X-Mailman-Version: 2.1.29
Precedence: list
List-Id: automatic DPDK test reports <test-report.dpdk.org>
List-Unsubscribe: <https://mails.dpdk.org/options/test-report>,
 <mailto:test-report-request@dpdk.org?subject=unsubscribe>
List-Archive: <http://mails.dpdk.org/archives/test-report/>
List-Post: <mailto:test-report@dpdk.org>
List-Help: <mailto:test-report-request@dpdk.org?subject=help>
List-Subscribe: <https://mails.dpdk.org/listinfo/test-report>,
 <mailto:test-report-request@dpdk.org?subject=subscribe>
Errors-To: test-report-bounces@dpdk.org

Test-Label: iol-compile-arm64-testing
Test-Status: SUCCESS
http://dpdk.org/patch/138430

_Testing PASS_

Submitter: Vidya Sagar Velumuri <vvelumuri@marvell.com>
Date: Friday, March 15 2024 06:45:11 
DPDK git baseline: Repo:dpdk
  Branch: master
  CommitID:cd218549b686d6be394ef3b171eafa16c038bfe3

138423-138430 --> testing pass

Test environment and result as below:

+----------------------------------------+--------------------+
|              Environment               | dpdk_meson_compile |
+========================================+====================+
| Ubuntu 20.04 ARM SVE                   | PASS               |
+----------------------------------------+--------------------+
| Debian 12 with MUSDK                   | PASS               |
+----------------------------------------+--------------------+
| Ubuntu 20.04 ARM GCC Cross Compile     | PASS               |
+----------------------------------------+--------------------+
| Fedora 37 (ARM)                        | PASS               |
+----------------------------------------+--------------------+
| Ubuntu 20.04 aarch32 GCC Cross Compile | PASS               |
+----------------------------------------+--------------------+
| Ubuntu 20.04 ARM Clang Cross Compile   | PASS               |
+----------------------------------------+--------------------+
| Fedora 38 (ARM)                        | PASS               |
+----------------------------------------+--------------------+


Ubuntu 20.04 ARM SVE
	Kernel: 5.4.0-80-generic
	Compiler: gcc 10.3.0 (Ubuntu 10.3.0-1ubuntu1~20.04)

Debian 12 with MUSDK
	Kernel: Container Host Kernel
	Compiler: gcc 12

Ubuntu 20.04 ARM GCC Cross Compile
	Kernel: 5.4.0-72-generic
	Compiler: aarch64-linux-gnu-gcc (Ubuntu 9.3.0-17ubuntu1~20.04) 9.3.0

Fedora 37 (ARM)
	Kernel: Depends on container host
	Compiler: gcc 12.3.1

Ubuntu 20.04 aarch32 GCC Cross Compile
	Kernel: 5.4.0-72-generic
	Compiler: gcc 9.3.0

Ubuntu 20.04 ARM Clang Cross Compile
	Kernel: 5.4.0-72-generic
	Compiler: clang version 10.0.0-4ubuntu1

Fedora 38 (ARM)
	Kernel: Depends on container host
	Compiler: gcc 13.1.1

To view detailed results, visit:
https://lab.dpdk.org/results/dashboard/patchsets/29570/

UNH-IOL DPDK Community Lab

To manage your email subscriptions, visit: 
https://lab.dpdk.org/results/dashboard/preferences/subscriptions/