From mboxrd@z Thu Jan  1 00:00:00 1970
Return-Path: <test-report-bounces@dpdk.org>
Received: from mails.dpdk.org (mails.dpdk.org [217.70.189.124])
	by inbox.dpdk.org (Postfix) with ESMTP id 771D143CB8
	for <public@inbox.dpdk.org>; Fri, 15 Mar 2024 10:22:19 +0100 (CET)
Received: from mails.dpdk.org (localhost [127.0.0.1])
	by mails.dpdk.org (Postfix) with ESMTP id 6F5644027B;
	Fri, 15 Mar 2024 10:22:19 +0100 (CET)
Received: from mail-vs1-f98.google.com (mail-vs1-f98.google.com
 [209.85.217.98]) by mails.dpdk.org (Postfix) with ESMTP id 4F31F4025C
 for <test-report@dpdk.org>; Fri, 15 Mar 2024 10:22:01 +0100 (CET)
Received: by mail-vs1-f98.google.com with SMTP id
 ada2fe7eead31-472967264e7so504212137.3
 for <test-report@dpdk.org>; Fri, 15 Mar 2024 02:22:01 -0700 (PDT)
DKIM-Signature: v=1; a=rsa-sha256; c=relaxed/relaxed;
 d=iol.unh.edu; s=unh-iol; t=1710494520; x=1711099320; darn=dpdk.org;
 h=references:in-reply-to:cc:to:from:subject:message-id:date:from:to
 :cc:subject:date:message-id:reply-to;
 bh=poN7kllWnGM4yHmpoycnq5po2uU2PqcLaL20XkRdfLo=;
 b=iT3Z3YLc3Lw4ITTjnaPNavRWYHAUkg1Co/FAKHCfRpfJxL4jXcx0ekzHC3HRhYKqdf
 anqUaIJpZbnq0C22TSqQ1KAnS/otfjrvjlc/LqXbmxSvrWT5MtrOnrvehJUiktxQQFuI
 FMN7LRx/7qSCJqEFLpQfZrQBkb4SWd4EHfBfo=
X-Google-DKIM-Signature: v=1; a=rsa-sha256; c=relaxed/relaxed;
 d=1e100.net; s=20230601; t=1710494520; x=1711099320;
 h=references:in-reply-to:cc:to:from:subject:message-id:date
 :x-gm-message-state:from:to:cc:subject:date:message-id:reply-to;
 bh=poN7kllWnGM4yHmpoycnq5po2uU2PqcLaL20XkRdfLo=;
 b=thr2tjjDlmuSr906AcZgiK4SjwYK34qIhTt9aFLrQTq6AeMzuEK20UibN3DsH25ixQ
 xh786iTmthKoRaEyXTcLKCPuA7XMknO+f1bQByjWhRxfEKydsD/4MQT63lpHY4kHASDW
 O7ZTJpOjX7uymJoH4nvoX3qpdxImbmUOQc8CPv5P+Gxa8en65KM4DPzHCW6/rhXiYNuY
 DCVhtVw+kf5nw4g9o0MNCpn4TaLiKNBv9FDx0UNP13+5JMEoBloUtax/rgzm36OxWDow
 Pakxym8DYUXAyHaF0iLCUdrhBDa9Lj6vcbphyVo7vPcNLFgpYwI58BC9r92XlPMjSnZl
 Nxlg==
X-Gm-Message-State: AOJu0YzLst/sz2R01tKVwdODEZi/l/t1GW3svUmmNyr/qdt9stHqZKPP
 E3teTI6UndCynlVgXi38D3ABWxiET9mmDp7TDHujooVFGYRTlGzLsa43WwJSzqJD7KcDfkNdXM1
 aCuL1EzC2DIBunnHVt4mNgBZsCDWalBthsQcGAOW4gQ6tlcvaEffbV0r3
X-Google-Smtp-Source: AGHT+IEM1xu6VKYbf96qhsWGKPB/TGsL9irqQB4Ap0oCAAlSarUubhFsoqXwUWjeaBr4L1xWDvX/IuFdNN3i
X-Received: by 2002:a05:6102:304c:b0:473:3752:f1e3 with SMTP id
 w12-20020a056102304c00b004733752f1e3mr3263119vsa.31.1710494520649; 
 Fri, 15 Mar 2024 02:22:00 -0700 (PDT)
Received: from postal.iol.unh.edu (postal.iol.unh.edu.
 [2606:4100:3880:1234::84]) by smtp-relay.gmail.com with ESMTPS id
 v1-20020ab05b41000000b007db938e7d27sm116909uae.8.2024.03.15.02.22.00
 (version=TLS1_2 cipher=ECDHE-ECDSA-AES128-GCM-SHA256 bits=128/128);
 Fri, 15 Mar 2024 02:22:00 -0700 (PDT)
X-Relaying-Domain: iol.unh.edu
Date: Fri, 15 Mar 2024 02:22:00 -0700 (PDT)
Message-ID: <65f41338.b00a0220.9e577.7990SMTPIN_ADDED_MISSING@mx.google.com>
Received: from [172.17.0.6] (unknown [172.18.0.217])
 by postal.iol.unh.edu (Postfix) with ESMTP id 5397F6052471;
 Fri, 15 Mar 2024 05:22:00 -0400 (EDT)
Subject: |SUCCESS| pw138423-138430 [PATCH] [v4,8/8] crypto/cnxk: update the c
From: dpdklab@iol.unh.edu
To: Test Report <test-report@dpdk.org>
Cc: dpdk-test-reports@iol.unh.edu
In-Reply-To: <20240315064511.639-9-vvelumuri@marvell.com>
References: <20240315064511.639-9-vvelumuri@marvell.com>
Content-Type: text/plain
X-BeenThere: test-report@dpdk.org
X-Mailman-Version: 2.1.29
Precedence: list
List-Id: automatic DPDK test reports <test-report.dpdk.org>
List-Unsubscribe: <https://mails.dpdk.org/options/test-report>,
 <mailto:test-report-request@dpdk.org?subject=unsubscribe>
List-Archive: <http://mails.dpdk.org/archives/test-report/>
List-Post: <mailto:test-report@dpdk.org>
List-Help: <mailto:test-report-request@dpdk.org?subject=help>
List-Subscribe: <https://mails.dpdk.org/listinfo/test-report>,
 <mailto:test-report-request@dpdk.org?subject=subscribe>
Errors-To: test-report-bounces@dpdk.org

Test-Label: iol-unit-arm64-testing
Test-Status: SUCCESS
http://dpdk.org/patch/138430

_Testing PASS_

Submitter: Vidya Sagar Velumuri <vvelumuri@marvell.com>
Date: Friday, March 15 2024 06:45:11 
DPDK git baseline: Repo:dpdk
  Branch: master
  CommitID:cd218549b686d6be394ef3b171eafa16c038bfe3

138423-138430 --> testing pass

Test environment and result as below:

+--------------------------+----------------+---------------------------+--------------+------------------------------+
|       Environment        | dpdk_unit_test | cryptodev_sw_zuc_autotest | lpm_autotest | cryptodev_sw_snow3g_autotest |
+==========================+================+===========================+==============+==============================+
| Debian 11 (Buster) (ARM) | PASS           | SKIPPED                   | SKIPPED      | SKIPPED                      |
+--------------------------+----------------+---------------------------+--------------+------------------------------+
| Debian 12 (arm)          | PASS           | PASS                      | SKIPPED      | PASS                         |
+--------------------------+----------------+---------------------------+--------------+------------------------------+
| Fedora 37 (ARM)          | PASS           | SKIPPED                   | SKIPPED      | SKIPPED                      |
+--------------------------+----------------+---------------------------+--------------+------------------------------+
| Ubuntu 20.04 ARM SVE     | SKIPPED        | SKIPPED                   | PASS         | SKIPPED                      |
+--------------------------+----------------+---------------------------+--------------+------------------------------+


Debian 11 (Buster) (ARM)
	Kernel: Container Host Kernel
	Compiler: gcc 10.2.1

Debian 12 (arm)
	Kernel: Container Host Kernel
	Compiler: gcc 11

Fedora 37 (ARM)
	Kernel: Depends on container host
	Compiler: gcc 12.3.1

Ubuntu 20.04 ARM SVE
	Kernel: 5.4.0-80-generic
	Compiler: gcc 10.3.0 (Ubuntu 10.3.0-1ubuntu1~20.04)

To view detailed results, visit:
https://lab.dpdk.org/results/dashboard/patchsets/29570/

UNH-IOL DPDK Community Lab

To manage your email subscriptions, visit: 
https://lab.dpdk.org/results/dashboard/preferences/subscriptions/