From mboxrd@z Thu Jan  1 00:00:00 1970
Return-Path: <test-report-bounces@dpdk.org>
Received: from mails.dpdk.org (mails.dpdk.org [217.70.189.124])
	by inbox.dpdk.org (Postfix) with ESMTP id 61ECE43CB8
	for <public@inbox.dpdk.org>; Fri, 15 Mar 2024 10:46:40 +0100 (CET)
Received: from mails.dpdk.org (localhost [127.0.0.1])
	by mails.dpdk.org (Postfix) with ESMTP id 4D13E42DCA;
	Fri, 15 Mar 2024 10:46:40 +0100 (CET)
Received: from mail-il1-f227.google.com (mail-il1-f227.google.com
 [209.85.166.227])
 by mails.dpdk.org (Postfix) with ESMTP id EC5204027B
 for <test-report@dpdk.org>; Fri, 15 Mar 2024 10:46:38 +0100 (CET)
Received: by mail-il1-f227.google.com with SMTP id
 e9e14a558f8ab-3663080b6a4so9108095ab.0
 for <test-report@dpdk.org>; Fri, 15 Mar 2024 02:46:38 -0700 (PDT)
DKIM-Signature: v=1; a=rsa-sha256; c=relaxed/relaxed;
 d=iol.unh.edu; s=unh-iol; t=1710495998; x=1711100798; darn=dpdk.org;
 h=references:in-reply-to:cc:to:from:subject:message-id:date:from:to
 :cc:subject:date:message-id:reply-to;
 bh=rHURnjWe1Itb6xez4rj+Hii12li1twwzaFpO4E/MvUE=;
 b=Rk4fMtM61DSKZZdji6+d2wC8SIQmgrkGFu+5zHssVlUeqWn4kemaP6JJzewxq4PZko
 xA/vjYHZ2auDdh1/hxG3zFnB/VNCnbgSM8M3PLM4xl9Ch+uSGIhafkueB2wjL1LgPbYu
 QeiozdFRALwZzjoW99MA/qNrORWZqeoFPfo7Q=
X-Google-DKIM-Signature: v=1; a=rsa-sha256; c=relaxed/relaxed;
 d=1e100.net; s=20230601; t=1710495998; x=1711100798;
 h=references:in-reply-to:cc:to:from:subject:message-id:date
 :x-gm-message-state:from:to:cc:subject:date:message-id:reply-to;
 bh=rHURnjWe1Itb6xez4rj+Hii12li1twwzaFpO4E/MvUE=;
 b=RWJaWtbcUOkTkVVbAHw9a1LdpIv4WZdRASPY6lUE2hb0wU5flhOkakdGohX7KpLPLa
 eIWohNTLp3da6hy83WHTagM7pXoTWmEzU5/IsFgTKMDlotDTeTCZCN/9jZoKZFW80qpZ
 X44EahC6r9yBgFVqdIxRuBg48ZOoRuliTVKms2E8qf+K87tt/i2u//YwvdV2weMdvBPq
 uQsJCSttWB/2IvSfVD//JZ42/RdqIu0UcwqWL98fQi9oYCYfm2/qtkU0+hDNra0lYQw+
 edexPIysX/K220tggHENBaHEaguO+uXt+3BBp4DVyZMECNXSFjavlDnsVVTe7BQ12pOw
 R2hw==
X-Gm-Message-State: AOJu0YwihGg5Utevam08kxZ82llRI38lxqFYRpGzz7hv1Iny0YtGi0Yr
 +Sp9XVpdSIS5TM4d+2Jd5Wzahq4kF0LHLDSfj2b25+OZ9CSGgj/TvLvuf5+MjgTfL7f9toKV8+s
 AAezlXtsXBI5uo4JyfUKAPdoPZTNl7Z+tmPgfeSo4R7KdBKybB5K3k4zj
X-Google-Smtp-Source: AGHT+IGxk14Ftz7npsShbSpAjuCamwBy1LRKYOo/oaWm2TSTf3tU6689Iy11yZbg/fOIqH8yEpxAAviH/Dxv
X-Received: by 2002:a92:d312:0:b0:366:5af3:3e34 with SMTP id
 x18-20020a92d312000000b003665af33e34mr2959816ila.17.1710495998358; 
 Fri, 15 Mar 2024 02:46:38 -0700 (PDT)
Received: from postal.iol.unh.edu (postal.iol.unh.edu.
 [2606:4100:3880:1234::84]) by smtp-relay.gmail.com with ESMTPS id
 l2-20020a02cd82000000b0047720a0f5e1sm100246jap.72.2024.03.15.02.46.38
 (version=TLS1_2 cipher=ECDHE-ECDSA-AES128-GCM-SHA256 bits=128/128);
 Fri, 15 Mar 2024 02:46:38 -0700 (PDT)
X-Relaying-Domain: iol.unh.edu
Date: Fri, 15 Mar 2024 02:46:38 -0700 (PDT)
Message-ID: <65f418fe.020a0220.d62e9.6de1SMTPIN_ADDED_MISSING@mx.google.com>
Received: from [172.17.0.6] (unknown [172.18.0.217])
 by postal.iol.unh.edu (Postfix) with ESMTP id F396F6052471;
 Fri, 15 Mar 2024 05:46:37 -0400 (EDT)
Subject: |SUCCESS| pw138423-138430 [PATCH] [v4,8/8] crypto/cnxk: update the c
From: dpdklab@iol.unh.edu
To: Test Report <test-report@dpdk.org>
Cc: dpdk-test-reports@iol.unh.edu
In-Reply-To: <20240315064511.639-9-vvelumuri@marvell.com>
References: <20240315064511.639-9-vvelumuri@marvell.com>
Content-Type: text/plain
X-BeenThere: test-report@dpdk.org
X-Mailman-Version: 2.1.29
Precedence: list
List-Id: automatic DPDK test reports <test-report.dpdk.org>
List-Unsubscribe: <https://mails.dpdk.org/options/test-report>,
 <mailto:test-report-request@dpdk.org?subject=unsubscribe>
List-Archive: <http://mails.dpdk.org/archives/test-report/>
List-Post: <mailto:test-report@dpdk.org>
List-Help: <mailto:test-report-request@dpdk.org?subject=help>
List-Subscribe: <https://mails.dpdk.org/listinfo/test-report>,
 <mailto:test-report-request@dpdk.org?subject=subscribe>
Errors-To: test-report-bounces@dpdk.org

Test-Label: iol-compile-amd64-testing
Test-Status: SUCCESS
http://dpdk.org/patch/138430

_Testing PASS_

Submitter: Vidya Sagar Velumuri <vvelumuri@marvell.com>
Date: Friday, March 15 2024 06:45:11 
DPDK git baseline: Repo:dpdk
  Branch: master
  CommitID:cd218549b686d6be394ef3b171eafa16c038bfe3

138423-138430 --> testing pass

Test environment and result as below:

+---------------------+--------------------+----------------------+
|     Environment     | dpdk_meson_compile | dpdk_mingw64_compile |
+=====================+====================+======================+
| Debian 12 (arm)     | PASS               | SKIPPED              |
+---------------------+--------------------+----------------------+
| Debian Bullseye     | PASS               | SKIPPED              |
+---------------------+--------------------+----------------------+
| Fedora 37           | PASS               | SKIPPED              |
+---------------------+--------------------+----------------------+
| CentOS Stream 8     | PASS               | SKIPPED              |
+---------------------+--------------------+----------------------+
| CentOS Stream 9     | PASS               | SKIPPED              |
+---------------------+--------------------+----------------------+
| Fedora 38           | PASS               | SKIPPED              |
+---------------------+--------------------+----------------------+
| Ubuntu 20.04        | PASS               | SKIPPED              |
+---------------------+--------------------+----------------------+
| RHEL8               | PASS               | SKIPPED              |
+---------------------+--------------------+----------------------+
| Ubuntu 22.04        | PASS               | SKIPPED              |
+---------------------+--------------------+----------------------+
| Windows Server 2022 | PASS               | PASS                 |
+---------------------+--------------------+----------------------+
| FreeBSD 13.2        | PASS               | SKIPPED              |
+---------------------+--------------------+----------------------+
| Alpine              | PASS               | SKIPPED              |
+---------------------+--------------------+----------------------+
| openSUSE Leap 15    | PASS               | SKIPPED              |
+---------------------+--------------------+----------------------+
| Windows Server 2019 | PASS               | PASS                 |
+---------------------+--------------------+----------------------+


Debian 12 (arm)
	Kernel: Container Host Kernel
	Compiler: gcc 11

Debian Bullseye
	Kernel: 5.4.0-122-generic
	Compiler: gcc 10.2.1-6

Fedora 37
	Kernel: Depends on container host system
	Compiler: gcc 12.3.1

CentOS Stream 8
	Kernel: 4.18.0-240.10.1.el8_3.x86_64
	Compiler: gcc 8.4.1 20200928

CentOS Stream 9
	Kernel: 4.18.0-240.10.1.el8_3.x86_64
	Compiler: gcc 11.3.1 20220421

Fedora 38
	Kernel: Depends on container host
	Compiler: gcc 13.1.1

Ubuntu 20.04
	Kernel: 5.4.0-153-generic
	Compiler: gcc 9.4.0-1ubuntu1~20.04.1

RHEL8
	Kernel: 4.18.0-240.10.1.el8_3.x86_64
	Compiler: gcc 8.3.1 20191121 (Red Hat 8.3.1-5)

Ubuntu 22.04
	Kernel: 4.18.0-240.10.1.el8_3.x86_64
	Compiler: gcc 11.3.0

Windows Server 2022
	Kernel: OS Build 20348.2031
	Compiler: clang 15.0.7, gcc 8.1.0 (MinGW), and MSVC VS 17.9

FreeBSD 13.2
	Kernel: 13.2
	Compiler: clang 11.3.0

Alpine
	Kernel: 5.4.0-167-generic
	Compiler: gcc (Alpine 12.2.1_git20220924-r10) 12.2.1 20220924

openSUSE Leap 15
	Kernel: 4.18.0-240.10.1.el8_3.x86_64
	Compiler: gcc 7.5.0

Windows Server 2019
	Kernel: 10.0
	Compiler: clang 14.0 and gcc 8.1.0 (MinGW)

To view detailed results, visit:
https://lab.dpdk.org/results/dashboard/patchsets/29570/

UNH-IOL DPDK Community Lab

To manage your email subscriptions, visit: 
https://lab.dpdk.org/results/dashboard/preferences/subscriptions/