From mboxrd@z Thu Jan  1 00:00:00 1970
Return-Path: <test-report-bounces@dpdk.org>
Received: from mails.dpdk.org (mails.dpdk.org [217.70.189.124])
	by inbox.dpdk.org (Postfix) with ESMTP id 8D2CA43CB8
	for <public@inbox.dpdk.org>; Fri, 15 Mar 2024 10:56:35 +0100 (CET)
Received: from mails.dpdk.org (localhost [127.0.0.1])
	by mails.dpdk.org (Postfix) with ESMTP id 88DF642ECF;
	Fri, 15 Mar 2024 10:56:35 +0100 (CET)
Received: from mail-qt1-f226.google.com (mail-qt1-f226.google.com
 [209.85.160.226])
 by mails.dpdk.org (Postfix) with ESMTP id A9F994025C
 for <test-report@dpdk.org>; Fri, 15 Mar 2024 10:56:34 +0100 (CET)
Received: by mail-qt1-f226.google.com with SMTP id
 d75a77b69052e-429f53f0b0bso11679531cf.2
 for <test-report@dpdk.org>; Fri, 15 Mar 2024 02:56:34 -0700 (PDT)
DKIM-Signature: v=1; a=rsa-sha256; c=relaxed/relaxed;
 d=iol.unh.edu; s=unh-iol; t=1710496594; x=1711101394; darn=dpdk.org;
 h=references:in-reply-to:cc:to:from:subject:message-id:date:from:to
 :cc:subject:date:message-id:reply-to;
 bh=8XN7sbmKFjnOjy8bjGDAIa2qQjZIsN/jmE95WumUTWA=;
 b=AhUArRmgLbXu4AHzpTY0ybPyZ/x0zhy41Jt04F8vIEetvtP7DEsUUdVxcQycMwbF6O
 xDqM/+96KMbc5FbJs+VGLDyYKVRgGnwyMShmHy5vBRiv19/oWKSBM3P6u+uKfyt9H2Qr
 YfO5u1pnsj4/NXrwtrjOJvPwH2i0K8SShTyvE=
X-Google-DKIM-Signature: v=1; a=rsa-sha256; c=relaxed/relaxed;
 d=1e100.net; s=20230601; t=1710496594; x=1711101394;
 h=references:in-reply-to:cc:to:from:subject:message-id:date
 :x-gm-message-state:from:to:cc:subject:date:message-id:reply-to;
 bh=8XN7sbmKFjnOjy8bjGDAIa2qQjZIsN/jmE95WumUTWA=;
 b=by1LcVjmFE9zpcoASPjK79EMt+ZFnIqr1d8k+xfT5FgBN8eIugYj2hmEaNQxJqnMDb
 vE2PDGGFuX3QM8yoEOrxD0nVdeFxLTEHGDiZWQo0vwjhpeDHUn8D/gWIFXdZ69N6tjwK
 tWKdPmcAjZKq6HiwWIXmlFyPTdiaHa+h2KhteFOoF3zaK7ngHzNFGPU9TcPfdaCuxurr
 8lDjUxSElJglqst96RjXBSOn0tYuj1aoV5Uj6GOVkrVf7acpviX1bojjfJRF2GEe5rqh
 TxUiqrIZyzMJ/D9gkUwE9WgM5ha1BN4rPzsbkvx90P0ooTCoHFs447eQnSzobouvxYt6
 4tcw==
X-Gm-Message-State: AOJu0YxClu1VqzsULhoGw7/499EirjcxE1fIIp0QbmdgDUkA72fF0U7B
 mFISYopoF8Jf/X60I6CUzzI8A4iMJPvajI3wunXbB8TxTYcwz1xDkUOxduvJzmnP9OGmxiz0ZdS
 Gx441poI+QvEuh38KXozf/Kx9zzk2aJa8pcYVX+eLBxYsrJRw7UpWt6bX
X-Google-Smtp-Source: AGHT+IGFKuN/Lyk5uDckil42LTgkHUS6fy3q6gnWLl3rcmDiAts8MvomJ0dpWiZ7m2UEEakKx3cOrqaMBlbT
X-Received: by 2002:a05:622a:5297:b0:42f:2049:467f with SMTP id
 dr23-20020a05622a529700b0042f2049467fmr5144494qtb.38.1710496594120; 
 Fri, 15 Mar 2024 02:56:34 -0700 (PDT)
Received: from postal.iol.unh.edu (postal.iol.unh.edu.
 [2606:4100:3880:1234::84]) by smtp-relay.gmail.com with ESMTPS id
 r3-20020a05622a034300b0042ee4e6c03bsm122273qtw.11.2024.03.15.02.56.34
 (version=TLS1_2 cipher=ECDHE-ECDSA-AES128-GCM-SHA256 bits=128/128);
 Fri, 15 Mar 2024 02:56:34 -0700 (PDT)
X-Relaying-Domain: iol.unh.edu
Date: Fri, 15 Mar 2024 02:56:34 -0700 (PDT)
Message-ID: <65f41b52.050a0220.3d0a8.7dd6SMTPIN_ADDED_MISSING@mx.google.com>
Received: from [172.17.0.7] (unknown [172.18.0.217])
 by postal.iol.unh.edu (Postfix) with ESMTP id 874026052471;
 Fri, 15 Mar 2024 05:56:32 -0400 (EDT)
Subject: |SUCCESS| pw138423-138430 [PATCH] [v4,8/8] crypto/cnxk: update the c
From: dpdklab@iol.unh.edu
To: Test Report <test-report@dpdk.org>
Cc: dpdk-test-reports@iol.unh.edu
In-Reply-To: <20240315064511.639-9-vvelumuri@marvell.com>
References: <20240315064511.639-9-vvelumuri@marvell.com>
Content-Type: text/plain
X-BeenThere: test-report@dpdk.org
X-Mailman-Version: 2.1.29
Precedence: list
List-Id: automatic DPDK test reports <test-report.dpdk.org>
List-Unsubscribe: <https://mails.dpdk.org/options/test-report>,
 <mailto:test-report-request@dpdk.org?subject=unsubscribe>
List-Archive: <http://mails.dpdk.org/archives/test-report/>
List-Post: <mailto:test-report@dpdk.org>
List-Help: <mailto:test-report-request@dpdk.org?subject=help>
List-Subscribe: <https://mails.dpdk.org/listinfo/test-report>,
 <mailto:test-report-request@dpdk.org?subject=subscribe>
Errors-To: test-report-bounces@dpdk.org

Test-Label: iol-compile-arm64-testing
Test-Status: SUCCESS
http://dpdk.org/patch/138430

_Testing PASS_

Submitter: Vidya Sagar Velumuri <vvelumuri@marvell.com>
Date: Friday, March 15 2024 06:45:11 
DPDK git baseline: Repo:dpdk
  Branch: master
  CommitID:cd218549b686d6be394ef3b171eafa16c038bfe3

138423-138430 --> testing pass

Test environment and result as below:

+----------------------------------------+--------------------+
|              Environment               | dpdk_meson_compile |
+========================================+====================+
| Ubuntu 20.04 ARM SVE                   | PASS               |
+----------------------------------------+--------------------+
| Debian 12 with MUSDK                   | PASS               |
+----------------------------------------+--------------------+
| Ubuntu 20.04 ARM GCC Cross Compile     | PASS               |
+----------------------------------------+--------------------+
| Fedora 37 (ARM)                        | PASS               |
+----------------------------------------+--------------------+
| Ubuntu 20.04 aarch32 GCC Cross Compile | PASS               |
+----------------------------------------+--------------------+
| Ubuntu 20.04 ARM Clang Cross Compile   | PASS               |
+----------------------------------------+--------------------+
| Fedora 38 (ARM)                        | PASS               |
+----------------------------------------+--------------------+
| Debian 12 (arm)                        | PASS               |
+----------------------------------------+--------------------+
| CentOS Stream 9 (ARM)                  | PASS               |
+----------------------------------------+--------------------+
| Debian 11 (Buster) (ARM)               | PASS               |
+----------------------------------------+--------------------+
| Ubuntu 20.04 (ARM)                     | PASS               |
+----------------------------------------+--------------------+


Ubuntu 20.04 ARM SVE
	Kernel: 5.4.0-80-generic
	Compiler: gcc 10.3.0 (Ubuntu 10.3.0-1ubuntu1~20.04)

Debian 12 with MUSDK
	Kernel: Container Host Kernel
	Compiler: gcc 12

Ubuntu 20.04 ARM GCC Cross Compile
	Kernel: 5.4.0-72-generic
	Compiler: aarch64-linux-gnu-gcc (Ubuntu 9.3.0-17ubuntu1~20.04) 9.3.0

Fedora 37 (ARM)
	Kernel: Depends on container host
	Compiler: gcc 12.3.1

Ubuntu 20.04 aarch32 GCC Cross Compile
	Kernel: 5.4.0-72-generic
	Compiler: gcc 9.3.0

Ubuntu 20.04 ARM Clang Cross Compile
	Kernel: 5.4.0-72-generic
	Compiler: clang version 10.0.0-4ubuntu1

Fedora 38 (ARM)
	Kernel: Depends on container host
	Compiler: gcc 13.1.1

Debian 12 (arm)
	Kernel: Container Host Kernel
	Compiler: gcc 11

CentOS Stream 9 (ARM)
	Kernel: Container Host Kernel
	Compiler: gcc 11.3.1

Debian 11 (Buster) (ARM)
	Kernel: Container Host Kernel
	Compiler: gcc 10.2.1

Ubuntu 20.04 (ARM)
	Kernel: Container Host Kernel
	Compiler: gcc 9.4.0

To view detailed results, visit:
https://lab.dpdk.org/results/dashboard/patchsets/29570/

UNH-IOL DPDK Community Lab

To manage your email subscriptions, visit: 
https://lab.dpdk.org/results/dashboard/preferences/subscriptions/