From mboxrd@z Thu Jan  1 00:00:00 1970
Return-Path: <test-report-bounces@dpdk.org>
Received: from mails.dpdk.org (mails.dpdk.org [217.70.189.124])
	by inbox.dpdk.org (Postfix) with ESMTP id 15C8943CB8
	for <public@inbox.dpdk.org>; Fri, 15 Mar 2024 12:57:06 +0100 (CET)
Received: from mails.dpdk.org (localhost [127.0.0.1])
	by mails.dpdk.org (Postfix) with ESMTP id 10C5142EE1;
	Fri, 15 Mar 2024 12:57:06 +0100 (CET)
Received: from mail-il1-f225.google.com (mail-il1-f225.google.com
 [209.85.166.225])
 by mails.dpdk.org (Postfix) with ESMTP id 1B52F42ED3
 for <test-report@dpdk.org>; Fri, 15 Mar 2024 12:57:05 +0100 (CET)
Received: by mail-il1-f225.google.com with SMTP id
 e9e14a558f8ab-36660d8547eso10240085ab.1
 for <test-report@dpdk.org>; Fri, 15 Mar 2024 04:57:05 -0700 (PDT)
DKIM-Signature: v=1; a=rsa-sha256; c=relaxed/relaxed;
 d=iol.unh.edu; s=unh-iol; t=1710503824; x=1711108624; darn=dpdk.org;
 h=references:in-reply-to:cc:to:from:subject:message-id:date:from:to
 :cc:subject:date:message-id:reply-to;
 bh=lPi+8KNx1x8yzJ0lHOx3K7GpoFqu9uAHCjCVSJH3Xrc=;
 b=ZNKweY2dkRgi44wlx6b1+8tBI7S/clawBbzG9wTXZszBkKO1m0nVVvdBZ4aBXfRuYx
 evqLeJmi3oAeC0SWliCEqCs6i3u/snMU6F4LLSnI1QXIMz1kl0KJIoz4r6uP5UbOf8t4
 Lm+qC+zA3JOwRGGz/adk/7bqhYAhAb14bJDIM=
X-Google-DKIM-Signature: v=1; a=rsa-sha256; c=relaxed/relaxed;
 d=1e100.net; s=20230601; t=1710503824; x=1711108624;
 h=references:in-reply-to:cc:to:from:subject:message-id:date
 :x-gm-message-state:from:to:cc:subject:date:message-id:reply-to;
 bh=lPi+8KNx1x8yzJ0lHOx3K7GpoFqu9uAHCjCVSJH3Xrc=;
 b=DeZ+uEoE2DLOihKRbi+FCUuk0QVaJCGIx2VZyhme3SrD7a2z1gR4dVZ5CVIa0bEGP1
 zZo2d9KU0Ry+4V+qy7a9CRMynrd2ExwJF54lF2Qxz5RSPAAj6OGZO9jijVOppC4VMDHc
 ohcAO7NAJwgjRws7UDnUCAGPCZcofaR7f1PSQZvETFMyVSOuDP0GF9dR6uVdC2Sh2bUh
 9zcFd5vvT6XckgN7eTYjCskVMarm+FuCeH4ZG9K6gNIGduY49DFgVituVuofRawhx7Gx
 fz64tRQ41NF9O1LAfTpmdNrX8CuRm5XpjMt/zAEaz8a9vqXJxXjt7s1CYY+zoVQ7YhHq
 FIqA==
X-Gm-Message-State: AOJu0YwXzleY7LIh+oYdP1Cx1x5ctrRe3FbFCVDtxrshbExFjDiWvtds
 cxLIgGBIHF8C7vwx3BAH4H34BeeWgFVVjljLKRzeFT+ZWgKpu+pGcVZvlvlsqYK6QavXG9BS/j/
 Xp5YnoEHc1CkWY5Jqcmomd3BhOmtGxXELJtVeeJq+bYc/Bnm7FzU5BV4y
X-Google-Smtp-Source: AGHT+IEza/MtjmI6k1/9EK0/9y9LcmyZtNJYRFd6pFQh+ccA/XD0vSNgIMDEyZxDXiFY+T0oWiRIjRtK+nFi
X-Received: by 2002:a6b:f80d:0:b0:7c8:b3c3:758 with SMTP id
 o13-20020a6bf80d000000b007c8b3c30758mr3456851ioh.19.1710503824522; 
 Fri, 15 Mar 2024 04:57:04 -0700 (PDT)
Received: from postal.iol.unh.edu (postal.iol.unh.edu.
 [2606:4100:3880:1234::84]) by smtp-relay.gmail.com with ESMTPS id
 s17-20020a056602169100b007cc0191dbaesm1326iow.5.2024.03.15.04.57.04
 (version=TLS1_2 cipher=ECDHE-ECDSA-AES128-GCM-SHA256 bits=128/128);
 Fri, 15 Mar 2024 04:57:04 -0700 (PDT)
X-Relaying-Domain: iol.unh.edu
Date: Fri, 15 Mar 2024 04:57:04 -0700 (PDT)
Message-ID: <65f43790.050a0220.9ea89.02b2SMTPIN_ADDED_MISSING@mx.google.com>
Received: from [172.21.0.8] (unknown [172.18.0.240])
 by postal.iol.unh.edu (Postfix) with ESMTP id 11CE66052471;
 Fri, 15 Mar 2024 07:57:04 -0400 (EDT)
Subject: |SUCCESS| pw138431-138432 [PATCH] [2/2] net/ice: Tx path check mbuf 
From: dpdklab@iol.unh.edu
To: Test Report <test-report@dpdk.org>
Cc: dpdk-test-reports@iol.unh.edu
In-Reply-To: <20240315102409.1079521-3-mingjinx.ye@intel.com>
References: <20240315102409.1079521-3-mingjinx.ye@intel.com>
Content-Type: text/plain
X-BeenThere: test-report@dpdk.org
X-Mailman-Version: 2.1.29
Precedence: list
List-Id: automatic DPDK test reports <test-report.dpdk.org>
List-Unsubscribe: <https://mails.dpdk.org/options/test-report>,
 <mailto:test-report-request@dpdk.org?subject=unsubscribe>
List-Archive: <http://mails.dpdk.org/archives/test-report/>
List-Post: <mailto:test-report@dpdk.org>
List-Help: <mailto:test-report-request@dpdk.org?subject=help>
List-Subscribe: <https://mails.dpdk.org/listinfo/test-report>,
 <mailto:test-report-request@dpdk.org?subject=subscribe>
Errors-To: test-report-bounces@dpdk.org

Test-Label: iol-compile-amd64-testing
Test-Status: SUCCESS
http://dpdk.org/patch/138432

_Testing PASS_

Submitter: Mingjin Ye <mingjinx.ye@intel.com>
Date: Friday, March 15 2024 10:24:09 
DPDK git baseline: Repo:dpdk
  Branch: master
  CommitID:19082c1fac430c74bb4b1c101edd12d88928e7c2

138431-138432 --> testing pass

Test environment and result as below:

+-----------------+--------------------+
|   Environment   | dpdk_meson_compile |
+=================+====================+
| FreeBSD 13.2    | PASS               |
+-----------------+--------------------+
| RHEL8           | PASS               |
+-----------------+--------------------+
| Fedora 38       | PASS               |
+-----------------+--------------------+
| Debian Bullseye | PASS               |
+-----------------+--------------------+
| CentOS Stream 9 | PASS               |
+-----------------+--------------------+
| CentOS Stream 8 | PASS               |
+-----------------+--------------------+


FreeBSD 13.2
	Kernel: 13.2
	Compiler: clang 11.3.0

RHEL8
	Kernel: 4.18.0-240.10.1.el8_3.x86_64
	Compiler: gcc 8.3.1 20191121 (Red Hat 8.3.1-5)

Fedora 38
	Kernel: Depends on container host
	Compiler: gcc 13.1.1

Debian Bullseye
	Kernel: 5.4.0-122-generic
	Compiler: gcc 10.2.1-6

CentOS Stream 9
	Kernel: 4.18.0-240.10.1.el8_3.x86_64
	Compiler: gcc 11.3.1 20220421

CentOS Stream 8
	Kernel: 4.18.0-240.10.1.el8_3.x86_64
	Compiler: gcc 8.4.1 20200928

To view detailed results, visit:
https://lab.dpdk.org/results/dashboard/patchsets/29571/

UNH-IOL DPDK Community Lab

To manage your email subscriptions, visit: 
https://lab.dpdk.org/results/dashboard/preferences/subscriptions/