From mboxrd@z Thu Jan  1 00:00:00 1970
Return-Path: <test-report-bounces@dpdk.org>
Received: from mails.dpdk.org (mails.dpdk.org [217.70.189.124])
	by inbox.dpdk.org (Postfix) with ESMTP id DF0B943CB8
	for <public@inbox.dpdk.org>; Fri, 15 Mar 2024 13:00:14 +0100 (CET)
Received: from mails.dpdk.org (localhost [127.0.0.1])
	by mails.dpdk.org (Postfix) with ESMTP id DA1EB42EE1;
	Fri, 15 Mar 2024 13:00:14 +0100 (CET)
Received: from mail-io1-f100.google.com (mail-io1-f100.google.com
 [209.85.166.100])
 by mails.dpdk.org (Postfix) with ESMTP id 399C842ED3
 for <test-report@dpdk.org>; Fri, 15 Mar 2024 13:00:14 +0100 (CET)
Received: by mail-io1-f100.google.com with SMTP id
 ca18e2360f4ac-7c810b04bc0so61429539f.2
 for <test-report@dpdk.org>; Fri, 15 Mar 2024 05:00:14 -0700 (PDT)
DKIM-Signature: v=1; a=rsa-sha256; c=relaxed/relaxed;
 d=iol.unh.edu; s=unh-iol; t=1710504013; x=1711108813; darn=dpdk.org;
 h=references:in-reply-to:cc:to:from:subject:message-id:date:from:to
 :cc:subject:date:message-id:reply-to;
 bh=qeCY5KgfJrQSjZOZm6qxJU3xIuCR1TD9IaE9ZV8FP4A=;
 b=XgfcEnWZz5gcBfuyf2oxNzGu3CN9OyGDWvMO2jGY/xq55FvA10sJEHaZU+uqx6lnFg
 5aRKIzXaPcqLxh0HzY36R4gUbWo+JhFldRW9femhALdukH94ZRb82sPEiC4wiRMY4XjS
 FmLuS54m4jch0wAVllDmiSwICJlb77P+9wGes=
X-Google-DKIM-Signature: v=1; a=rsa-sha256; c=relaxed/relaxed;
 d=1e100.net; s=20230601; t=1710504013; x=1711108813;
 h=references:in-reply-to:cc:to:from:subject:message-id:date
 :x-gm-message-state:from:to:cc:subject:date:message-id:reply-to;
 bh=qeCY5KgfJrQSjZOZm6qxJU3xIuCR1TD9IaE9ZV8FP4A=;
 b=cbYRVw/tH1UX7LU1YZgpK1Dkkns0J8nLJR/ELVAPlmMWVcipMN7o2y1fcJvq+BLyeP
 pk6uezjSfS088p31J6z7CXk7yeyYPMTU9z31/mBlx/IKCUsW8RoAUIKA9LwthHbK0/Mx
 oL6rLCo9O265drrlmeO6v/Ox2d7bLamkR6PI18A5FWGtsCRGaK5QbKodIWPaod+snuB1
 rJs4TU6gHVdsEDLFVwW7fZvLx05xOsggbI4dqx8MnIA2T3i7qf/Lndc0XJHNIC2+RVTq
 Buo2DuRpehF3AMBlgHaVGlVGJ1Z23ZHAHtS9+tOvF4IQgnpEV1zaRZ+kwpm+3/v/ODDE
 V0Pw==
X-Gm-Message-State: AOJu0YwrW2JSFex3iavPN4pUtQnXfPPZs0w9nSlpbzU7RDZOqRwFh02/
 0RRgjGXYPLvIANCo6HB60OjkKklF/SJAjAP0D0fJzKs49u4207zpae97u00G+QBEhjPfwTR4imz
 kzkQE51M6Z1UwVKLwuZ6uYerWDrl6AU0Eblt79vw396ZNtXiv/1OZ8RIc
X-Google-Smtp-Source: AGHT+IGInfYZkKiV0wMf9KJwCvebBboCejOUG7bpMuYLJojNiu09D92aQZ8ppSnQ8WccnEFJ8vXVLFOf3+Tx
X-Received: by 2002:a6b:fa0f:0:b0:7c8:ab5a:8eb5 with SMTP id
 p15-20020a6bfa0f000000b007c8ab5a8eb5mr3178452ioh.6.1710504013689; 
 Fri, 15 Mar 2024 05:00:13 -0700 (PDT)
Received: from postal.iol.unh.edu (postal.iol.unh.edu.
 [2606:4100:3880:1234::84]) by smtp-relay.gmail.com with ESMTPS id
 n7-20020a056638264700b00476d123a4c7sm103569jat.4.2024.03.15.05.00.13
 (version=TLS1_2 cipher=ECDHE-ECDSA-AES128-GCM-SHA256 bits=128/128);
 Fri, 15 Mar 2024 05:00:13 -0700 (PDT)
X-Relaying-Domain: iol.unh.edu
Date: Fri, 15 Mar 2024 05:00:13 -0700 (PDT)
Message-ID: <65f4384d.050a0220.9a70c.77c9SMTPIN_ADDED_MISSING@mx.google.com>
Received: from [172.21.0.6] (unknown [172.18.0.240])
 by postal.iol.unh.edu (Postfix) with ESMTP id 38DBC6052471;
 Fri, 15 Mar 2024 08:00:13 -0400 (EDT)
Subject: |SUCCESS| pw138431-138432 [PATCH] [2/2] net/ice: Tx path check mbuf 
From: dpdklab@iol.unh.edu
To: Test Report <test-report@dpdk.org>
Cc: dpdk-test-reports@iol.unh.edu
In-Reply-To: <20240315102409.1079521-3-mingjinx.ye@intel.com>
References: <20240315102409.1079521-3-mingjinx.ye@intel.com>
Content-Type: text/plain
X-BeenThere: test-report@dpdk.org
X-Mailman-Version: 2.1.29
Precedence: list
List-Id: automatic DPDK test reports <test-report.dpdk.org>
List-Unsubscribe: <https://mails.dpdk.org/options/test-report>,
 <mailto:test-report-request@dpdk.org?subject=unsubscribe>
List-Archive: <http://mails.dpdk.org/archives/test-report/>
List-Post: <mailto:test-report@dpdk.org>
List-Help: <mailto:test-report-request@dpdk.org?subject=help>
List-Subscribe: <https://mails.dpdk.org/listinfo/test-report>,
 <mailto:test-report-request@dpdk.org?subject=subscribe>
Errors-To: test-report-bounces@dpdk.org

Test-Label: iol-abi-testing
Test-Status: SUCCESS
http://dpdk.org/patch/138432

_Testing PASS_

Submitter: Mingjin Ye <mingjinx.ye@intel.com>
Date: Friday, March 15 2024 10:24:09 
DPDK git baseline: Repo:dpdk
  Branch: master
  CommitID:19082c1fac430c74bb4b1c101edd12d88928e7c2

138431-138432 --> testing pass

Test environment and result as below:

+------------------+----------+
|   Environment    | abi_test |
+==================+==========+
| CentOS Stream 8  | PASS     |
+------------------+----------+
| Fedora 37        | PASS     |
+------------------+----------+
| openSUSE Leap 15 | PASS     |
+------------------+----------+
| Fedora 38        | PASS     |
+------------------+----------+


CentOS Stream 8
	Kernel: 4.18.0-240.10.1.el8_3.x86_64
	Compiler: gcc 8.4.1 20200928

Fedora 37
	Kernel: Depends on container host system
	Compiler: gcc 12.3.1

openSUSE Leap 15
	Kernel: 4.18.0-240.10.1.el8_3.x86_64
	Compiler: gcc 7.5.0

Fedora 38
	Kernel: Depends on container host
	Compiler: clang 16.0.3

To view detailed results, visit:
https://lab.dpdk.org/results/dashboard/patchsets/29571/

UNH-IOL DPDK Community Lab

To manage your email subscriptions, visit: 
https://lab.dpdk.org/results/dashboard/preferences/subscriptions/