From mboxrd@z Thu Jan  1 00:00:00 1970
Return-Path: <test-report-bounces@dpdk.org>
Received: from mails.dpdk.org (mails.dpdk.org [217.70.189.124])
	by inbox.dpdk.org (Postfix) with ESMTP id 6670143CB8
	for <public@inbox.dpdk.org>; Fri, 15 Mar 2024 13:01:40 +0100 (CET)
Received: from mails.dpdk.org (localhost [127.0.0.1])
	by mails.dpdk.org (Postfix) with ESMTP id 6209442ED3;
	Fri, 15 Mar 2024 13:01:40 +0100 (CET)
Received: from mail-yw1-f227.google.com (mail-yw1-f227.google.com
 [209.85.128.227])
 by mails.dpdk.org (Postfix) with ESMTP id 975F742ED0
 for <test-report@dpdk.org>; Fri, 15 Mar 2024 13:01:39 +0100 (CET)
Received: by mail-yw1-f227.google.com with SMTP id
 00721157ae682-609f1f97864so21435667b3.0
 for <test-report@dpdk.org>; Fri, 15 Mar 2024 05:01:39 -0700 (PDT)
DKIM-Signature: v=1; a=rsa-sha256; c=relaxed/relaxed;
 d=iol.unh.edu; s=unh-iol; t=1710504099; x=1711108899; darn=dpdk.org;
 h=references:in-reply-to:cc:to:from:subject:message-id:date:from:to
 :cc:subject:date:message-id:reply-to;
 bh=qeCY5KgfJrQSjZOZm6qxJU3xIuCR1TD9IaE9ZV8FP4A=;
 b=P8TV9Me5ntl9olkfwsXiWGFAuY9qke6nN2GGc6CZG/IAW3BnDUk2QvZxgAzpGOeMye
 1Ts6sI1D1yaeQZCkiME32bn5b48rDLFtXKvTOBaKe1nWvHYrYyXgdKj6SsDoosyGhP+Y
 hSzPRkHaNP8bwQNan7lEDbT5uur8DPHwI6/OA=
X-Google-DKIM-Signature: v=1; a=rsa-sha256; c=relaxed/relaxed;
 d=1e100.net; s=20230601; t=1710504099; x=1711108899;
 h=references:in-reply-to:cc:to:from:subject:message-id:date
 :x-gm-message-state:from:to:cc:subject:date:message-id:reply-to;
 bh=qeCY5KgfJrQSjZOZm6qxJU3xIuCR1TD9IaE9ZV8FP4A=;
 b=GZQioHWMbVCFcDx/xIoCI+ZFabwIU4MBThPvjNWmXNJGREom2mqvz0aXw2SRlHjVQE
 1aA3ODiZTRQPs9RovDcaFhbNMQGwK/H+Y3CUdQSs1zRKGpRv1rgQ381K5bUELDWfHM4F
 rYAjgmB94imvy308r7smEsDrZ1G5OFw3ysB2+FYpWotlQBOEH72Kru8WqgGbdE1FHhBu
 MS7g4KkP36EqESPE/uLsH7ons+dJWE8NNnf2P0HqNRacO8QpgHj2oyIoSRP9hLbXSM0Q
 HuO5OVd+x2dqsZ5Bgr++wPY2mRpLsa/4L6iRhZRMcVa9E1KDIthernvoMT/Hh9tSRbmd
 /ioA==
X-Gm-Message-State: AOJu0YzN7Z2bg91EJ3gS3CBTKWK6FdaEZEBTrTr4uKvXv320WwB+8w2S
 zwmd2cl30EtFvkUR/jBAoAuqxbe32+Qntz3XtusVO/vzOvMOg1FO/kn1UnqiQ7YdT70OeX48DyB
 hqnHIn4IkFjk3E6VuwsxN88jO50caLdHoab2078Qb
X-Google-Smtp-Source: AGHT+IH1/g8kScTEfAZdZetf1dkr7lOb5NJU5Z/0maNfZASSgQ0BhgDXQ1JyJ4ISGty7TFFtzO9t0x20JTdl
X-Received: by 2002:a0d:eb86:0:b0:60a:559e:8c93 with SMTP id
 u128-20020a0deb86000000b0060a559e8c93mr4859158ywe.33.1710504099042; 
 Fri, 15 Mar 2024 05:01:39 -0700 (PDT)
Received: from postal.iol.unh.edu (postal.iol.unh.edu. [132.177.123.84])
 by smtp-relay.gmail.com with ESMTPS id
 p75-20020a0de64e000000b00609f3c28ab1sm215726ywe.42.2024.03.15.05.01.38
 (version=TLS1_2 cipher=ECDHE-ECDSA-AES128-GCM-SHA256 bits=128/128);
 Fri, 15 Mar 2024 05:01:39 -0700 (PDT)
X-Relaying-Domain: iol.unh.edu
Date: Fri, 15 Mar 2024 05:01:39 -0700 (PDT)
Message-ID: <65f438a3.0d0a0220.3132e.fb0bSMTPIN_ADDED_MISSING@mx.google.com>
Received: from [172.21.0.6] (unknown [172.18.0.240])
 by postal.iol.unh.edu (Postfix) with ESMTP id AD7386052471;
 Fri, 15 Mar 2024 08:01:38 -0400 (EDT)
Subject: |SUCCESS| pw138431-138432 [PATCH] [2/2] net/ice: Tx path check mbuf 
From: dpdklab@iol.unh.edu
To: Test Report <test-report@dpdk.org>
Cc: dpdk-test-reports@iol.unh.edu
In-Reply-To: <20240315102409.1079521-3-mingjinx.ye@intel.com>
References: <20240315102409.1079521-3-mingjinx.ye@intel.com>
Content-Type: text/plain
X-BeenThere: test-report@dpdk.org
X-Mailman-Version: 2.1.29
Precedence: list
List-Id: automatic DPDK test reports <test-report.dpdk.org>
List-Unsubscribe: <https://mails.dpdk.org/options/test-report>,
 <mailto:test-report-request@dpdk.org?subject=unsubscribe>
List-Archive: <http://mails.dpdk.org/archives/test-report/>
List-Post: <mailto:test-report@dpdk.org>
List-Help: <mailto:test-report-request@dpdk.org?subject=help>
List-Subscribe: <https://mails.dpdk.org/listinfo/test-report>,
 <mailto:test-report-request@dpdk.org?subject=subscribe>
Errors-To: test-report-bounces@dpdk.org

Test-Label: iol-abi-testing
Test-Status: SUCCESS
http://dpdk.org/patch/138432

_Testing PASS_

Submitter: Mingjin Ye <mingjinx.ye@intel.com>
Date: Friday, March 15 2024 10:24:09 
DPDK git baseline: Repo:dpdk
  Branch: master
  CommitID:19082c1fac430c74bb4b1c101edd12d88928e7c2

138431-138432 --> testing pass

Test environment and result as below:

+------------------+----------+
|   Environment    | abi_test |
+==================+==========+
| CentOS Stream 8  | PASS     |
+------------------+----------+
| Fedora 37        | PASS     |
+------------------+----------+
| openSUSE Leap 15 | PASS     |
+------------------+----------+
| Fedora 38        | PASS     |
+------------------+----------+


CentOS Stream 8
	Kernel: 4.18.0-240.10.1.el8_3.x86_64
	Compiler: gcc 8.4.1 20200928

Fedora 37
	Kernel: Depends on container host system
	Compiler: gcc 12.3.1

openSUSE Leap 15
	Kernel: 4.18.0-240.10.1.el8_3.x86_64
	Compiler: gcc 7.5.0

Fedora 38
	Kernel: Depends on container host
	Compiler: clang 16.0.3

To view detailed results, visit:
https://lab.dpdk.org/results/dashboard/patchsets/29571/

UNH-IOL DPDK Community Lab

To manage your email subscriptions, visit: 
https://lab.dpdk.org/results/dashboard/preferences/subscriptions/