From mboxrd@z Thu Jan  1 00:00:00 1970
Return-Path: <test-report-bounces@dpdk.org>
Received: from mails.dpdk.org (mails.dpdk.org [217.70.189.124])
	by inbox.dpdk.org (Postfix) with ESMTP id 3BA8143CB8
	for <public@inbox.dpdk.org>; Fri, 15 Mar 2024 13:08:01 +0100 (CET)
Received: from mails.dpdk.org (localhost [127.0.0.1])
	by mails.dpdk.org (Postfix) with ESMTP id 346E942ED0;
	Fri, 15 Mar 2024 13:08:01 +0100 (CET)
Received: from mail-pf1-f228.google.com (mail-pf1-f228.google.com
 [209.85.210.228])
 by mails.dpdk.org (Postfix) with ESMTP id 5ADB942ED0
 for <test-report@dpdk.org>; Fri, 15 Mar 2024 13:08:00 +0100 (CET)
Received: by mail-pf1-f228.google.com with SMTP id
 d2e1a72fcca58-6e6ca8c8be2so1749659b3a.1
 for <test-report@dpdk.org>; Fri, 15 Mar 2024 05:08:00 -0700 (PDT)
DKIM-Signature: v=1; a=rsa-sha256; c=relaxed/relaxed;
 d=iol.unh.edu; s=unh-iol; t=1710504479; x=1711109279; darn=dpdk.org;
 h=references:in-reply-to:cc:to:from:subject:message-id:date:from:to
 :cc:subject:date:message-id:reply-to;
 bh=80OVXPXG19mgv6FGnnlVNFG7g7sQId3L+IEAqyCHw9s=;
 b=EQ5IrapbD7pBQ7esxNZb7T20LhRxAvXITrWFbAgjh8yLV0Cuio2VU/eE9uv/rFvLu9
 HfZI/pHZndyMPOvVCSNWxMZlBq+h+u+VD6WnvBp/UTgUCJNqc0I/BSCKybRkClRUg9pF
 1qZJaagbWnbr/8wAjVSfPTUVNVJkmhf9D0ePo=
X-Google-DKIM-Signature: v=1; a=rsa-sha256; c=relaxed/relaxed;
 d=1e100.net; s=20230601; t=1710504479; x=1711109279;
 h=references:in-reply-to:cc:to:from:subject:message-id:date
 :x-gm-message-state:from:to:cc:subject:date:message-id:reply-to;
 bh=80OVXPXG19mgv6FGnnlVNFG7g7sQId3L+IEAqyCHw9s=;
 b=FluDXtYQaT/UVot7PjQ12Y7TN7mcj8wuQBCd04RS4QAeQF+/E57k/577MhG9A9q900
 K0TKUXp/dsY/rK0tcJJ3Qvfa4fPqJ+BTQ19fjyMi+s2KIUbNOUzJ75AZBDs+cH+DD3do
 mddoUESdtvDi1cMCM+lcZjS6w71MtJvWVFCkgtDESSMQETLlo3UI07Mz6D0Z24RfPeDJ
 xFPLvddMUb0aVNv8oK/wP6Py2XWKkLllPF1cxfZrQWA9G1GpxFW/E/D1m3W5EtqLa3EY
 gdwmUroOOqZbal3c2OkHFzY8D2Kz3zFIEOqklYWZ8DVmR0JaJI5lBLym/l7MCTEUCpK/
 4dXA==
X-Gm-Message-State: AOJu0Yyb6CT84izAw+P1YeLna5vlKdDuYJUSF7h4WIVwjLD9HxYSLSmi
 zz/qeq8xw/jHVpqYrVBhCH2H1FZb9snXsn0gXokgR7SEib5WnH/IuHZnEME3y0Z/WCuOQGI2ccl
 KZcJKOx7g9GToQhOCpejDCP8VOdA4BeUh/6OkRrrt6mxVXo59PXf4rOd/
X-Google-Smtp-Source: AGHT+IG46DxugUeMoJ95/rDwKHuGRBsxBplBQehGNBCK3bkQ8Cwgil59W6OV1uEcXixipfVNwXVWLngI+yWv
X-Received: by 2002:a05:6a20:d496:b0:1a3:3df6:4498 with SMTP id
 im22-20020a056a20d49600b001a33df64498mr5368376pzb.14.1710504479494; 
 Fri, 15 Mar 2024 05:07:59 -0700 (PDT)
Received: from postal.iol.unh.edu (postal.iol.unh.edu.
 [2606:4100:3880:1234::84]) by smtp-relay.gmail.com with ESMTPS id
 t42-20020a056a0013aa00b006e6fde60559sm27841pfg.1.2024.03.15.05.07.59
 (version=TLS1_2 cipher=ECDHE-ECDSA-AES128-GCM-SHA256 bits=128/128);
 Fri, 15 Mar 2024 05:07:59 -0700 (PDT)
X-Relaying-Domain: iol.unh.edu
Date: Fri, 15 Mar 2024 05:07:59 -0700 (PDT)
Message-ID: <65f43a1f.050a0220.15b4d.250bSMTPIN_ADDED_MISSING@mx.google.com>
Received: from [172.17.0.9] (unknown [172.18.0.217])
 by postal.iol.unh.edu (Postfix) with ESMTP id AA3AC6052471;
 Fri, 15 Mar 2024 08:07:58 -0400 (EDT)
Subject: |SUCCESS| pw138431-138432 [PATCH] [2/2] net/ice: Tx path check mbuf 
From: dpdklab@iol.unh.edu
To: Test Report <test-report@dpdk.org>
Cc: dpdk-test-reports@iol.unh.edu
In-Reply-To: <20240315102409.1079521-3-mingjinx.ye@intel.com>
References: <20240315102409.1079521-3-mingjinx.ye@intel.com>
Content-Type: text/plain
X-BeenThere: test-report@dpdk.org
X-Mailman-Version: 2.1.29
Precedence: list
List-Id: automatic DPDK test reports <test-report.dpdk.org>
List-Unsubscribe: <https://mails.dpdk.org/options/test-report>,
 <mailto:test-report-request@dpdk.org?subject=unsubscribe>
List-Archive: <http://mails.dpdk.org/archives/test-report/>
List-Post: <mailto:test-report@dpdk.org>
List-Help: <mailto:test-report-request@dpdk.org?subject=help>
List-Subscribe: <https://mails.dpdk.org/listinfo/test-report>,
 <mailto:test-report-request@dpdk.org?subject=subscribe>
Errors-To: test-report-bounces@dpdk.org

Test-Label: iol-unit-arm64-testing
Test-Status: SUCCESS
http://dpdk.org/patch/138432

_Testing PASS_

Submitter: Mingjin Ye <mingjinx.ye@intel.com>
Date: Friday, March 15 2024 10:24:09 
DPDK git baseline: Repo:dpdk
  Branch: master
  CommitID:19082c1fac430c74bb4b1c101edd12d88928e7c2

138431-138432 --> testing pass

Test environment and result as below:

+--------------------------+----------------+
|       Environment        | dpdk_unit_test |
+==========================+================+
| Debian 12 (arm)          | PASS           |
+--------------------------+----------------+
| Debian 11 (Buster) (ARM) | PASS           |
+--------------------------+----------------+
| CentOS Stream 9 (ARM)    | PASS           |
+--------------------------+----------------+
| Fedora 37 (ARM)          | PASS           |
+--------------------------+----------------+
| Fedora 38 (ARM)          | PASS           |
+--------------------------+----------------+


Debian 12 (arm)
	Kernel: Container Host Kernel
	Compiler: gcc 11

Debian 11 (Buster) (ARM)
	Kernel: Container Host Kernel
	Compiler: gcc 10.2.1

CentOS Stream 9 (ARM)
	Kernel: Container Host Kernel
	Compiler: gcc 11.3.1

Fedora 37 (ARM)
	Kernel: Depends on container host
	Compiler: gcc 12.3.1

Fedora 38 (ARM)
	Kernel: Depends on container host
	Compiler: gcc 13.1.1

To view detailed results, visit:
https://lab.dpdk.org/results/dashboard/patchsets/29571/

UNH-IOL DPDK Community Lab

To manage your email subscriptions, visit: 
https://lab.dpdk.org/results/dashboard/preferences/subscriptions/