From mboxrd@z Thu Jan  1 00:00:00 1970
Return-Path: <test-report-bounces@dpdk.org>
Received: from mails.dpdk.org (mails.dpdk.org [217.70.189.124])
	by inbox.dpdk.org (Postfix) with ESMTP id 2D90043CBB
	for <public@inbox.dpdk.org>; Fri, 15 Mar 2024 16:02:19 +0100 (CET)
Received: from mails.dpdk.org (localhost [127.0.0.1])
	by mails.dpdk.org (Postfix) with ESMTP id 281A4402C9;
	Fri, 15 Mar 2024 16:02:19 +0100 (CET)
Received: from mail-il1-f226.google.com (mail-il1-f226.google.com
 [209.85.166.226])
 by mails.dpdk.org (Postfix) with ESMTP id AA17A402C3
 for <test-report@dpdk.org>; Fri, 15 Mar 2024 16:02:18 +0100 (CET)
Received: by mail-il1-f226.google.com with SMTP id
 e9e14a558f8ab-3666affcb59so9888015ab.2
 for <test-report@dpdk.org>; Fri, 15 Mar 2024 08:02:18 -0700 (PDT)
DKIM-Signature: v=1; a=rsa-sha256; c=relaxed/relaxed;
 d=iol.unh.edu; s=unh-iol; t=1710514938; x=1711119738; darn=dpdk.org;
 h=references:in-reply-to:cc:to:from:subject:message-id:date:from:to
 :cc:subject:date:message-id:reply-to;
 bh=jtC+BgRqUsv9Tx5hm5HQvL75apB2fItb+CCwwXGmc28=;
 b=hBvgNgu4WUxF8Jvyj1MhRR6mEvyWMqlWp2VlbWa1bjPtFX+Fso8umgX5keULzy1NhC
 6W3nlYIFDlBUEl+Vl8p5gV3mBIrbQPJXP7qMsGJnqnMuU0uX6nWjhEwHAZjQz4L1dTXs
 2dId7q+g3hz08Pz9b5u1obVyyH/QXiDibXkHA=
X-Google-DKIM-Signature: v=1; a=rsa-sha256; c=relaxed/relaxed;
 d=1e100.net; s=20230601; t=1710514938; x=1711119738;
 h=references:in-reply-to:cc:to:from:subject:message-id:date
 :x-gm-message-state:from:to:cc:subject:date:message-id:reply-to;
 bh=jtC+BgRqUsv9Tx5hm5HQvL75apB2fItb+CCwwXGmc28=;
 b=IydNdZYPIUiAVFyfc9HzBT99s/rAMsKDASo2ifeslHcepEq4UXcHvKJI8ytS2ggjdZ
 AsFdm11eSo+iZsvaQrwCI4OUmrR02H2ZVKhYRiZcHp3BTT+9HRVc8pSKo8DQfHCBOkbv
 IAnvQX2B6RZbitwQw3BnMk9dBwUCzVB40myTYnZxRN5TCKs2w6K2vhytEACdqCMmYn6S
 SJ7Umi/4j6o4ZL5sFUpB+lPX7wx2pNyEB98DH8WEQ6rv4t+tajiyStpvVK2/V+oUR9KP
 e5UcbEKc0ncL90hNJICvnja5omG32YqWCOCiCI6Vbjy8fbfsDM6AqR7EuGbqEzH2x2cK
 fhDw==
X-Gm-Message-State: AOJu0YwvEt8Yv4GVVeMHOMBTU1HXxEDDDvCsLD/+IdF070GHu4f86oVR
 UftZu4RsjqFmNK9zEOGW+2ZCBMeIr0LCOGjX/cDlnwMCgZl3+LA8GxpDvpL8YDrvGXyWS6sKSCt
 hFRVYhU8Yir2Dd73yAIDqH2R5/ldQDOYCpRGfWY80
X-Google-Smtp-Source: AGHT+IE42GeDGZx4nQyEZD4P0eZrZLEdm3btrJym2D4a4dFWLkT+QOybKrQQZ+mjU/hKUd4ilmjBJzu7fyEN
X-Received: by 2002:a92:ca85:0:b0:365:16c8:ca7c with SMTP id
 t5-20020a92ca85000000b0036516c8ca7cmr5225998ilo.23.1710514938056; 
 Fri, 15 Mar 2024 08:02:18 -0700 (PDT)
Received: from postal.iol.unh.edu (postal.iol.unh.edu. [132.177.123.84])
 by smtp-relay.gmail.com with ESMTPS id
 fm39-20020a0566382b2700b00477311c3a34sm103233jab.83.2024.03.15.08.02.17
 (version=TLS1_2 cipher=ECDHE-ECDSA-AES128-GCM-SHA256 bits=128/128);
 Fri, 15 Mar 2024 08:02:18 -0700 (PDT)
X-Relaying-Domain: iol.unh.edu
Date: Fri, 15 Mar 2024 08:02:18 -0700 (PDT)
Message-ID: <65f462fa.050a0220.b2f0b.7712SMTPIN_ADDED_MISSING@mx.google.com>
Received: from [172.21.0.6] (unknown [172.18.0.240])
 by postal.iol.unh.edu (Postfix) with ESMTP id 883A56052471;
 Fri, 15 Mar 2024 11:02:17 -0400 (EDT)
Subject: |SUCCESS| pw138434 [PATCH] devtools: download scripts from linux if 
From: dpdklab@iol.unh.edu
To: Test Report <test-report@dpdk.org>
Cc: dpdk-test-reports@iol.unh.edu
In-Reply-To: <20240315141441.259594-2-rjarry@redhat.com>
References: <20240315141441.259594-2-rjarry@redhat.com>
Content-Type: text/plain
X-BeenThere: test-report@dpdk.org
X-Mailman-Version: 2.1.29
Precedence: list
List-Id: automatic DPDK test reports <test-report.dpdk.org>
List-Unsubscribe: <https://mails.dpdk.org/options/test-report>,
 <mailto:test-report-request@dpdk.org?subject=unsubscribe>
List-Archive: <http://mails.dpdk.org/archives/test-report/>
List-Post: <mailto:test-report@dpdk.org>
List-Help: <mailto:test-report-request@dpdk.org?subject=help>
List-Subscribe: <https://mails.dpdk.org/listinfo/test-report>,
 <mailto:test-report-request@dpdk.org?subject=subscribe>
Errors-To: test-report-bounces@dpdk.org

Test-Label: iol-unit-amd64-testing
Test-Status: SUCCESS
http://dpdk.org/patch/138434

_Testing PASS_

Submitter: Robin Jarry <rjarry@redhat.com>
Date: Friday, March 15 2024 14:14:42 
DPDK git baseline: Repo:dpdk
  Branch: master
  CommitID:90a91f8761af9f99243e1ca35082fcf05ff7a9b2

138434 --> testing pass

Test environment and result as below:

+---------------------+----------------+
|     Environment     | dpdk_unit_test |
+=====================+================+
| CentOS Stream 9     | PASS           |
+---------------------+----------------+
| Debian Bullseye     | PASS           |
+---------------------+----------------+
| CentOS Stream 8     | PASS           |
+---------------------+----------------+
| Fedora 37           | PASS           |
+---------------------+----------------+
| Fedora 38           | PASS           |
+---------------------+----------------+
| Windows Server 2019 | PASS           |
+---------------------+----------------+
| Debian 12 (arm)     | PASS           |
+---------------------+----------------+
| RHEL8               | PASS           |
+---------------------+----------------+
| openSUSE Leap 15    | PASS           |
+---------------------+----------------+
| Ubuntu 20.04        | PASS           |
+---------------------+----------------+
| Ubuntu 22.04        | PASS           |
+---------------------+----------------+


CentOS Stream 9
	Kernel: 4.18.0-240.10.1.el8_3.x86_64
	Compiler: gcc 11.3.1 20220421

Debian Bullseye
	Kernel: 5.4.0-122-generic
	Compiler: gcc 10.2.1-6

CentOS Stream 8
	Kernel: 4.18.0-240.10.1.el8_3.x86_64
	Compiler: gcc 8.4.1 20200928

Fedora 37
	Kernel: Depends on container host system
	Compiler: gcc 12.3.1

Fedora 38
	Kernel: Depends on container host
	Compiler: gcc 13.1.1

Windows Server 2019
	Kernel: 10.0
	Compiler: clang 14.0 and gcc 8.1.0 (MinGW)

Debian 12 (arm)
	Kernel: Container Host Kernel
	Compiler: gcc 11

RHEL8
	Kernel: 4.18.0-240.10.1.el8_3.x86_64
	Compiler: gcc 8.3.1 20191121 (Red Hat 8.3.1-5)

openSUSE Leap 15
	Kernel: 4.18.0-240.10.1.el8_3.x86_64
	Compiler: gcc 7.5.0

Ubuntu 20.04
	Kernel: 5.4.0-153-generic
	Compiler: gcc 9.4.0-1ubuntu1~20.04.1

Ubuntu 22.04
	Kernel: 4.18.0-240.10.1.el8_3.x86_64
	Compiler: gcc 11.3.0

To view detailed results, visit:
https://lab.dpdk.org/results/dashboard/patchsets/29573/

UNH-IOL DPDK Community Lab

To manage your email subscriptions, visit: 
https://lab.dpdk.org/results/dashboard/preferences/subscriptions/