From mboxrd@z Thu Jan  1 00:00:00 1970
Return-Path: <test-report-bounces@dpdk.org>
Received: from mails.dpdk.org (mails.dpdk.org [217.70.189.124])
	by inbox.dpdk.org (Postfix) with ESMTP id 6997E43CBB
	for <public@inbox.dpdk.org>; Fri, 15 Mar 2024 16:07:17 +0100 (CET)
Received: from mails.dpdk.org (localhost [127.0.0.1])
	by mails.dpdk.org (Postfix) with ESMTP id 65591402C9;
	Fri, 15 Mar 2024 16:07:17 +0100 (CET)
Received: from mail-il1-f228.google.com (mail-il1-f228.google.com
 [209.85.166.228])
 by mails.dpdk.org (Postfix) with ESMTP id 563CC402C3
 for <test-report@dpdk.org>; Fri, 15 Mar 2024 16:07:16 +0100 (CET)
Received: by mail-il1-f228.google.com with SMTP id
 e9e14a558f8ab-36683ec01fcso7016425ab.3
 for <test-report@dpdk.org>; Fri, 15 Mar 2024 08:07:16 -0700 (PDT)
DKIM-Signature: v=1; a=rsa-sha256; c=relaxed/relaxed;
 d=iol.unh.edu; s=unh-iol; t=1710515235; x=1711120035; darn=dpdk.org;
 h=references:in-reply-to:cc:to:from:subject:message-id:date:from:to
 :cc:subject:date:message-id:reply-to;
 bh=jtC+BgRqUsv9Tx5hm5HQvL75apB2fItb+CCwwXGmc28=;
 b=E+hrjD1Uk/NSSHsWnS5eY7FJtZWyHVDEmT5mXQyikH7j07rC8//BjPFQLVYziQtO6W
 kdEBttsQsw6ey5sLx+ASm1tVjq/KTE+gQDbNWU0KhQ6/HCSp5BwXhoawxplELgYceZLq
 iAhCFyW2OQi0/zpo6GfPfYVnyFpmh/skuI86w=
X-Google-DKIM-Signature: v=1; a=rsa-sha256; c=relaxed/relaxed;
 d=1e100.net; s=20230601; t=1710515235; x=1711120035;
 h=references:in-reply-to:cc:to:from:subject:message-id:date
 :x-gm-message-state:from:to:cc:subject:date:message-id:reply-to;
 bh=jtC+BgRqUsv9Tx5hm5HQvL75apB2fItb+CCwwXGmc28=;
 b=qaXWZI1AlNhbBEcqJSD+I87z0KD2JWbN8qwSAeJSPJc1JsavpLjuP88b3yT4civW+R
 BGZd/PBZ3/9HE8PW0lCbIgrV/t18cusw58zcZdb1P8/DMdzCsyWaxLXlmvdQRbF+45r0
 n0AYF9q8BgPlhSY07fQ/UhJ4TWKllfJ10lMmnmb0FJzSv5ZVci7ZNGuzYggTQiR9hGED
 tzhgjNstmJ93/73E/SjsldTVtHgZpEEK55bMZhBunuqbZOuzonrpZZ4SIz3C9VrTJRu8
 vuR+IHJ8z+5i3GaZHjBIyqRPTm66ET+WbB720RA8ffOxXadC2RPKjxmZe1C2uPi2w4Lj
 TJTg==
X-Gm-Message-State: AOJu0Yx5rlSyL4sIZYKslWX/aIUykI694lxO0NAoNcXyrzkfGNv9a50N
 d1cSECd4VkRlLvbREo0PdEyUHjhs0qjFb2cM7k09CoZGqcVhXdELvhm294LaThtL7g9Z7C+f6EN
 usQMVZgajq6eo7jL3OHrp1fvJmPF6uPvdcvvZ4zhGneSwCigSgC4XO8E+
X-Google-Smtp-Source: AGHT+IHt+CNF7DWCEA9Z1x6oowB0r9UggzWg+HhW7hrJFK2SkwJ3LMKCML+5de4ciifMcgSC2gvK4qykF4nN
X-Received: by 2002:a92:d651:0:b0:366:79ac:b53b with SMTP id
 x17-20020a92d651000000b0036679acb53bmr4174053ilp.25.1710515235743; 
 Fri, 15 Mar 2024 08:07:15 -0700 (PDT)
Received: from postal.iol.unh.edu (postal.iol.unh.edu.
 [2606:4100:3880:1234::84]) by smtp-relay.gmail.com with ESMTPS id
 n1-20020a92dd01000000b00365409606f0sm164081ilm.43.2024.03.15.08.07.15
 (version=TLS1_2 cipher=ECDHE-ECDSA-AES128-GCM-SHA256 bits=128/128);
 Fri, 15 Mar 2024 08:07:15 -0700 (PDT)
X-Relaying-Domain: iol.unh.edu
Date: Fri, 15 Mar 2024 08:07:15 -0700 (PDT)
Message-ID: <65f46423.920a0220.511c3.bbb2SMTPIN_ADDED_MISSING@mx.google.com>
Received: from [172.17.0.7] (unknown [172.18.0.217])
 by postal.iol.unh.edu (Postfix) with ESMTP id 575A16052471;
 Fri, 15 Mar 2024 11:07:15 -0400 (EDT)
Subject: |SUCCESS| pw138434 [PATCH] devtools: download scripts from linux if 
From: dpdklab@iol.unh.edu
To: Test Report <test-report@dpdk.org>
Cc: dpdk-test-reports@iol.unh.edu
In-Reply-To: <20240315141441.259594-2-rjarry@redhat.com>
References: <20240315141441.259594-2-rjarry@redhat.com>
Content-Type: text/plain
X-BeenThere: test-report@dpdk.org
X-Mailman-Version: 2.1.29
Precedence: list
List-Id: automatic DPDK test reports <test-report.dpdk.org>
List-Unsubscribe: <https://mails.dpdk.org/options/test-report>,
 <mailto:test-report-request@dpdk.org?subject=unsubscribe>
List-Archive: <http://mails.dpdk.org/archives/test-report/>
List-Post: <mailto:test-report@dpdk.org>
List-Help: <mailto:test-report-request@dpdk.org?subject=help>
List-Subscribe: <https://mails.dpdk.org/listinfo/test-report>,
 <mailto:test-report-request@dpdk.org?subject=subscribe>
Errors-To: test-report-bounces@dpdk.org

Test-Label: iol-unit-amd64-testing
Test-Status: SUCCESS
http://dpdk.org/patch/138434

_Testing PASS_

Submitter: Robin Jarry <rjarry@redhat.com>
Date: Friday, March 15 2024 14:14:42 
DPDK git baseline: Repo:dpdk
  Branch: master
  CommitID:90a91f8761af9f99243e1ca35082fcf05ff7a9b2

138434 --> testing pass

Test environment and result as below:

+---------------------+----------------+
|     Environment     | dpdk_unit_test |
+=====================+================+
| CentOS Stream 9     | PASS           |
+---------------------+----------------+
| Debian Bullseye     | PASS           |
+---------------------+----------------+
| CentOS Stream 8     | PASS           |
+---------------------+----------------+
| Fedora 37           | PASS           |
+---------------------+----------------+
| Fedora 38           | PASS           |
+---------------------+----------------+
| Windows Server 2019 | PASS           |
+---------------------+----------------+
| Debian 12 (arm)     | PASS           |
+---------------------+----------------+
| RHEL8               | PASS           |
+---------------------+----------------+
| openSUSE Leap 15    | PASS           |
+---------------------+----------------+
| Ubuntu 20.04        | PASS           |
+---------------------+----------------+
| Ubuntu 22.04        | PASS           |
+---------------------+----------------+


CentOS Stream 9
	Kernel: 4.18.0-240.10.1.el8_3.x86_64
	Compiler: gcc 11.3.1 20220421

Debian Bullseye
	Kernel: 5.4.0-122-generic
	Compiler: gcc 10.2.1-6

CentOS Stream 8
	Kernel: 4.18.0-240.10.1.el8_3.x86_64
	Compiler: gcc 8.4.1 20200928

Fedora 37
	Kernel: Depends on container host system
	Compiler: gcc 12.3.1

Fedora 38
	Kernel: Depends on container host
	Compiler: gcc 13.1.1

Windows Server 2019
	Kernel: 10.0
	Compiler: clang 14.0 and gcc 8.1.0 (MinGW)

Debian 12 (arm)
	Kernel: Container Host Kernel
	Compiler: gcc 11

RHEL8
	Kernel: 4.18.0-240.10.1.el8_3.x86_64
	Compiler: gcc 8.3.1 20191121 (Red Hat 8.3.1-5)

openSUSE Leap 15
	Kernel: 4.18.0-240.10.1.el8_3.x86_64
	Compiler: gcc 7.5.0

Ubuntu 20.04
	Kernel: 5.4.0-153-generic
	Compiler: gcc 9.4.0-1ubuntu1~20.04.1

Ubuntu 22.04
	Kernel: 4.18.0-240.10.1.el8_3.x86_64
	Compiler: gcc 11.3.0

To view detailed results, visit:
https://lab.dpdk.org/results/dashboard/patchsets/29573/

UNH-IOL DPDK Community Lab

To manage your email subscriptions, visit: 
https://lab.dpdk.org/results/dashboard/preferences/subscriptions/