From mboxrd@z Thu Jan  1 00:00:00 1970
Return-Path: <test-report-bounces@dpdk.org>
Received: from mails.dpdk.org (mails.dpdk.org [217.70.189.124])
	by inbox.dpdk.org (Postfix) with ESMTP id 6045A43CBB
	for <public@inbox.dpdk.org>; Fri, 15 Mar 2024 16:12:46 +0100 (CET)
Received: from mails.dpdk.org (localhost [127.0.0.1])
	by mails.dpdk.org (Postfix) with ESMTP id 5A469402C7;
	Fri, 15 Mar 2024 16:12:46 +0100 (CET)
Received: from mail-pf1-f225.google.com (mail-pf1-f225.google.com
 [209.85.210.225])
 by mails.dpdk.org (Postfix) with ESMTP id 1EFDA402C3
 for <test-report@dpdk.org>; Fri, 15 Mar 2024 16:12:45 +0100 (CET)
Received: by mail-pf1-f225.google.com with SMTP id
 d2e1a72fcca58-6e6b5432439so2238507b3a.1
 for <test-report@dpdk.org>; Fri, 15 Mar 2024 08:12:45 -0700 (PDT)
DKIM-Signature: v=1; a=rsa-sha256; c=relaxed/relaxed;
 d=iol.unh.edu; s=unh-iol; t=1710515564; x=1711120364; darn=dpdk.org;
 h=references:in-reply-to:cc:to:from:subject:message-id:date:from:to
 :cc:subject:date:message-id:reply-to;
 bh=xRrwhPtItjuL7ZeoisjV0UHCgMKDXnqmU7iLX+p4ELk=;
 b=SBEJ93DVr0r7kKRnJ0Kl/CnUH6Y4kEYhdTw4ev18ImNGAiftSgWTrfVZbMYmgdbCkN
 XnfpKiSTmhKcnMF5Ol4sKtPYQhJuk5A46zEO4eBnXLYqs3Bb0Pd3CGY8Az7D+VZripKC
 KmAl7W/VIF1uzqfsuznkXHiFduwKwNYWDlJNg=
X-Google-DKIM-Signature: v=1; a=rsa-sha256; c=relaxed/relaxed;
 d=1e100.net; s=20230601; t=1710515564; x=1711120364;
 h=references:in-reply-to:cc:to:from:subject:message-id:date
 :x-gm-message-state:from:to:cc:subject:date:message-id:reply-to;
 bh=xRrwhPtItjuL7ZeoisjV0UHCgMKDXnqmU7iLX+p4ELk=;
 b=HJD3xu9Z5/NUsdGFK4+TYhTCvAqjiPEPnIqzAzFnnuwnVQk/bziEjLqt3Bj8BLd1Db
 fND3DTsuOv9KtIR4geneOStEzq+w/ECOP51PedLMWqVY43E15a7UXcwjutJhM2x+vKcV
 ixj2LZkIyYCPO/V/z/Tnfk1e8UVzz90pWPTwm9EwdrGNh0ttxlva7AQ1+XTGu2hGOm+V
 6NJkonA+8wuOy/Z9S5mIYc59uKZu1j+C3tLmH039xxn4FnagaXr34dIA1daza0a9QHKY
 tu1FvsUY7NQu+hlGOm0Ns2F8N4v5Hy+ZU1+SruuuF54hwzAtB33PqnKW+ORdv5Dy+ovg
 QXHA==
X-Gm-Message-State: AOJu0YwolW5gljwMG79gBtGe8HlUFl18A4C/DZ09ZfD+l8Bc7iSXQW/3
 t93VYHMQCjkbh114i8+uB9PUuSYkIbhrDV6/xEM+sVmwXBT4LZ8KyQCxW/GKDm3OUYTmEqNH/n0
 FU2ID3BVR3YXhI1JdXqJ2ns0vArtPrEjPXzEu0Qe9Wt9fVxfINEjIaozl
X-Google-Smtp-Source: AGHT+IGCPKQY5BZIkDEIJxDbGpqFkYcgWRslbGs74KWPYOjNHDPuElTREw3LOj2LH9z1AwFa2RertQAfb5+V
X-Received: by 2002:a05:6a20:8f24:b0:1a3:502d:bea with SMTP id
 b36-20020a056a208f2400b001a3502d0beamr1797098pzk.14.1710515564256; 
 Fri, 15 Mar 2024 08:12:44 -0700 (PDT)
Received: from postal.iol.unh.edu (postal.iol.unh.edu.
 [2606:4100:3880:1234::84]) by smtp-relay.gmail.com with ESMTPS id
 ci21-20020a17090afc9500b0029af7a6e1a8sm122392pjb.4.2024.03.15.08.12.44
 (version=TLS1_2 cipher=ECDHE-ECDSA-AES128-GCM-SHA256 bits=128/128);
 Fri, 15 Mar 2024 08:12:44 -0700 (PDT)
X-Relaying-Domain: iol.unh.edu
Date: Fri, 15 Mar 2024 08:12:44 -0700 (PDT)
Message-ID: <65f4656c.170a0220.9654f.8a23SMTPIN_ADDED_MISSING@mx.google.com>
Received: from [172.17.0.7] (unknown [172.18.0.217])
 by postal.iol.unh.edu (Postfix) with ESMTP id B0D2C6052471;
 Fri, 15 Mar 2024 11:12:43 -0400 (EDT)
Subject: |SUCCESS| pw138434 [PATCH] devtools: download scripts from linux if 
From: dpdklab@iol.unh.edu
To: Test Report <test-report@dpdk.org>
Cc: dpdk-test-reports@iol.unh.edu
In-Reply-To: <20240315141441.259594-2-rjarry@redhat.com>
References: <20240315141441.259594-2-rjarry@redhat.com>
Content-Type: text/plain
X-BeenThere: test-report@dpdk.org
X-Mailman-Version: 2.1.29
Precedence: list
List-Id: automatic DPDK test reports <test-report.dpdk.org>
List-Unsubscribe: <https://mails.dpdk.org/options/test-report>,
 <mailto:test-report-request@dpdk.org?subject=unsubscribe>
List-Archive: <http://mails.dpdk.org/archives/test-report/>
List-Post: <mailto:test-report@dpdk.org>
List-Help: <mailto:test-report-request@dpdk.org?subject=help>
List-Subscribe: <https://mails.dpdk.org/listinfo/test-report>,
 <mailto:test-report-request@dpdk.org?subject=subscribe>
Errors-To: test-report-bounces@dpdk.org

Test-Label: iol-compile-amd64-testing
Test-Status: SUCCESS
http://dpdk.org/patch/138434

_Testing PASS_

Submitter: Robin Jarry <rjarry@redhat.com>
Date: Friday, March 15 2024 14:14:42 
DPDK git baseline: Repo:dpdk
  Branch: master
  CommitID:90a91f8761af9f99243e1ca35082fcf05ff7a9b2

138434 --> testing pass

Test environment and result as below:

+---------------------+--------------------+----------------------+
|     Environment     | dpdk_meson_compile | dpdk_mingw64_compile |
+=====================+====================+======================+
| CentOS Stream 8     | PASS               | SKIPPED              |
+---------------------+--------------------+----------------------+
| Debian 12 (arm)     | PASS               | SKIPPED              |
+---------------------+--------------------+----------------------+
| Windows Server 2022 | PASS               | SKIPPED              |
+---------------------+--------------------+----------------------+
| openSUSE Leap 15    | PASS               | SKIPPED              |
+---------------------+--------------------+----------------------+
| FreeBSD 13.2        | PASS               | SKIPPED              |
+---------------------+--------------------+----------------------+
| Debian Bullseye     | PASS               | SKIPPED              |
+---------------------+--------------------+----------------------+
| CentOS Stream 9     | PASS               | SKIPPED              |
+---------------------+--------------------+----------------------+
| Windows Server 2019 | PASS               | PASS                 |
+---------------------+--------------------+----------------------+
| Fedora 38           | PASS               | SKIPPED              |
+---------------------+--------------------+----------------------+
| Fedora 37           | PASS               | SKIPPED              |
+---------------------+--------------------+----------------------+
| RHEL8               | PASS               | SKIPPED              |
+---------------------+--------------------+----------------------+
| Ubuntu 20.04        | PASS               | SKIPPED              |
+---------------------+--------------------+----------------------+
| Ubuntu 22.04        | PASS               | SKIPPED              |
+---------------------+--------------------+----------------------+


CentOS Stream 8
	Kernel: 4.18.0-240.10.1.el8_3.x86_64
	Compiler: gcc 8.4.1 20200928

Debian 12 (arm)
	Kernel: Container Host Kernel
	Compiler: gcc 11

Windows Server 2022
	Kernel: OS Build 20348.2031
	Compiler: clang 15.0.7, gcc 8.1.0 (MinGW), and MSVC VS 17.9

openSUSE Leap 15
	Kernel: 4.18.0-240.10.1.el8_3.x86_64
	Compiler: gcc 7.5.0

FreeBSD 13.2
	Kernel: 13.2
	Compiler: clang 11.3.0

Debian Bullseye
	Kernel: 5.4.0-122-generic
	Compiler: gcc 10.2.1-6

CentOS Stream 9
	Kernel: 4.18.0-240.10.1.el8_3.x86_64
	Compiler: gcc 11.3.1 20220421

Windows Server 2019
	Kernel: 10.0
	Compiler: clang 14.0 and gcc 8.1.0 (MinGW)

Fedora 38
	Kernel: Depends on container host
	Compiler: gcc 13.1.1

Fedora 37
	Kernel: Depends on container host system
	Compiler: gcc 12.3.1

RHEL8
	Kernel: 4.18.0-240.10.1.el8_3.x86_64
	Compiler: gcc 8.3.1 20191121 (Red Hat 8.3.1-5)

Ubuntu 20.04
	Kernel: 5.4.0-153-generic
	Compiler: gcc 9.4.0-1ubuntu1~20.04.1

Ubuntu 22.04
	Kernel: 4.18.0-240.10.1.el8_3.x86_64
	Compiler: gcc 11.3.0

To view detailed results, visit:
https://lab.dpdk.org/results/dashboard/patchsets/29573/

UNH-IOL DPDK Community Lab

To manage your email subscriptions, visit: 
https://lab.dpdk.org/results/dashboard/preferences/subscriptions/