From mboxrd@z Thu Jan  1 00:00:00 1970
Return-Path: <test-report-bounces@dpdk.org>
Received: from mails.dpdk.org (mails.dpdk.org [217.70.189.124])
	by inbox.dpdk.org (Postfix) with ESMTP id 530F043CBB
	for <public@inbox.dpdk.org>; Fri, 15 Mar 2024 16:17:19 +0100 (CET)
Received: from mails.dpdk.org (localhost [127.0.0.1])
	by mails.dpdk.org (Postfix) with ESMTP id 4BC1142E6B;
	Fri, 15 Mar 2024 16:17:19 +0100 (CET)
Received: from mail-qv1-f98.google.com (mail-qv1-f98.google.com
 [209.85.219.98]) by mails.dpdk.org (Postfix) with ESMTP id 25C6F402C3
 for <test-report@dpdk.org>; Fri, 15 Mar 2024 16:16:20 +0100 (CET)
Received: by mail-qv1-f98.google.com with SMTP id
 6a1803df08f44-68ee2c0a237so16571076d6.1
 for <test-report@dpdk.org>; Fri, 15 Mar 2024 08:16:20 -0700 (PDT)
DKIM-Signature: v=1; a=rsa-sha256; c=relaxed/relaxed;
 d=iol.unh.edu; s=unh-iol; t=1710515779; x=1711120579; darn=dpdk.org;
 h=references:in-reply-to:cc:to:from:subject:message-id:date:from:to
 :cc:subject:date:message-id:reply-to;
 bh=T+yTAQV9bkW0WvWYQBNONmroIwttWpQ/BN3qiZO6GaI=;
 b=GJRzZMAj30xYN7ZV/OkIDPfjBb1KfvHsCWTxP8GWVT5nQHm0e5KxVxskc1cdLxFVh1
 64UOJYUVBwIyIQ2dtjO17sCKl8jNwG6CAUnKm3+7MSp7VRLpOEFybDFteD565fRlHNhU
 0YQ+ZSMwxGo6HoGcWK9+j6CH4PVo6Y9TVofrk=
X-Google-DKIM-Signature: v=1; a=rsa-sha256; c=relaxed/relaxed;
 d=1e100.net; s=20230601; t=1710515779; x=1711120579;
 h=references:in-reply-to:cc:to:from:subject:message-id:date
 :x-gm-message-state:from:to:cc:subject:date:message-id:reply-to;
 bh=T+yTAQV9bkW0WvWYQBNONmroIwttWpQ/BN3qiZO6GaI=;
 b=WMT51ntcVg0BvDxEvzsED9NlXXDr3Wsosxu5XwEMDt07ced8kRS53Dr52x/mIzpQgR
 0zaSIMCA28/IY+B+h0iW6soaA4RbtHnozFQv11i6dOwMWCCZwvHg1Id/MtXWGN3r+hy4
 zafgCuVz4FovvxnrC7FY5hmE5wRHnsEi+BRN8j3YgOIhiJT3bpJ5cKe6p6+MED0Bj0oh
 AP2kTA2SyysW96rOUBIj9ZsgELrgD+CX09aO5m/Keo+svJkDHNJ4a6h18bbdQ7xnPyW6
 RVouwIJAwbFbVw2Qz/07T6Uml750OnBFE5HryntKRc2mnl+8tD9+1KQu+5njee+ia5K/
 vLvQ==
X-Gm-Message-State: AOJu0Yw9cMZUhYCk/yQ2E+ihgE/8cSbF90QAMhYioxUCutrF7q4ZzoWz
 IGV6WhkB2ol2+RAHaj2T376VqyrVtQRv9tpAHUaS80b4sg6yMkdxiZemMlSPBlBNfL35wbWeWR4
 FqmPxE28o9l0WY4kcf2tK/02yKo0WL8iW5fELIHtyDiJuh5at9OVDX59p
X-Google-Smtp-Source: AGHT+IFrKiRPZwwDWcLt93hNMRPDbLmcV1VdiUGP9RPmE5YE7V3IuizEUJCOT87xwXNy826MrlD1USA0L1JQ
X-Received: by 2002:a05:6214:2589:b0:690:abe6:b6d3 with SMTP id
 fq9-20020a056214258900b00690abe6b6d3mr11163224qvb.4.1710515779621; 
 Fri, 15 Mar 2024 08:16:19 -0700 (PDT)
Received: from postal.iol.unh.edu (postal.iol.unh.edu.
 [2606:4100:3880:1234::84]) by smtp-relay.gmail.com with ESMTPS id
 kd12-20020a056214400c00b0068fb7e2792asm110321qvb.60.2024.03.15.08.16.19
 (version=TLS1_2 cipher=ECDHE-ECDSA-AES128-GCM-SHA256 bits=128/128);
 Fri, 15 Mar 2024 08:16:19 -0700 (PDT)
X-Relaying-Domain: iol.unh.edu
Date: Fri, 15 Mar 2024 08:16:19 -0700 (PDT)
Message-ID: <65f46643.050a0220.2c58.836bSMTPIN_ADDED_MISSING@mx.google.com>
Received: from [172.17.0.7] (unknown [172.18.0.217])
 by postal.iol.unh.edu (Postfix) with ESMTP id 5B4E16052471;
 Fri, 15 Mar 2024 11:16:19 -0400 (EDT)
Subject: |SUCCESS| pw138434 [PATCH] devtools: download scripts from linux if 
From: dpdklab@iol.unh.edu
To: Test Report <test-report@dpdk.org>
Cc: dpdk-test-reports@iol.unh.edu
In-Reply-To: <20240315141441.259594-2-rjarry@redhat.com>
References: <20240315141441.259594-2-rjarry@redhat.com>
Content-Type: text/plain
X-BeenThere: test-report@dpdk.org
X-Mailman-Version: 2.1.29
Precedence: list
List-Id: automatic DPDK test reports <test-report.dpdk.org>
List-Unsubscribe: <https://mails.dpdk.org/options/test-report>,
 <mailto:test-report-request@dpdk.org?subject=unsubscribe>
List-Archive: <http://mails.dpdk.org/archives/test-report/>
List-Post: <mailto:test-report@dpdk.org>
List-Help: <mailto:test-report-request@dpdk.org?subject=help>
List-Subscribe: <https://mails.dpdk.org/listinfo/test-report>,
 <mailto:test-report-request@dpdk.org?subject=subscribe>
Errors-To: test-report-bounces@dpdk.org

Test-Label: iol-abi-testing
Test-Status: SUCCESS
http://dpdk.org/patch/138434

_Testing PASS_

Submitter: Robin Jarry <rjarry@redhat.com>
Date: Friday, March 15 2024 14:14:42 
DPDK git baseline: Repo:dpdk
  Branch: master
  CommitID:90a91f8761af9f99243e1ca35082fcf05ff7a9b2

138434 --> testing pass

Test environment and result as below:

+------------------+----------+
|   Environment    | abi_test |
+==================+==========+
| CentOS Stream 8  | PASS     |
+------------------+----------+
| Debian Bullseye  | PASS     |
+------------------+----------+
| Debian 12 (arm)  | PASS     |
+------------------+----------+
| Fedora 38        | PASS     |
+------------------+----------+
| openSUSE Leap 15 | PASS     |
+------------------+----------+
| CentOS Stream 9  | PASS     |
+------------------+----------+
| RHEL8            | PASS     |
+------------------+----------+
| Fedora 37        | PASS     |
+------------------+----------+
| Ubuntu 22.04     | PASS     |
+------------------+----------+


CentOS Stream 8
	Kernel: 4.18.0-240.10.1.el8_3.x86_64
	Compiler: gcc 8.4.1 20200928

Debian Bullseye
	Kernel: 5.4.0-122-generic
	Compiler: gcc 10.2.1-6

Debian 12 (arm)
	Kernel: Container Host Kernel
	Compiler: gcc 11

Fedora 38
	Kernel: Depends on container host
	Compiler: clang 16.0.3

openSUSE Leap 15
	Kernel: 4.18.0-240.10.1.el8_3.x86_64
	Compiler: gcc 7.5.0

CentOS Stream 9
	Kernel: 4.18.0-240.10.1.el8_3.x86_64
	Compiler: gcc 11.3.1 20220421

RHEL8
	Kernel: 4.18.0-240.10.1.el8_3.x86_64
	Compiler: gcc 8.3.1 20191121 (Red Hat 8.3.1-5)

Fedora 37
	Kernel: Depends on container host system
	Compiler: gcc 12.3.1

Ubuntu 22.04
	Kernel: 4.18.0-240.10.1.el8_3.x86_64
	Compiler: gcc 11.3.0

To view detailed results, visit:
https://lab.dpdk.org/results/dashboard/patchsets/29573/

UNH-IOL DPDK Community Lab

To manage your email subscriptions, visit: 
https://lab.dpdk.org/results/dashboard/preferences/subscriptions/