From mboxrd@z Thu Jan  1 00:00:00 1970
Return-Path: <test-report-bounces@dpdk.org>
Received: from mails.dpdk.org (mails.dpdk.org [217.70.189.124])
	by inbox.dpdk.org (Postfix) with ESMTP id B3DF143CBC
	for <public@inbox.dpdk.org>; Fri, 15 Mar 2024 19:51:09 +0100 (CET)
Received: from mails.dpdk.org (localhost [127.0.0.1])
	by mails.dpdk.org (Postfix) with ESMTP id AFF1E42EF8;
	Fri, 15 Mar 2024 19:51:09 +0100 (CET)
Received: from mail-yw1-f225.google.com (mail-yw1-f225.google.com
 [209.85.128.225])
 by mails.dpdk.org (Postfix) with ESMTP id 2DB6F42ED0
 for <test-report@dpdk.org>; Fri, 15 Mar 2024 19:51:04 +0100 (CET)
Received: by mail-yw1-f225.google.com with SMTP id
 00721157ae682-60cbcd04de8so18695507b3.0
 for <test-report@dpdk.org>; Fri, 15 Mar 2024 11:51:04 -0700 (PDT)
DKIM-Signature: v=1; a=rsa-sha256; c=relaxed/relaxed;
 d=iol.unh.edu; s=unh-iol; t=1710528663; x=1711133463; darn=dpdk.org;
 h=references:in-reply-to:cc:to:from:subject:message-id:date:from:to
 :cc:subject:date:message-id:reply-to;
 bh=HYni6Lw3tLSzG8eFAwZyIu/epuBftajNIvYCI7daZw8=;
 b=HE3HqsIhAruZW67KGwxQmvrcudbzsun2kI38qYl9WfWq7IN+NVgBCs/JQ2RJySsLVM
 K44opM3Ur4569ZHdYwXlTv6m7KciT8Eb8xBCAcG0BcnjV+3JrQSRMO4hbe81lHIiUBQN
 EX0Y2Ub6HGhAoQoGaMA/CeCoBq740GOkUNLNo=
X-Google-DKIM-Signature: v=1; a=rsa-sha256; c=relaxed/relaxed;
 d=1e100.net; s=20230601; t=1710528663; x=1711133463;
 h=references:in-reply-to:cc:to:from:subject:message-id:date
 :x-gm-message-state:from:to:cc:subject:date:message-id:reply-to;
 bh=HYni6Lw3tLSzG8eFAwZyIu/epuBftajNIvYCI7daZw8=;
 b=Ie1YhFUE9FYsvDkgHD/68xwEQwFo3MONKOsdE5B7KD8apzALz/JpD1F9zvrSSY7Opv
 PxwS93MQexGatb4+IcWwZwe3hQvChlUeKlC9gi6kU7Ha2F40mzJGfRjUs4/8uB+IBadR
 AOiPu96QZQxCnM2YjpuxBCw+C0co5uWQKXaUbcoPaZTWKE3t82TEebcz2yKtMA0WJ0Mc
 vx96j6P/AsnUBp5WQJkVyESZ3s1uqEoEfZRdHydYZ9otVmvP5dC5mrI4+QKskROZ2JhT
 By/AKXC/gfFsqIvO3XiC3OefeQy4HreEOyu1+nVzIq4r1GE0jmYpmitFyYIYS28HCnsQ
 tQcg==
X-Gm-Message-State: AOJu0YxWGZHfYAm/SldL+ZI+PXXlbCA89y1CssGjvjKIe6K/Qrkv4bON
 YuXkcRGOoO3fDH3hVDfXhEp/RFs/ERHhgP4z55C+9some3Jr1lGWZ4zDSDQZC9Luf8X8fYJb1E/
 jS+0hCVrbpvZmkwwG/V2KvjVyLTpnUs2SQefjBr1/
X-Google-Smtp-Source: AGHT+IE3eTx6BStMaqteZbG+LwlSKHJY7QB1x3/Nzcrm2g7HIQynjsdbSGr1ztWnX0WyHT7qfmbn+zoJXu48
X-Received: by 2002:a81:4987:0:b0:609:ecdf:7c9c with SMTP id
 w129-20020a814987000000b00609ecdf7c9cmr7475463ywa.19.1710528663551; 
 Fri, 15 Mar 2024 11:51:03 -0700 (PDT)
Received: from postal.iol.unh.edu (postal.iol.unh.edu. [132.177.123.84])
 by smtp-relay.gmail.com with ESMTPS id
 u64-20020a0deb43000000b0060a071e7539sm250499ywe.51.2024.03.15.11.51.03
 (version=TLS1_2 cipher=ECDHE-ECDSA-AES128-GCM-SHA256 bits=128/128);
 Fri, 15 Mar 2024 11:51:03 -0700 (PDT)
X-Relaying-Domain: iol.unh.edu
Date: Fri, 15 Mar 2024 11:51:03 -0700 (PDT)
Message-ID: <65f49897.0d0a0220.6e772.1daeSMTPIN_ADDED_MISSING@mx.google.com>
Received: from [172.21.0.6] (unknown [172.18.0.240])
 by postal.iol.unh.edu (Postfix) with ESMTP id 35E7A6052471;
 Fri, 15 Mar 2024 14:51:03 -0400 (EDT)
Subject: |SUCCESS| pw138308-138328 [PATCH] [v5,21/21] test/security: add out 
From: dpdklab@iol.unh.edu
To: Test Report <test-report@dpdk.org>
Cc: dpdk-test-reports@iol.unh.edu
In-Reply-To: <20240313105901.1959675-22-asasidharan@marvell.com>
References: <20240313105901.1959675-22-asasidharan@marvell.com>
Content-Type: text/plain
X-BeenThere: test-report@dpdk.org
X-Mailman-Version: 2.1.29
Precedence: list
List-Id: automatic DPDK test reports <test-report.dpdk.org>
List-Unsubscribe: <https://mails.dpdk.org/options/test-report>,
 <mailto:test-report-request@dpdk.org?subject=unsubscribe>
List-Archive: <http://mails.dpdk.org/archives/test-report/>
List-Post: <mailto:test-report@dpdk.org>
List-Help: <mailto:test-report-request@dpdk.org?subject=help>
List-Subscribe: <https://mails.dpdk.org/listinfo/test-report>,
 <mailto:test-report-request@dpdk.org?subject=subscribe>
Errors-To: test-report-bounces@dpdk.org

Test-Label: iol-unit-amd64-testing
Test-Status: SUCCESS
http://dpdk.org/patch/138328

_Testing PASS_

Submitter: Aakash Sasidharan <asasidharan@marvell.com>
Date: Wednesday, March 13 2024 10:59:01 
DPDK git baseline: Repo:dpdk
  Branch: master
  CommitID:a86f381b826660e88794754c41d3aec79ce9b87c

138308-138328 --> testing pass

Test environment and result as below:

+---------------------+----------------+
|     Environment     | dpdk_unit_test |
+=====================+================+
| CentOS Stream 8     | PASS           |
+---------------------+----------------+
| Debian Bullseye     | PASS           |
+---------------------+----------------+
| CentOS Stream 9     | PASS           |
+---------------------+----------------+
| Debian 12 (arm)     | PASS           |
+---------------------+----------------+
| Ubuntu 22.04        | PASS           |
+---------------------+----------------+
| Fedora 37           | PASS           |
+---------------------+----------------+
| openSUSE Leap 15    | PASS           |
+---------------------+----------------+
| Fedora 38           | PASS           |
+---------------------+----------------+
| Windows Server 2019 | PASS           |
+---------------------+----------------+
| Ubuntu 20.04        | PASS           |
+---------------------+----------------+
| RHEL8               | PASS           |
+---------------------+----------------+
| Windows Server 2022 | PASS           |
+---------------------+----------------+


CentOS Stream 8
	Kernel: 4.18.0-240.10.1.el8_3.x86_64
	Compiler: gcc 8.4.1 20200928

Debian Bullseye
	Kernel: 5.4.0-122-generic
	Compiler: gcc 10.2.1-6

CentOS Stream 9
	Kernel: 4.18.0-240.10.1.el8_3.x86_64
	Compiler: gcc 11.3.1 20220421

Debian 12 (arm)
	Kernel: Container Host Kernel
	Compiler: gcc 11

Ubuntu 22.04
	Kernel: 4.18.0-240.10.1.el8_3.x86_64
	Compiler: gcc 11.3.0

Fedora 37
	Kernel: Depends on container host system
	Compiler: gcc 12.3.1

openSUSE Leap 15
	Kernel: 4.18.0-240.10.1.el8_3.x86_64
	Compiler: gcc 7.5.0

Fedora 38
	Kernel: Depends on container host
	Compiler: gcc 13.1.1

Windows Server 2019
	Kernel: 10.0
	Compiler: clang 14.0 and gcc 8.1.0 (MinGW)

Ubuntu 20.04
	Kernel: 5.4.0-153-generic
	Compiler: gcc 9.4.0-1ubuntu1~20.04.1

RHEL8
	Kernel: 4.18.0-240.10.1.el8_3.x86_64
	Compiler: gcc 8.3.1 20191121 (Red Hat 8.3.1-5)

Windows Server 2022
	Kernel: OS Build 20348.2031
	Compiler: clang 15.0.7, gcc 8.1.0 (MinGW), and MSVC VS 17.9

To view detailed results, visit:
https://lab.dpdk.org/results/dashboard/patchsets/29533/

UNH-IOL DPDK Community Lab

To manage your email subscriptions, visit: 
https://lab.dpdk.org/results/dashboard/preferences/subscriptions/