From mboxrd@z Thu Jan  1 00:00:00 1970
Return-Path: <test-report-bounces@dpdk.org>
Received: from mails.dpdk.org (mails.dpdk.org [217.70.189.124])
	by inbox.dpdk.org (Postfix) with ESMTP id 68AAD43CBD
	for <public@inbox.dpdk.org>; Fri, 15 Mar 2024 20:01:23 +0100 (CET)
Received: from mails.dpdk.org (localhost [127.0.0.1])
	by mails.dpdk.org (Postfix) with ESMTP id 64D6A42ED0;
	Fri, 15 Mar 2024 20:01:23 +0100 (CET)
Received: from mail-oo1-f97.google.com (mail-oo1-f97.google.com
 [209.85.161.97]) by mails.dpdk.org (Postfix) with ESMTP id 4743E402DD
 for <test-report@dpdk.org>; Fri, 15 Mar 2024 20:01:22 +0100 (CET)
Received: by mail-oo1-f97.google.com with SMTP id
 006d021491bc7-5a1d1a28da2so1096762eaf.1
 for <test-report@dpdk.org>; Fri, 15 Mar 2024 12:01:22 -0700 (PDT)
DKIM-Signature: v=1; a=rsa-sha256; c=relaxed/relaxed;
 d=iol.unh.edu; s=unh-iol; t=1710529281; x=1711134081; darn=dpdk.org;
 h=references:in-reply-to:cc:to:from:subject:message-id:date:from:to
 :cc:subject:date:message-id:reply-to;
 bh=HYni6Lw3tLSzG8eFAwZyIu/epuBftajNIvYCI7daZw8=;
 b=I6DsvK8cPgsvFcWFCxwgD8g0WHYaN+qfcSC5hbYSbPTvd7N3wKumLQVwc5EnWOuxd4
 T69uKnDtwR7VIh0Idoqq6cqsXc9QNqZGfVuZG3GZN1eW6PpShQgfj9YXUNLATuozGzSW
 ZEQYTmQDPmAcntANte/fT/9+yj3HdYFY0mMxQ=
X-Google-DKIM-Signature: v=1; a=rsa-sha256; c=relaxed/relaxed;
 d=1e100.net; s=20230601; t=1710529281; x=1711134081;
 h=references:in-reply-to:cc:to:from:subject:message-id:date
 :x-gm-message-state:from:to:cc:subject:date:message-id:reply-to;
 bh=HYni6Lw3tLSzG8eFAwZyIu/epuBftajNIvYCI7daZw8=;
 b=bYRUR9BE3BFrH9rAzhRuZC7T2fQYDJOZRYq+9ogUZkNcW1Tz4FVXp86hf3H3y4eoES
 0Iz/gLp3lVbCD6BDdYmpioIPCNvD5kgS41bZ6RA/bJbUMB1ZmYUe+Ah3V5QyQyZalI9q
 NbDLqrCJqqGW21p/4JyI0vaTzKVpRRAbJZKPu3jR5aFb/UX+NASFtiQSXgu7696p/ghe
 EvAqF8APZPH5QF8wBhTQkVXvle68bYfC5K+XaHVR4MISrukD1XgRR+GqR1oCTPbHduh5
 hASEtpC2VlUnc7+htYih+MYzzd+9Csfc9tcAAPxYOB9hhmzsXVN/QJ53fdvLwYM5UN1k
 TBlA==
X-Gm-Message-State: AOJu0YxGwmz8mfqjQvnMsTk4UXCT/ZWx2tV7IKs0pbmMuWt9wxs43fGu
 UUKRTpBLzVyAZiFiIMu/4uqC0UTsYRePt8HbZAtbpoDM/+cAaYkmBSkJpnbUv0hlF/ZKwD2OhMa
 J3r2ZUo09Kddgh9oRl2hr9a5XIZNDuIp4zYTTcHT6cfkkHWNgVQ/otQRG
X-Google-Smtp-Source: AGHT+IEJXTH6g0yqTQd2K+dmQC2TOxHo/H9ptz2L4S4y4QMDzhNOSp3i0eSXOauQPGiKSujyn6WDSJ9CjOOu
X-Received: by 2002:a05:6358:7f04:b0:17c:1bb1:5758 with SMTP id
 p4-20020a0563587f0400b0017c1bb15758mr3296062rwn.16.1710529281523; 
 Fri, 15 Mar 2024 12:01:21 -0700 (PDT)
Received: from postal.iol.unh.edu (postal.iol.unh.edu.
 [2606:4100:3880:1234::84]) by smtp-relay.gmail.com with ESMTPS id
 d73-20020a25684c000000b00dc6185d4494sm167645ybc.6.2024.03.15.12.01.21
 (version=TLS1_2 cipher=ECDHE-ECDSA-AES128-GCM-SHA256 bits=128/128);
 Fri, 15 Mar 2024 12:01:21 -0700 (PDT)
X-Relaying-Domain: iol.unh.edu
Date: Fri, 15 Mar 2024 12:01:21 -0700 (PDT)
Message-ID: <65f49b01.250a0220.3012d.bed4SMTPIN_ADDED_MISSING@mx.google.com>
Received: from [172.17.0.9] (unknown [172.18.0.217])
 by postal.iol.unh.edu (Postfix) with ESMTP id 28ABB6052471;
 Fri, 15 Mar 2024 15:01:21 -0400 (EDT)
Subject: |SUCCESS| pw138308-138328 [PATCH] [v5,21/21] test/security: add out 
From: dpdklab@iol.unh.edu
To: Test Report <test-report@dpdk.org>
Cc: dpdk-test-reports@iol.unh.edu
In-Reply-To: <20240313105901.1959675-22-asasidharan@marvell.com>
References: <20240313105901.1959675-22-asasidharan@marvell.com>
Content-Type: text/plain
X-BeenThere: test-report@dpdk.org
X-Mailman-Version: 2.1.29
Precedence: list
List-Id: automatic DPDK test reports <test-report.dpdk.org>
List-Unsubscribe: <https://mails.dpdk.org/options/test-report>,
 <mailto:test-report-request@dpdk.org?subject=unsubscribe>
List-Archive: <http://mails.dpdk.org/archives/test-report/>
List-Post: <mailto:test-report@dpdk.org>
List-Help: <mailto:test-report-request@dpdk.org?subject=help>
List-Subscribe: <https://mails.dpdk.org/listinfo/test-report>,
 <mailto:test-report-request@dpdk.org?subject=subscribe>
Errors-To: test-report-bounces@dpdk.org

Test-Label: iol-unit-amd64-testing
Test-Status: SUCCESS
http://dpdk.org/patch/138328

_Testing PASS_

Submitter: Aakash Sasidharan <asasidharan@marvell.com>
Date: Wednesday, March 13 2024 10:59:01 
DPDK git baseline: Repo:dpdk
  Branch: master
  CommitID:a86f381b826660e88794754c41d3aec79ce9b87c

138308-138328 --> testing pass

Test environment and result as below:

+---------------------+----------------+
|     Environment     | dpdk_unit_test |
+=====================+================+
| CentOS Stream 8     | PASS           |
+---------------------+----------------+
| Debian Bullseye     | PASS           |
+---------------------+----------------+
| CentOS Stream 9     | PASS           |
+---------------------+----------------+
| Debian 12 (arm)     | PASS           |
+---------------------+----------------+
| Ubuntu 22.04        | PASS           |
+---------------------+----------------+
| Fedora 37           | PASS           |
+---------------------+----------------+
| openSUSE Leap 15    | PASS           |
+---------------------+----------------+
| Fedora 38           | PASS           |
+---------------------+----------------+
| Windows Server 2019 | PASS           |
+---------------------+----------------+
| Ubuntu 20.04        | PASS           |
+---------------------+----------------+
| RHEL8               | PASS           |
+---------------------+----------------+
| Windows Server 2022 | PASS           |
+---------------------+----------------+


CentOS Stream 8
	Kernel: 4.18.0-240.10.1.el8_3.x86_64
	Compiler: gcc 8.4.1 20200928

Debian Bullseye
	Kernel: 5.4.0-122-generic
	Compiler: gcc 10.2.1-6

CentOS Stream 9
	Kernel: 4.18.0-240.10.1.el8_3.x86_64
	Compiler: gcc 11.3.1 20220421

Debian 12 (arm)
	Kernel: Container Host Kernel
	Compiler: gcc 11

Ubuntu 22.04
	Kernel: 4.18.0-240.10.1.el8_3.x86_64
	Compiler: gcc 11.3.0

Fedora 37
	Kernel: Depends on container host system
	Compiler: gcc 12.3.1

openSUSE Leap 15
	Kernel: 4.18.0-240.10.1.el8_3.x86_64
	Compiler: gcc 7.5.0

Fedora 38
	Kernel: Depends on container host
	Compiler: gcc 13.1.1

Windows Server 2019
	Kernel: 10.0
	Compiler: clang 14.0 and gcc 8.1.0 (MinGW)

Ubuntu 20.04
	Kernel: 5.4.0-153-generic
	Compiler: gcc 9.4.0-1ubuntu1~20.04.1

RHEL8
	Kernel: 4.18.0-240.10.1.el8_3.x86_64
	Compiler: gcc 8.3.1 20191121 (Red Hat 8.3.1-5)

Windows Server 2022
	Kernel: OS Build 20348.2031
	Compiler: clang 15.0.7, gcc 8.1.0 (MinGW), and MSVC VS 17.9

To view detailed results, visit:
https://lab.dpdk.org/results/dashboard/patchsets/29533/

UNH-IOL DPDK Community Lab

To manage your email subscriptions, visit: 
https://lab.dpdk.org/results/dashboard/preferences/subscriptions/