From mboxrd@z Thu Jan  1 00:00:00 1970
Return-Path: <test-report-bounces@dpdk.org>
Received: from mails.dpdk.org (mails.dpdk.org [217.70.189.124])
	by inbox.dpdk.org (Postfix) with ESMTP id 0A27443CBD
	for <public@inbox.dpdk.org>; Fri, 15 Mar 2024 20:05:24 +0100 (CET)
Received: from mails.dpdk.org (localhost [127.0.0.1])
	by mails.dpdk.org (Postfix) with ESMTP id E086142ED0;
	Fri, 15 Mar 2024 20:05:23 +0100 (CET)
Received: from mail-oo1-f97.google.com (mail-oo1-f97.google.com
 [209.85.161.97]) by mails.dpdk.org (Postfix) with ESMTP id 259A0402DD
 for <test-report@dpdk.org>; Fri, 15 Mar 2024 20:05:22 +0100 (CET)
Received: by mail-oo1-f97.google.com with SMTP id
 006d021491bc7-5a46ebc0f49so791020eaf.0
 for <test-report@dpdk.org>; Fri, 15 Mar 2024 12:05:22 -0700 (PDT)
DKIM-Signature: v=1; a=rsa-sha256; c=relaxed/relaxed;
 d=iol.unh.edu; s=unh-iol; t=1710529521; x=1711134321; darn=dpdk.org;
 h=references:in-reply-to:cc:to:from:subject:message-id:date:from:to
 :cc:subject:date:message-id:reply-to;
 bh=SWf63iicOWj4RIqb76cEblZCYbaR2QS4hgmzj6qDKTs=;
 b=Ff7eUCI0z2Rpy8rrQqKMq54fyTSqDdf//XyC4O4UWLWRKSAqy1ZyoNYfqyHcfkZMVn
 5JJoIrB/5x0yf88t8X2+1VaCnxTp69FkSQk6VV9hrY588pu7zlfXRhs3LqAVKuOlH198
 syEOMYZkvfz5/GThjKgkNPJm0VNH47dijn+ws=
X-Google-DKIM-Signature: v=1; a=rsa-sha256; c=relaxed/relaxed;
 d=1e100.net; s=20230601; t=1710529521; x=1711134321;
 h=references:in-reply-to:cc:to:from:subject:message-id:date
 :x-gm-message-state:from:to:cc:subject:date:message-id:reply-to;
 bh=SWf63iicOWj4RIqb76cEblZCYbaR2QS4hgmzj6qDKTs=;
 b=qT1Zq7C/PGR/O0AiZRjaIa1SzovIenvpR6OdwiUhl5wZx7U6lSWSNb7rR9wRkjmOmT
 M81uQctcP5vZgusxWQyDxSsMgE5SxxdUGzaN7i+/VWJd2ayU4lAqvgcotC3/QDgCGX0c
 ej6dlrVmYWrceScHsnqIHjrI+rUTyLCeP2yuR+dLWiYUzEtjfpcrj+rnr9w817F9Ow6d
 88pb2YhZruy3iar3yFxyjYSB6AKnWVRr4o8IhKAPZfQKXdWqF0q/1Bv388v7uuAT858E
 VTs4ZVHmz/R1gO3ucKX73kbEoBcZ9NoLua8TugswTKT7bl4syzAy+QRT9kOJIKg8L84f
 wS/w==
X-Gm-Message-State: AOJu0YyT1V5cLHAm/D6NAwY6uo+DqtPDjNe4A9GeisEQ8bsicZRJaR8C
 Aq/1x78dL2n1a82zAB5JyBfCsp+sJOSLWTjRkDYr9GBhbeb8tw8LmaxZHvAl47fQA7fsXOm05df
 3D31GX97hLaqyiDck6ox5ceh1S92vFWolar5BKw8t
X-Google-Smtp-Source: AGHT+IGJ9E6QDv3r2hFYpsIgf5DjzZJjvh8+u+qnsqtYwL9+z/jSbvRsvvEaidfssj9ihBhwBVjg1/iqcDuz
X-Received: by 2002:a4a:ee84:0:b0:5a4:852f:4c08 with SMTP id
 dk4-20020a4aee84000000b005a4852f4c08mr1252863oob.4.1710529521424; 
 Fri, 15 Mar 2024 12:05:21 -0700 (PDT)
Received: from postal.iol.unh.edu (postal.iol.unh.edu. [132.177.123.84])
 by smtp-relay.gmail.com with ESMTPS id
 x5-20020a4aaa05000000b005a1df2ae869sm114802oom.9.2024.03.15.12.05.21
 (version=TLS1_2 cipher=ECDHE-ECDSA-AES128-GCM-SHA256 bits=128/128);
 Fri, 15 Mar 2024 12:05:21 -0700 (PDT)
X-Relaying-Domain: iol.unh.edu
Date: Fri, 15 Mar 2024 12:05:21 -0700 (PDT)
Message-ID: <65f49bf1.4a0a0220.2a4b5.7a6cSMTPIN_ADDED_MISSING@mx.google.com>
Received: from [172.17.0.8] (unknown [172.18.0.217])
 by postal.iol.unh.edu (Postfix) with ESMTP id F2E336052471;
 Fri, 15 Mar 2024 15:05:20 -0400 (EDT)
Subject: |SUCCESS| pw138308-138328 [PATCH] [v5,21/21] test/security: add out 
From: dpdklab@iol.unh.edu
To: Test Report <test-report@dpdk.org>
Cc: dpdk-test-reports@iol.unh.edu
In-Reply-To: <20240313105901.1959675-22-asasidharan@marvell.com>
References: <20240313105901.1959675-22-asasidharan@marvell.com>
Content-Type: text/plain
X-BeenThere: test-report@dpdk.org
X-Mailman-Version: 2.1.29
Precedence: list
List-Id: automatic DPDK test reports <test-report.dpdk.org>
List-Unsubscribe: <https://mails.dpdk.org/options/test-report>,
 <mailto:test-report-request@dpdk.org?subject=unsubscribe>
List-Archive: <http://mails.dpdk.org/archives/test-report/>
List-Post: <mailto:test-report@dpdk.org>
List-Help: <mailto:test-report-request@dpdk.org?subject=help>
List-Subscribe: <https://mails.dpdk.org/listinfo/test-report>,
 <mailto:test-report-request@dpdk.org?subject=subscribe>
Errors-To: test-report-bounces@dpdk.org

Test-Label: iol-unit-arm64-testing
Test-Status: SUCCESS
http://dpdk.org/patch/138328

_Testing PASS_

Submitter: Aakash Sasidharan <asasidharan@marvell.com>
Date: Wednesday, March 13 2024 10:59:01 
DPDK git baseline: Repo:dpdk
  Branch: master
  CommitID:a86f381b826660e88794754c41d3aec79ce9b87c

138308-138328 --> testing pass

Test environment and result as below:

+--------------------------+----------------+---------------------------+------------------------------+--------------+
|       Environment        | dpdk_unit_test | cryptodev_sw_zuc_autotest | cryptodev_sw_snow3g_autotest | lpm_autotest |
+==========================+================+===========================+==============================+==============+
| Debian 11 (Buster) (ARM) | PASS           | SKIPPED                   | SKIPPED                      | SKIPPED      |
+--------------------------+----------------+---------------------------+------------------------------+--------------+
| Fedora 37 (ARM)          | PASS           | SKIPPED                   | SKIPPED                      | SKIPPED      |
+--------------------------+----------------+---------------------------+------------------------------+--------------+
| Debian 12 (arm)          | PASS           | PASS                      | PASS                         | SKIPPED      |
+--------------------------+----------------+---------------------------+------------------------------+--------------+
| CentOS Stream 9 (ARM)    | PASS           | SKIPPED                   | SKIPPED                      | SKIPPED      |
+--------------------------+----------------+---------------------------+------------------------------+--------------+
| Fedora 38 (ARM)          | PASS           | SKIPPED                   | SKIPPED                      | SKIPPED      |
+--------------------------+----------------+---------------------------+------------------------------+--------------+
| Ubuntu 20.04 (ARM)       | PASS           | SKIPPED                   | SKIPPED                      | SKIPPED      |
+--------------------------+----------------+---------------------------+------------------------------+--------------+
| Fedora 38 (ARM Clang)    | PASS           | SKIPPED                   | SKIPPED                      | SKIPPED      |
+--------------------------+----------------+---------------------------+------------------------------+--------------+
| Ubuntu 20.04 ARM SVE     | SKIPPED        | SKIPPED                   | SKIPPED                      | PASS         |
+--------------------------+----------------+---------------------------+------------------------------+--------------+


Debian 11 (Buster) (ARM)
	Kernel: Container Host Kernel
	Compiler: gcc 10.2.1

Fedora 37 (ARM)
	Kernel: Depends on container host
	Compiler: gcc 12.3.1

Debian 12 (arm)
	Kernel: Container Host Kernel
	Compiler: gcc 11

CentOS Stream 9 (ARM)
	Kernel: Container Host Kernel
	Compiler: gcc 11.3.1

Fedora 38 (ARM)
	Kernel: Depends on container host
	Compiler: gcc 13.1.1

Ubuntu 20.04 (ARM)
	Kernel: Container Host Kernel
	Compiler: gcc 9.4.0

Fedora 38 (ARM Clang)
	Kernel: Depends on container host
	Compiler: clang 16.0.3

Ubuntu 20.04 ARM SVE
	Kernel: 5.4.0-80-generic
	Compiler: gcc 10.3.0 (Ubuntu 10.3.0-1ubuntu1~20.04)

To view detailed results, visit:
https://lab.dpdk.org/results/dashboard/patchsets/29533/

UNH-IOL DPDK Community Lab

To manage your email subscriptions, visit: 
https://lab.dpdk.org/results/dashboard/preferences/subscriptions/