From mboxrd@z Thu Jan  1 00:00:00 1970
Return-Path: <test-report-bounces@dpdk.org>
Received: from mails.dpdk.org (mails.dpdk.org [217.70.189.124])
	by inbox.dpdk.org (Postfix) with ESMTP id CFE9143CBD
	for <public@inbox.dpdk.org>; Fri, 15 Mar 2024 20:53:59 +0100 (CET)
Received: from mails.dpdk.org (localhost [127.0.0.1])
	by mails.dpdk.org (Postfix) with ESMTP id AD85F402C3;
	Fri, 15 Mar 2024 20:53:59 +0100 (CET)
Received: from mail-io1-f97.google.com (mail-io1-f97.google.com
 [209.85.166.97]) by mails.dpdk.org (Postfix) with ESMTP id 1EA88402BC
 for <test-report@dpdk.org>; Fri, 15 Mar 2024 20:53:58 +0100 (CET)
Received: by mail-io1-f97.google.com with SMTP id
 ca18e2360f4ac-7c8da31632aso73932339f.3
 for <test-report@dpdk.org>; Fri, 15 Mar 2024 12:53:58 -0700 (PDT)
DKIM-Signature: v=1; a=rsa-sha256; c=relaxed/relaxed;
 d=iol.unh.edu; s=unh-iol; t=1710532437; x=1711137237; darn=dpdk.org;
 h=references:in-reply-to:cc:to:from:subject:message-id:date:from:to
 :cc:subject:date:message-id:reply-to;
 bh=36u0YB9luiVF9k67SSEr/P30an8d+s1qP7Lzz3wrctM=;
 b=EFXtgw+vOZ6WilvK4+k1low1Pexv7WW/RLRQAq8tFUNiUIyeiZIb0G324jK7sMghi9
 RTg+K+oAKuu14/y7m/Whb+bCXkFudONK3DQb2x9ct/eD0eIneOtPLNJjVeT1CerRLB5t
 O4Qs+khO/9Z+QSoXBnVgEAUavEKOtoLkt2+aE=
X-Google-DKIM-Signature: v=1; a=rsa-sha256; c=relaxed/relaxed;
 d=1e100.net; s=20230601; t=1710532437; x=1711137237;
 h=references:in-reply-to:cc:to:from:subject:message-id:date
 :x-gm-message-state:from:to:cc:subject:date:message-id:reply-to;
 bh=36u0YB9luiVF9k67SSEr/P30an8d+s1qP7Lzz3wrctM=;
 b=vuCaSGC6pxkgHV/pV3pE64PECU5mHPZVhUn7QOpbryL05FbwkCfReunDW+AHQf3ji6
 hLXXodj9NuvfJChlZYpELTztBEnWVJrUxbaDy1QbGuD2w02vP/oXL//ECC5Zptlbn0dY
 Af70WShvuSrFVHdcFuZTkr1eYRrL9t2P2MrfZOf+6Cg02hFGg7U8j4IrYkvFxZqd0R46
 yku4+tgCZPsLLZVu3ivD+aSeURaYVr0ZwMk2tS7Q47plzJ/Rq3kxWxt1x4V6W2cTsLdp
 cGNRIYyx+4T2Enf5TV9w5F+yeH2Lgf4AjwDo5O3WnuK7nFD4NbuPX5TRTXEejfl1viTn
 5Uhg==
X-Gm-Message-State: AOJu0YwU6BoQynQXBlgj06uH7abGOVsQA49fkfUE9J+7BQYEdTVov1dn
 TIcqfFFTCK56RGJPwbDHk6UDI1/xchrdsggRAjyoF+7j9GZ9ihZZOoUEvkbC91Uq86OL9SsinZt
 lc66AV0Juad/XV/eyfe92AQ5UtyaZLjRY0Zde9mPHQehmDZU9sGjPxQR6
X-Google-Smtp-Source: AGHT+IFitXIID+51cXS6tmMV3FENv8BHqlEX/Qd2UKLwGxyTdtNIm69fXSwbNlDbfixPAR7LYymkiHEEVdfo
X-Received: by 2002:a05:6602:65ce:b0:7c8:ad03:2825 with SMTP id
 gw14-20020a05660265ce00b007c8ad032825mr6088206iob.9.1710532437476; 
 Fri, 15 Mar 2024 12:53:57 -0700 (PDT)
Received: from postal.iol.unh.edu (postal.iol.unh.edu.
 [2606:4100:3880:1234::84]) by smtp-relay.gmail.com with ESMTPS id
 s5-20020a02c505000000b004772583e77csm128623jam.27.2024.03.15.12.53.57
 (version=TLS1_2 cipher=ECDHE-ECDSA-AES128-GCM-SHA256 bits=128/128);
 Fri, 15 Mar 2024 12:53:57 -0700 (PDT)
X-Relaying-Domain: iol.unh.edu
Date: Fri, 15 Mar 2024 12:53:57 -0700 (PDT)
Message-ID: <65f4a755.020a0220.d3e6e.95b0SMTPIN_ADDED_MISSING@mx.google.com>
Received: from [172.17.0.6] (unknown [172.18.0.217])
 by postal.iol.unh.edu (Postfix) with ESMTP id F08CE6052471;
 Fri, 15 Mar 2024 15:53:56 -0400 (EDT)
Subject: |SUCCESS| pw138212-138216 [PATCH] [v6,5/5] crypto/ipsec_mb: unify so
From: dpdklab@iol.unh.edu
To: Test Report <test-report@dpdk.org>
Cc: dpdk-test-reports@iol.unh.edu
In-Reply-To: <20240312135020.2969533-5-brian.dooley@intel.com>
References: <20240312135020.2969533-5-brian.dooley@intel.com>
Content-Type: text/plain
X-BeenThere: test-report@dpdk.org
X-Mailman-Version: 2.1.29
Precedence: list
List-Id: automatic DPDK test reports <test-report.dpdk.org>
List-Unsubscribe: <https://mails.dpdk.org/options/test-report>,
 <mailto:test-report-request@dpdk.org?subject=unsubscribe>
List-Archive: <http://mails.dpdk.org/archives/test-report/>
List-Post: <mailto:test-report@dpdk.org>
List-Help: <mailto:test-report-request@dpdk.org?subject=help>
List-Subscribe: <https://mails.dpdk.org/listinfo/test-report>,
 <mailto:test-report-request@dpdk.org?subject=subscribe>
Errors-To: test-report-bounces@dpdk.org

Test-Label: iol-unit-amd64-testing
Test-Status: SUCCESS
http://dpdk.org/patch/138216

_Testing PASS_

Submitter: Brian Dooley <brian.dooley@intel.com>
Date: Tuesday, March 12 2024 13:50:19 
DPDK git baseline: Repo:dpdk
  Branch: master
  CommitID:a86f381b826660e88794754c41d3aec79ce9b87c

138212-138216 --> testing pass

Test environment and result as below:

+---------------------+----------------+
|     Environment     | dpdk_unit_test |
+=====================+================+
| CentOS Stream 8     | PASS           |
+---------------------+----------------+
| Debian 12 (arm)     | PASS           |
+---------------------+----------------+
| CentOS Stream 9     | PASS           |
+---------------------+----------------+
| Debian Bullseye     | PASS           |
+---------------------+----------------+
| Fedora 37           | PASS           |
+---------------------+----------------+
| RHEL8               | PASS           |
+---------------------+----------------+
| Windows Server 2019 | PASS           |
+---------------------+----------------+
| Fedora 38           | PASS           |
+---------------------+----------------+
| Ubuntu 20.04        | PASS           |
+---------------------+----------------+
| openSUSE Leap 15    | PASS           |
+---------------------+----------------+
| Ubuntu 22.04        | PASS           |
+---------------------+----------------+
| Windows Server 2022 | PASS           |
+---------------------+----------------+


CentOS Stream 8
	Kernel: 4.18.0-240.10.1.el8_3.x86_64
	Compiler: gcc 8.4.1 20200928

Debian 12 (arm)
	Kernel: Container Host Kernel
	Compiler: gcc 11

CentOS Stream 9
	Kernel: 4.18.0-240.10.1.el8_3.x86_64
	Compiler: gcc 11.3.1 20220421

Debian Bullseye
	Kernel: 5.4.0-122-generic
	Compiler: gcc 10.2.1-6

Fedora 37
	Kernel: Depends on container host system
	Compiler: gcc 12.3.1

RHEL8
	Kernel: 4.18.0-240.10.1.el8_3.x86_64
	Compiler: gcc 8.3.1 20191121 (Red Hat 8.3.1-5)

Windows Server 2019
	Kernel: 10.0
	Compiler: clang 14.0 and gcc 8.1.0 (MinGW)

Fedora 38
	Kernel: Depends on container host
	Compiler: gcc 13.1.1

Ubuntu 20.04
	Kernel: 5.4.0-153-generic
	Compiler: gcc 9.4.0-1ubuntu1~20.04.1

openSUSE Leap 15
	Kernel: 4.18.0-240.10.1.el8_3.x86_64
	Compiler: gcc 7.5.0

Ubuntu 22.04
	Kernel: 4.18.0-240.10.1.el8_3.x86_64
	Compiler: gcc 11.3.0

Windows Server 2022
	Kernel: OS Build 20348.2031
	Compiler: clang 15.0.7, gcc 8.1.0 (MinGW), and MSVC VS 17.9

To view detailed results, visit:
https://lab.dpdk.org/results/dashboard/patchsets/29516/

UNH-IOL DPDK Community Lab

To manage your email subscriptions, visit: 
https://lab.dpdk.org/results/dashboard/preferences/subscriptions/