From mboxrd@z Thu Jan 1 00:00:00 1970 Return-Path: Received: from mails.dpdk.org (mails.dpdk.org [217.70.189.124]) by inbox.dpdk.org (Postfix) with ESMTP id EFFC743CBD for ; Fri, 15 Mar 2024 21:39:00 +0100 (CET) Received: from mails.dpdk.org (localhost [127.0.0.1]) by mails.dpdk.org (Postfix) with ESMTP id D3759402C9; Fri, 15 Mar 2024 21:39:00 +0100 (CET) Received: from mail-io1-f97.google.com (mail-io1-f97.google.com [209.85.166.97]) by mails.dpdk.org (Postfix) with ESMTP id C84844027B for ; Fri, 15 Mar 2024 21:38:59 +0100 (CET) Received: by mail-io1-f97.google.com with SMTP id ca18e2360f4ac-7cbf307213fso50833839f.0 for ; Fri, 15 Mar 2024 13:38:59 -0700 (PDT) DKIM-Signature: v=1; a=rsa-sha256; c=relaxed/relaxed; d=iol.unh.edu; s=unh-iol; t=1710535139; x=1711139939; darn=dpdk.org; h=references:in-reply-to:cc:to:from:subject:message-id:date:from:to :cc:subject:date:message-id:reply-to; bh=OunGj9Ftp74o0A2CYYmbjuZ/lzwr2qjDMr5GrqB8xjk=; b=Qdlt3q8Etc3JiYcpvSJvJ3UkfUwo7pfmr+wJ99tKBCPXNdKSSYIZ5bTfiXhxuJw7OE GfTLPB+2ikOTOzVB1wtLZ32MyyI6KwnfkD/tGpGsOpTTbX7Wo+I2tAUL50RxhBSNbdNx eb5lBY4KbQ92UFAJAl7wYfeVD96RqAE0IYIqg= X-Google-DKIM-Signature: v=1; a=rsa-sha256; c=relaxed/relaxed; d=1e100.net; s=20230601; t=1710535139; x=1711139939; h=references:in-reply-to:cc:to:from:subject:message-id:date :x-gm-message-state:from:to:cc:subject:date:message-id:reply-to; bh=OunGj9Ftp74o0A2CYYmbjuZ/lzwr2qjDMr5GrqB8xjk=; b=kqI6Cn3TERxWktPRtaZC7DsRGfiSVjECrmsbjuxiw6qCP+Pk7dHT/+PhtJvqP2cJQn XyNbEl2v7BLlSEPmK1CUPFA772MGzJxlxUHuOq6Aux1sCPXSJWxeJapf/hhAIimntMPG ZmI7qSbLzL2BG8uTaYH32/Yg2lySYpi1ZPr8+XBnZzKkHI45Kq4F+fhX3fqkafz2XjjO SjQV63tEKqiUhaBULh7RZBPdF11fCeKln+tDUXnp1v5IhGvmACWQlZvQw7AWJmT41kCq O7a791RHhsi9VjBdkNUi8gUeL2I0Roe39mUUzsv4GWXw5dlft4kbhfWPzpx6tMq+mZDm pq+A== X-Gm-Message-State: AOJu0YwBbfYO3iuBS+BgkVxH/saR5jlgq2D0T9IE17LV/Ra8FVH411P2 /eaVPVdDY1b27oWqyT1PTcT2+4rk1hGn/YGvCiCnk8UCV4RtEVLhQD9gcCueJjisNDZ7gQOFl/D WmehOTc6KETqOs+snSQ/pKS/C/39B7thYCYEikZH79wfalH2aoFpiK4Td X-Google-Smtp-Source: AGHT+IFunNAsBcly5aHl1QWk5DpojDr/BUH40iOXnSWNDtAHhBChImng0+a4e3sDtwvSBKako+S1t1Ai2wRr X-Received: by 2002:a5d:950e:0:b0:7ca:f5e1:a589 with SMTP id d14-20020a5d950e000000b007caf5e1a589mr4828534iom.3.1710535139172; Fri, 15 Mar 2024 13:38:59 -0700 (PDT) Received: from postal.iol.unh.edu (postal.iol.unh.edu. [2606:4100:3880:1234::84]) by smtp-relay.gmail.com with ESMTPS id h10-20020a056638062a00b00474e91d2ca2sm125140jar.18.2024.03.15.13.38.59 (version=TLS1_2 cipher=ECDHE-ECDSA-AES128-GCM-SHA256 bits=128/128); Fri, 15 Mar 2024 13:38:59 -0700 (PDT) X-Relaying-Domain: iol.unh.edu Date: Fri, 15 Mar 2024 13:38:59 -0700 (PDT) Message-ID: <65f4b1e3.050a0220.a1b8d.8fe8SMTPIN_ADDED_MISSING@mx.google.com> Received: from [172.17.0.8] (unknown [172.18.0.217]) by postal.iol.unh.edu (Postfix) with ESMTP id A66956052471; Fri, 15 Mar 2024 16:38:58 -0400 (EDT) Subject: |SUCCESS| pw137997-138000 [PATCH] [v5,4/4] crypto/ipsec_mb: unified From: dpdklab@iol.unh.edu To: Test Report Cc: dpdk-test-reports@iol.unh.edu In-Reply-To: <20240305174227.1785111-4-brian.dooley@intel.com> References: <20240305174227.1785111-4-brian.dooley@intel.com> Content-Type: text/plain X-BeenThere: test-report@dpdk.org X-Mailman-Version: 2.1.29 Precedence: list List-Id: automatic DPDK test reports List-Unsubscribe: , List-Archive: List-Post: List-Help: List-Subscribe: , Errors-To: test-report-bounces@dpdk.org Test-Label: iol-unit-arm64-testing Test-Status: SUCCESS http://dpdk.org/patch/138000 _Testing PASS_ Submitter: Brian Dooley Date: Tuesday, March 05 2024 17:42:27 DPDK git baseline: Repo:dpdk Branch: master CommitID:240fcef51bceb527c624a2329ca1e3030fbd64db 137997-138000 --> testing pass Test environment and result as below: +--------------------------+----------------+------------------------------+---------------------------+--------------+ | Environment | dpdk_unit_test | cryptodev_sw_snow3g_autotest | cryptodev_sw_zuc_autotest | lpm_autotest | +==========================+================+==============================+===========================+==============+ | Debian 11 (Buster) (ARM) | PASS | SKIPPED | SKIPPED | SKIPPED | +--------------------------+----------------+------------------------------+---------------------------+--------------+ | Debian 12 (arm) | PASS | PASS | PASS | SKIPPED | +--------------------------+----------------+------------------------------+---------------------------+--------------+ | CentOS Stream 9 (ARM) | PASS | SKIPPED | SKIPPED | SKIPPED | +--------------------------+----------------+------------------------------+---------------------------+--------------+ | Ubuntu 20.04 (ARM) | PASS | SKIPPED | SKIPPED | SKIPPED | +--------------------------+----------------+------------------------------+---------------------------+--------------+ | Fedora 37 (ARM) | PASS | SKIPPED | SKIPPED | SKIPPED | +--------------------------+----------------+------------------------------+---------------------------+--------------+ | Fedora 38 (ARM Clang) | PASS | SKIPPED | SKIPPED | SKIPPED | +--------------------------+----------------+------------------------------+---------------------------+--------------+ | Fedora 38 (ARM) | PASS | SKIPPED | SKIPPED | SKIPPED | +--------------------------+----------------+------------------------------+---------------------------+--------------+ | Ubuntu 20.04 ARM SVE | SKIPPED | SKIPPED | SKIPPED | PASS | +--------------------------+----------------+------------------------------+---------------------------+--------------+ Debian 11 (Buster) (ARM) Kernel: Container Host Kernel Compiler: gcc 10.2.1 Debian 12 (arm) Kernel: Container Host Kernel Compiler: gcc 11 CentOS Stream 9 (ARM) Kernel: Container Host Kernel Compiler: gcc 11.3.1 Ubuntu 20.04 (ARM) Kernel: Container Host Kernel Compiler: gcc 9.4.0 Fedora 37 (ARM) Kernel: Depends on container host Compiler: gcc 12.3.1 Fedora 38 (ARM Clang) Kernel: Depends on container host Compiler: clang 16.0.3 Fedora 38 (ARM) Kernel: Depends on container host Compiler: gcc 13.1.1 Ubuntu 20.04 ARM SVE Kernel: 5.4.0-80-generic Compiler: gcc 10.3.0 (Ubuntu 10.3.0-1ubuntu1~20.04) To view detailed results, visit: https://lab.dpdk.org/results/dashboard/patchsets/29424/ UNH-IOL DPDK Community Lab To manage your email subscriptions, visit: https://lab.dpdk.org/results/dashboard/preferences/subscriptions/