From mboxrd@z Thu Jan  1 00:00:00 1970
Return-Path: <test-report-bounces@dpdk.org>
Received: from mails.dpdk.org (mails.dpdk.org [217.70.189.124])
	by inbox.dpdk.org (Postfix) with ESMTP id B7F3C43B85
	for <public@inbox.dpdk.org>; Sat, 16 Mar 2024 07:04:03 +0100 (CET)
Received: from mails.dpdk.org (localhost [127.0.0.1])
	by mails.dpdk.org (Postfix) with ESMTP id B1C0F4026F;
	Sat, 16 Mar 2024 07:04:03 +0100 (CET)
Received: from mail-il1-f227.google.com (mail-il1-f227.google.com
 [209.85.166.227])
 by mails.dpdk.org (Postfix) with ESMTP id 26BAB40266
 for <test-report@dpdk.org>; Sat, 16 Mar 2024 07:03:13 +0100 (CET)
Received: by mail-il1-f227.google.com with SMTP id
 e9e14a558f8ab-3669fadea18so4720315ab.0
 for <test-report@dpdk.org>; Fri, 15 Mar 2024 23:03:13 -0700 (PDT)
DKIM-Signature: v=1; a=rsa-sha256; c=relaxed/relaxed;
 d=iol.unh.edu; s=unh-iol; t=1710568992; x=1711173792; darn=dpdk.org;
 h=references:in-reply-to:cc:to:from:subject:message-id:date:from:to
 :cc:subject:date:message-id:reply-to;
 bh=PMPrbnEz5MDi5+afNl4NLQp51O4ZDzzsZlQU2kFIZDQ=;
 b=ItRHF0+oKHcE2uFPawJdjUaCbB9pxn+bgKcoubUs/MkcmpT11WDpbFh+JIjmFNTmGK
 qwzhLbgDMvlj1qxuD2egognkMDnAS9osCua/IPX5PRWRVgL/3/hqau0OYBcVhrQhE+bv
 VlW11z5s9C7/M/2KJGHqPp6O53ht8CPVcU7aE=
X-Google-DKIM-Signature: v=1; a=rsa-sha256; c=relaxed/relaxed;
 d=1e100.net; s=20230601; t=1710568992; x=1711173792;
 h=references:in-reply-to:cc:to:from:subject:message-id:date
 :x-gm-message-state:from:to:cc:subject:date:message-id:reply-to;
 bh=PMPrbnEz5MDi5+afNl4NLQp51O4ZDzzsZlQU2kFIZDQ=;
 b=vYGhbXFxMN24BxygfXKbKl5SKub57N8Yynpaj33iruLmS1b047vozFZmh6vQcy2NBH
 3oIKumVDtReaNH6LljDkl4Lmel2jWE9CK6udLPb1dsQOZM68k76P5q9iNWzN8lVJ2NjI
 5JUCfi7gbhwt/9AJVUszjJWMaEX3fpvq5jFGLzhKMHEt3Fbl+6KwCEYmqGWjOcM+w99b
 Pb/+31AZBI9HiICMBBvN7GUheJJXJK8mfMRJ4C7v7vODmvBMqt5ZkgwGiQCtYifW3xnS
 zxK/oqs3/N5B5V7mA4fR+tlnh8frkAjcvdZh4ZPkcW2rYE3Vl6MKzdUd/9UywTCUVCb4
 ZwKA==
X-Gm-Message-State: AOJu0YwrFqmrITtP2cyXqH28679ZiPOO7gs9JXX+r3ls2IG18XYPrhdZ
 lDJ8pgTD1cWPfTDVDWiZm3EziSIuGFOiz7hBfcWlddg56ac+wxFOh+n/jtfc6rGOn0wYKEvoU6t
 Whkwlx0ySq+VlyPRIZhx6Pw3ejOewzCS/1TTKrGIE
X-Google-Smtp-Source: AGHT+IHygA2dffl4c2crTXb0Gvz91hm1RoKOXRe6YFNbeG1gi8/Rfp07eT/GaRoAhNjHsUW9i4ObQDovw1ph
X-Received: by 2002:a92:ddc8:0:b0:366:962b:909a with SMTP id
 d8-20020a92ddc8000000b00366962b909amr4210893ilr.6.1710568992652; 
 Fri, 15 Mar 2024 23:03:12 -0700 (PDT)
Received: from postal.iol.unh.edu (postal.iol.unh.edu. [132.177.123.84])
 by smtp-relay.gmail.com with ESMTPS id
 o4-20020a927304000000b003639ca5f397sm260730ilc.37.2024.03.15.23.03.12
 (version=TLS1_2 cipher=ECDHE-ECDSA-AES128-GCM-SHA256 bits=128/128);
 Fri, 15 Mar 2024 23:03:12 -0700 (PDT)
X-Relaying-Domain: iol.unh.edu
Date: Fri, 15 Mar 2024 23:03:12 -0700 (PDT)
Message-ID: <65f53620.920a0220.c3c87.26fdSMTPIN_ADDED_MISSING@mx.google.com>
Received: from [172.21.0.6] (unknown [172.18.0.240])
 by postal.iol.unh.edu (Postfix) with ESMTP id 2D89F6052471;
 Sat, 16 Mar 2024 02:03:12 -0400 (EDT)
Subject: |SUCCESS| pw138436-138437 [PATCH] [2/2] net/bnxt: fix init failures
From: dpdklab@iol.unh.edu
To: Test Report <test-report@dpdk.org>
Cc: dpdk-test-reports@iol.unh.edu
In-Reply-To: <20240316035441.76438-3-ajit.khaparde@broadcom.com>
References: <20240316035441.76438-3-ajit.khaparde@broadcom.com>
Content-Type: text/plain
X-BeenThere: test-report@dpdk.org
X-Mailman-Version: 2.1.29
Precedence: list
List-Id: automatic DPDK test reports <test-report.dpdk.org>
List-Unsubscribe: <https://mails.dpdk.org/options/test-report>,
 <mailto:test-report-request@dpdk.org?subject=unsubscribe>
List-Archive: <http://mails.dpdk.org/archives/test-report/>
List-Post: <mailto:test-report@dpdk.org>
List-Help: <mailto:test-report-request@dpdk.org?subject=help>
List-Subscribe: <https://mails.dpdk.org/listinfo/test-report>,
 <mailto:test-report-request@dpdk.org?subject=subscribe>
Errors-To: test-report-bounces@dpdk.org

Test-Label: iol-unit-arm64-testing
Test-Status: SUCCESS
http://dpdk.org/patch/138437

_Testing PASS_

Submitter: Ajit Khaparde <ajit.khaparde@broadcom.com>
Date: Saturday, March 16 2024 03:54:41 
DPDK git baseline: Repo:dpdk
  Branch: master
  CommitID:7f82e9c89f3514715533feb34f46ff1ea95c6f98

138436-138437 --> testing pass

Test environment and result as below:

+--------------------------+------------------------------+---------------------------+----------------+
|       Environment        | cryptodev_sw_snow3g_autotest | cryptodev_sw_zuc_autotest | dpdk_unit_test |
+==========================+==============================+===========================+================+
| Debian 12 (arm)          | PASS                         | PASS                      | SKIPPED        |
+--------------------------+------------------------------+---------------------------+----------------+
| CentOS Stream 9 (ARM)    | SKIPPED                      | SKIPPED                   | PASS           |
+--------------------------+------------------------------+---------------------------+----------------+
| Fedora 37 (ARM)          | SKIPPED                      | SKIPPED                   | PASS           |
+--------------------------+------------------------------+---------------------------+----------------+
| Fedora 38 (ARM)          | SKIPPED                      | SKIPPED                   | PASS           |
+--------------------------+------------------------------+---------------------------+----------------+
| Debian 11 (Buster) (ARM) | SKIPPED                      | SKIPPED                   | PASS           |
+--------------------------+------------------------------+---------------------------+----------------+


Debian 12 (arm)
	Kernel: Container Host Kernel
	Compiler: gcc 11

CentOS Stream 9 (ARM)
	Kernel: Container Host Kernel
	Compiler: gcc 11.3.1

Fedora 37 (ARM)
	Kernel: Depends on container host
	Compiler: gcc 12.3.1

Fedora 38 (ARM)
	Kernel: Depends on container host
	Compiler: gcc 13.1.1

Debian 11 (Buster) (ARM)
	Kernel: Container Host Kernel
	Compiler: gcc 10.2.1

To view detailed results, visit:
https://lab.dpdk.org/results/dashboard/patchsets/29575/

UNH-IOL DPDK Community Lab

To manage your email subscriptions, visit: 
https://lab.dpdk.org/results/dashboard/preferences/subscriptions/