From mboxrd@z Thu Jan  1 00:00:00 1970
Return-Path: <test-report-bounces@dpdk.org>
Received: from mails.dpdk.org (mails.dpdk.org [217.70.189.124])
	by inbox.dpdk.org (Postfix) with ESMTP id 638E443B85
	for <public@inbox.dpdk.org>; Sat, 16 Mar 2024 07:11:03 +0100 (CET)
Received: from mails.dpdk.org (localhost [127.0.0.1])
	by mails.dpdk.org (Postfix) with ESMTP id 502FC402C9;
	Sat, 16 Mar 2024 07:11:03 +0100 (CET)
Received: from mail-il1-f228.google.com (mail-il1-f228.google.com
 [209.85.166.228])
 by mails.dpdk.org (Postfix) with ESMTP id 16F8D4026F
 for <test-report@dpdk.org>; Sat, 16 Mar 2024 07:11:00 +0100 (CET)
Received: by mail-il1-f228.google.com with SMTP id
 e9e14a558f8ab-366908647b3so9035825ab.0
 for <test-report@dpdk.org>; Fri, 15 Mar 2024 23:11:00 -0700 (PDT)
DKIM-Signature: v=1; a=rsa-sha256; c=relaxed/relaxed;
 d=iol.unh.edu; s=unh-iol; t=1710569459; x=1711174259; darn=dpdk.org;
 h=references:in-reply-to:cc:to:from:subject:message-id:date:from:to
 :cc:subject:date:message-id:reply-to;
 bh=vQK4H/Kg5ny8umkomVzvCZmw53MKgRfXbVNXtGAbmz0=;
 b=DjbmYScE8ilZ+fFAwuRnpCR8DKEhSwidenxsO+OkMP7N0SI8gmU6Ya52TYMqSR+cNK
 2qX2jaVW8ZvPkhGiBYCg4siT7ezMhHbmynFgGP7T6mtLI4R4PThzU+iPkmNSszCRWAin
 g7MCYBH+PQW0/GMIoB62MzROveKmB72Lg1Mwg=
X-Google-DKIM-Signature: v=1; a=rsa-sha256; c=relaxed/relaxed;
 d=1e100.net; s=20230601; t=1710569459; x=1711174259;
 h=references:in-reply-to:cc:to:from:subject:message-id:date
 :x-gm-message-state:from:to:cc:subject:date:message-id:reply-to;
 bh=vQK4H/Kg5ny8umkomVzvCZmw53MKgRfXbVNXtGAbmz0=;
 b=J3oW+t0SdDCfvezSfP/8RJ/UxRG13rlnXCZ2rvLcbCt/pglotMdxGvbOXdhHvhbWIb
 yIfzGJizfGQBeIiOkyqugI043emhY0nqctVRfzO0+oa1ISlUbql94uXtDNo9OARVxcBk
 3CNoPlm0fdQrhXvkg+8/RRmiO70moDPqIcyyE1ViQhMCZCGrsVnd9Mx2gsB3029+8TZA
 7YO/a3BssorZ7oIrEWK+VLQGi6vp+dPN/v6ZALUn5cGfBHlRZkXu2kCWLxwtk94qGr7s
 sujkhkWvjwOazwYUgZr1gfScbzWAV2aCO8hVxJo7LuNsNORHozO9NOP3dZYZXstsXSot
 iDyg==
X-Gm-Message-State: AOJu0Yx29VVNXdAlNSz0mOjgMEF9S8lOB1IjBuP1JKfwf9pkEfG+sncu
 CzBZCdravh9oVEM2YFxBfZzMhkDeq+kwFU1i8Zu012JCv+XYt4Xa9NpU2WAywM/7H8l1NrZ+Xh3
 AWekLjCslbRlANUOA4UB/EzNpmfMWhYW34AtM4GbM6uC/cF1qwmkGvjrQ
X-Google-Smtp-Source: AGHT+IH2wxocIi4tzY2XzVpZvQCCpnWdFSwRL0yoHGqSyawqLTboulmIbOYffQRamporoKPvpGUd7uMSVjyD
X-Received: by 2002:a92:d28d:0:b0:366:41b4:d9af with SMTP id
 p13-20020a92d28d000000b0036641b4d9afmr5675307ilp.1.1710569459479; 
 Fri, 15 Mar 2024 23:10:59 -0700 (PDT)
Received: from postal.iol.unh.edu (postal.iol.unh.edu.
 [2606:4100:3880:1234::84]) by smtp-relay.gmail.com with ESMTPS id
 u14-20020a05663825ce00b00477275f0f31sm156279jat.0.2024.03.15.23.10.59
 (version=TLS1_2 cipher=ECDHE-ECDSA-AES128-GCM-SHA256 bits=128/128);
 Fri, 15 Mar 2024 23:10:59 -0700 (PDT)
X-Relaying-Domain: iol.unh.edu
Date: Fri, 15 Mar 2024 23:10:59 -0700 (PDT)
Message-ID: <65f537f3.050a0220.4f726.bb16SMTPIN_ADDED_MISSING@mx.google.com>
Received: from [172.21.0.7] (unknown [172.18.0.240])
 by postal.iol.unh.edu (Postfix) with ESMTP id 068BC6052471;
 Sat, 16 Mar 2024 02:10:59 -0400 (EDT)
Subject: |SUCCESS| pw138436-138437 [PATCH] [2/2] net/bnxt: fix init failures
From: dpdklab@iol.unh.edu
To: Test Report <test-report@dpdk.org>
Cc: dpdk-test-reports@iol.unh.edu
In-Reply-To: <20240316035441.76438-3-ajit.khaparde@broadcom.com>
References: <20240316035441.76438-3-ajit.khaparde@broadcom.com>
Content-Type: text/plain
X-BeenThere: test-report@dpdk.org
X-Mailman-Version: 2.1.29
Precedence: list
List-Id: automatic DPDK test reports <test-report.dpdk.org>
List-Unsubscribe: <https://mails.dpdk.org/options/test-report>,
 <mailto:test-report-request@dpdk.org?subject=unsubscribe>
List-Archive: <http://mails.dpdk.org/archives/test-report/>
List-Post: <mailto:test-report@dpdk.org>
List-Help: <mailto:test-report-request@dpdk.org?subject=help>
List-Subscribe: <https://mails.dpdk.org/listinfo/test-report>,
 <mailto:test-report-request@dpdk.org?subject=subscribe>
Errors-To: test-report-bounces@dpdk.org

Test-Label: iol-unit-arm64-testing
Test-Status: SUCCESS
http://dpdk.org/patch/138437

_Testing PASS_

Submitter: Ajit Khaparde <ajit.khaparde@broadcom.com>
Date: Saturday, March 16 2024 03:54:41 
DPDK git baseline: Repo:dpdk
  Branch: master
  CommitID:7f82e9c89f3514715533feb34f46ff1ea95c6f98

138436-138437 --> testing pass

Test environment and result as below:

+--------------------------+------------------------------+---------------------------+----------------+
|       Environment        | cryptodev_sw_snow3g_autotest | cryptodev_sw_zuc_autotest | dpdk_unit_test |
+==========================+==============================+===========================+================+
| Debian 12 (arm)          | PASS                         | PASS                      | PASS           |
+--------------------------+------------------------------+---------------------------+----------------+
| CentOS Stream 9 (ARM)    | SKIPPED                      | SKIPPED                   | PASS           |
+--------------------------+------------------------------+---------------------------+----------------+
| Fedora 37 (ARM)          | SKIPPED                      | SKIPPED                   | PASS           |
+--------------------------+------------------------------+---------------------------+----------------+
| Fedora 38 (ARM)          | SKIPPED                      | SKIPPED                   | PASS           |
+--------------------------+------------------------------+---------------------------+----------------+
| Debian 11 (Buster) (ARM) | SKIPPED                      | SKIPPED                   | PASS           |
+--------------------------+------------------------------+---------------------------+----------------+


Debian 12 (arm)
	Kernel: Container Host Kernel
	Compiler: gcc 11

CentOS Stream 9 (ARM)
	Kernel: Container Host Kernel
	Compiler: gcc 11.3.1

Fedora 37 (ARM)
	Kernel: Depends on container host
	Compiler: gcc 12.3.1

Fedora 38 (ARM)
	Kernel: Depends on container host
	Compiler: gcc 13.1.1

Debian 11 (Buster) (ARM)
	Kernel: Container Host Kernel
	Compiler: gcc 10.2.1

To view detailed results, visit:
https://lab.dpdk.org/results/dashboard/patchsets/29575/

UNH-IOL DPDK Community Lab

To manage your email subscriptions, visit: 
https://lab.dpdk.org/results/dashboard/preferences/subscriptions/