From mboxrd@z Thu Jan  1 00:00:00 1970
Return-Path: <test-report-bounces@dpdk.org>
Received: from mails.dpdk.org (mails.dpdk.org [217.70.189.124])
	by inbox.dpdk.org (Postfix) with ESMTP id 7EDC943B85
	for <public@inbox.dpdk.org>; Sat, 16 Mar 2024 07:16:51 +0100 (CET)
Received: from mails.dpdk.org (localhost [127.0.0.1])
	by mails.dpdk.org (Postfix) with ESMTP id 7ACBA4026F;
	Sat, 16 Mar 2024 07:16:51 +0100 (CET)
Received: from mail-oa1-f98.google.com (mail-oa1-f98.google.com
 [209.85.160.98]) by mails.dpdk.org (Postfix) with ESMTP id 484D440266
 for <test-report@dpdk.org>; Sat, 16 Mar 2024 07:16:48 +0100 (CET)
Received: by mail-oa1-f98.google.com with SMTP id
 586e51a60fabf-21fed501addso1544774fac.2
 for <test-report@dpdk.org>; Fri, 15 Mar 2024 23:16:48 -0700 (PDT)
DKIM-Signature: v=1; a=rsa-sha256; c=relaxed/relaxed;
 d=iol.unh.edu; s=unh-iol; t=1710569807; x=1711174607; darn=dpdk.org;
 h=references:in-reply-to:cc:to:from:subject:message-id:date:from:to
 :cc:subject:date:message-id:reply-to;
 bh=GZZlY32RaHlZSl/7xagHn+z+qVSr/uX3xVMgxxTlz0Y=;
 b=G09h804h5bR7+ANa8NzCaYaS2lx/0SZA9oRipUWbkdRYSqORbSujzUCr+KcjE2cZpa
 QzQk+xoInbo8tBGu8HeK84VJJB+4NyeTjIFxmr7gRT49TNsK7FQos8icQw2aWdPvXSh2
 o7MWg3cbXEDItJmlDHxTwc5oRkLQo/3dU7DhU=
X-Google-DKIM-Signature: v=1; a=rsa-sha256; c=relaxed/relaxed;
 d=1e100.net; s=20230601; t=1710569807; x=1711174607;
 h=references:in-reply-to:cc:to:from:subject:message-id:date
 :x-gm-message-state:from:to:cc:subject:date:message-id:reply-to;
 bh=GZZlY32RaHlZSl/7xagHn+z+qVSr/uX3xVMgxxTlz0Y=;
 b=C7FWndPr9cTC+BeM82lWuKrYKsBQM7Mgn5WoJAmmsFeF0Fs8zKnhjzcx1V5QhfLt6Z
 tpGPsYeG60BIBOx6tgLZ2mW8xDjbjV0DmTPjgcfIXZODfkMyYzMDA2Kj6PSJQUqXa/Fv
 vGefIuJ6suLAHnMDKmF1bPzfcWYyzR+8gsHbBAivy/wu6yIkLCa5eC5B41i/BNE/zaGQ
 csIXwD/YRM0JhgtbkmwuHoQUoajUkGKPV+d52hLg90QwJT2IKvXY8uzh0cEMYMd7eNMy
 hQ5BECVTc6iOZ64OW8n9j0FIRoXPzL3qXoiIcRbnReuPwiXVN/46CkXcRCiYkcfnwDH4
 6i3Q==
X-Gm-Message-State: AOJu0YxMCXcn9D0qvGJQvwvvs51mWeo2XABmCHWiowa/QRW+kLVPdf1y
 j7OMydLJVfriess3d22h73U/16RYT+1pKaRi1eK6ddN8MxNtINDDCnwmnfggWYDcTL7bAjP78A4
 tKICHdKYPyGc7U+U1L9p9JPjE4vzpo6r4+LIi0ARBo858U/lz0axrW2UD
X-Google-Smtp-Source: AGHT+IG5GmvZ0bIjdubMuFl/271qlPptl8YLee1B+E3d3kssF568/D6S1qjwPSiB/ByJZQMqSqI+alXi5P0b
X-Received: by 2002:a05:6870:4308:b0:21f:9f20:31b7 with SMTP id
 w8-20020a056870430800b0021f9f2031b7mr7657272oah.1.1710569807627; 
 Fri, 15 Mar 2024 23:16:47 -0700 (PDT)
Received: from postal.iol.unh.edu (postal.iol.unh.edu.
 [2606:4100:3880:1234::84]) by smtp-relay.gmail.com with ESMTPS id
 24-20020a056870005800b002184499a13bsm96009oaz.3.2024.03.15.23.16.47
 (version=TLS1_2 cipher=ECDHE-ECDSA-AES128-GCM-SHA256 bits=128/128);
 Fri, 15 Mar 2024 23:16:47 -0700 (PDT)
X-Relaying-Domain: iol.unh.edu
Date: Fri, 15 Mar 2024 23:16:47 -0700 (PDT)
Message-ID: <65f5394f.050a0220.6691f.5de7SMTPIN_ADDED_MISSING@mx.google.com>
Received: from [172.17.0.9] (unknown [172.18.0.217])
 by postal.iol.unh.edu (Postfix) with ESMTP id 1CF2D6052471;
 Sat, 16 Mar 2024 02:16:47 -0400 (EDT)
Subject: |SUCCESS| pw138436-138437 [PATCH] [2/2] net/bnxt: fix init failures
From: dpdklab@iol.unh.edu
To: Test Report <test-report@dpdk.org>
Cc: dpdk-test-reports@iol.unh.edu
In-Reply-To: <20240316035441.76438-3-ajit.khaparde@broadcom.com>
References: <20240316035441.76438-3-ajit.khaparde@broadcom.com>
Content-Type: text/plain
X-BeenThere: test-report@dpdk.org
X-Mailman-Version: 2.1.29
Precedence: list
List-Id: automatic DPDK test reports <test-report.dpdk.org>
List-Unsubscribe: <https://mails.dpdk.org/options/test-report>,
 <mailto:test-report-request@dpdk.org?subject=unsubscribe>
List-Archive: <http://mails.dpdk.org/archives/test-report/>
List-Post: <mailto:test-report@dpdk.org>
List-Help: <mailto:test-report-request@dpdk.org?subject=help>
List-Subscribe: <https://mails.dpdk.org/listinfo/test-report>,
 <mailto:test-report-request@dpdk.org?subject=subscribe>
Errors-To: test-report-bounces@dpdk.org

Test-Label: iol-compile-arm64-testing
Test-Status: SUCCESS
http://dpdk.org/patch/138437

_Testing PASS_

Submitter: Ajit Khaparde <ajit.khaparde@broadcom.com>
Date: Saturday, March 16 2024 03:54:41 
DPDK git baseline: Repo:dpdk
  Branch: master
  CommitID:7f82e9c89f3514715533feb34f46ff1ea95c6f98

138436-138437 --> testing pass

Test environment and result as below:

+----------------------------------------+--------------------+
|              Environment               | dpdk_meson_compile |
+========================================+====================+
| Ubuntu 20.04 ARM SVE                   | PASS               |
+----------------------------------------+--------------------+
| Debian 12 with MUSDK                   | PASS               |
+----------------------------------------+--------------------+
| CentOS Stream 9 (ARM)                  | PASS               |
+----------------------------------------+--------------------+
| Fedora 37 (ARM)                        | PASS               |
+----------------------------------------+--------------------+
| Fedora 38 (ARM)                        | PASS               |
+----------------------------------------+--------------------+
| Ubuntu 20.04 (ARM)                     | PASS               |
+----------------------------------------+--------------------+
| Ubuntu 20.04 aarch32 GCC Cross Compile | PASS               |
+----------------------------------------+--------------------+
| Ubuntu 20.04 ARM GCC Cross Compile     | PASS               |
+----------------------------------------+--------------------+
| Ubuntu 20.04 ARM Clang Cross Compile   | PASS               |
+----------------------------------------+--------------------+


Ubuntu 20.04 ARM SVE
	Kernel: 5.4.0-80-generic
	Compiler: gcc 10.3.0 (Ubuntu 10.3.0-1ubuntu1~20.04)

Debian 12 with MUSDK
	Kernel: Container Host Kernel
	Compiler: gcc 12

CentOS Stream 9 (ARM)
	Kernel: Container Host Kernel
	Compiler: gcc 11.3.1

Fedora 37 (ARM)
	Kernel: Depends on container host
	Compiler: gcc 12.3.1

Fedora 38 (ARM)
	Kernel: Depends on container host
	Compiler: gcc 13.1.1

Ubuntu 20.04 (ARM)
	Kernel: Container Host Kernel
	Compiler: gcc 9.4.0

Ubuntu 20.04 aarch32 GCC Cross Compile
	Kernel: 5.4.0-72-generic
	Compiler: gcc 9.3.0

Ubuntu 20.04 ARM GCC Cross Compile
	Kernel: 5.4.0-72-generic
	Compiler: aarch64-linux-gnu-gcc (Ubuntu 9.3.0-17ubuntu1~20.04) 9.3.0

Ubuntu 20.04 ARM Clang Cross Compile
	Kernel: 5.4.0-72-generic
	Compiler: clang version 10.0.0-4ubuntu1

To view detailed results, visit:
https://lab.dpdk.org/results/dashboard/patchsets/29575/

UNH-IOL DPDK Community Lab

To manage your email subscriptions, visit: 
https://lab.dpdk.org/results/dashboard/preferences/subscriptions/