From mboxrd@z Thu Jan  1 00:00:00 1970
Return-Path: <test-report-bounces@dpdk.org>
Received: from mails.dpdk.org (mails.dpdk.org [217.70.189.124])
	by inbox.dpdk.org (Postfix) with ESMTP id 26E0943B85
	for <public@inbox.dpdk.org>; Sat, 16 Mar 2024 07:18:08 +0100 (CET)
Received: from mails.dpdk.org (localhost [127.0.0.1])
	by mails.dpdk.org (Postfix) with ESMTP id 21A994026F;
	Sat, 16 Mar 2024 07:18:08 +0100 (CET)
Received: from mail-yw1-f225.google.com (mail-yw1-f225.google.com
 [209.85.128.225])
 by mails.dpdk.org (Postfix) with ESMTP id 4AA0C40266
 for <test-report@dpdk.org>; Sat, 16 Mar 2024 07:17:33 +0100 (CET)
Received: by mail-yw1-f225.google.com with SMTP id
 00721157ae682-60a0579a968so29347067b3.3
 for <test-report@dpdk.org>; Fri, 15 Mar 2024 23:17:33 -0700 (PDT)
DKIM-Signature: v=1; a=rsa-sha256; c=relaxed/relaxed;
 d=iol.unh.edu; s=unh-iol; t=1710569852; x=1711174652; darn=dpdk.org;
 h=references:in-reply-to:cc:to:from:subject:message-id:date:from:to
 :cc:subject:date:message-id:reply-to;
 bh=GZZlY32RaHlZSl/7xagHn+z+qVSr/uX3xVMgxxTlz0Y=;
 b=eK5jwEMSEu5Wf9AVcoRYqcd9QHT9Zp1qg0V3dIAfx2lYoHnC9Di8TroJmvqUTixqxk
 kalcdhsfDGgWxwsV+IDSZysB62L5xGf8y953T7Wo/PQTa2Qr/EgVUlGQQ3VFKoPs9c7j
 QXMvMjIRgzl/HJ39QTdsG2O+CXJWNQ2FtKVIk=
X-Google-DKIM-Signature: v=1; a=rsa-sha256; c=relaxed/relaxed;
 d=1e100.net; s=20230601; t=1710569852; x=1711174652;
 h=references:in-reply-to:cc:to:from:subject:message-id:date
 :x-gm-message-state:from:to:cc:subject:date:message-id:reply-to;
 bh=GZZlY32RaHlZSl/7xagHn+z+qVSr/uX3xVMgxxTlz0Y=;
 b=fGMX5nDvCJl1E2WbKiZukM6uyjOFg5bUkAJwqpJAA/SoOd7bkkrx7pnxtfbtrtxsLE
 S4EhQhyD9eEP3adOgpa2pHHOnVf70zNgsn5eRRPPRHWKCXsIEhX1ejOU+38OHBPpOQdJ
 rIWs2ttCQy7rEyTMp5DL2lNRtb+iawbD6eL7YqfMrJsVt9J6LEnXHft3EBgz5q5rQ21P
 iqFOf9TiB7w9D/xmR5ywumKCJbGUHQkMF5qOeVB1GimxQ9gZEUlAqcRHRIu1SEt0J/mV
 p6jH7Qq4sMOFc2zum9nJq3AAbe88LwcO3mFeyc5Ce0SFRMMDtCQsSFgI29f+gxtXXh4+
 JiPA==
X-Gm-Message-State: AOJu0YzI3GcvLdpmGfyPJGEZIMYofQe+KUnpLKlblO5SROL7YP981Rij
 mcZ/lK5w4Z+/lRg6oBDEcut4U1quY+e5evg2aQj4hjMPfaQZDj62Sm1xl4vgrLgcb4W0Y+H0Ykq
 zgpb2dSaEb6Dke8vrStf/lZT/jbxq7USoB2VTtd0KhAKbzXOVbMetCyWD
X-Google-Smtp-Source: AGHT+IHY0gvobuac6AW4ajAIRbYkn9r/RpQW63oa/nxy61FCk9kzV9n6XPEHpnhK7llN3pU16lSJpErluqB0
X-Received: by 2002:a81:a00b:0:b0:609:fad9:1faa with SMTP id
 x11-20020a81a00b000000b00609fad91faamr6431170ywg.40.1710569852775; 
 Fri, 15 Mar 2024 23:17:32 -0700 (PDT)
Received: from postal.iol.unh.edu (postal.iol.unh.edu.
 [2606:4100:3880:1234::84]) by smtp-relay.gmail.com with ESMTPS id
 w10-20020a817b0a000000b0060ccdf1f9d6sm275923ywc.18.2024.03.15.23.17.32
 (version=TLS1_2 cipher=ECDHE-ECDSA-AES128-GCM-SHA256 bits=128/128);
 Fri, 15 Mar 2024 23:17:32 -0700 (PDT)
X-Relaying-Domain: iol.unh.edu
Date: Fri, 15 Mar 2024 23:17:32 -0700 (PDT)
Message-ID: <65f5397c.810a0220.82980.493cSMTPIN_ADDED_MISSING@mx.google.com>
Received: from [172.17.0.8] (unknown [172.18.0.214])
 by postal.iol.unh.edu (Postfix) with ESMTP id 6F1926052471;
 Sat, 16 Mar 2024 02:17:32 -0400 (EDT)
Subject: |SUCCESS| pw138436-138437 [PATCH] [2/2] net/bnxt: fix init failures
From: dpdklab@iol.unh.edu
To: Test Report <test-report@dpdk.org>
Cc: dpdk-test-reports@iol.unh.edu
In-Reply-To: <20240316035441.76438-3-ajit.khaparde@broadcom.com>
References: <20240316035441.76438-3-ajit.khaparde@broadcom.com>
Content-Type: text/plain
X-BeenThere: test-report@dpdk.org
X-Mailman-Version: 2.1.29
Precedence: list
List-Id: automatic DPDK test reports <test-report.dpdk.org>
List-Unsubscribe: <https://mails.dpdk.org/options/test-report>,
 <mailto:test-report-request@dpdk.org?subject=unsubscribe>
List-Archive: <http://mails.dpdk.org/archives/test-report/>
List-Post: <mailto:test-report@dpdk.org>
List-Help: <mailto:test-report-request@dpdk.org?subject=help>
List-Subscribe: <https://mails.dpdk.org/listinfo/test-report>,
 <mailto:test-report-request@dpdk.org?subject=subscribe>
Errors-To: test-report-bounces@dpdk.org

Test-Label: iol-compile-arm64-testing
Test-Status: SUCCESS
http://dpdk.org/patch/138437

_Testing PASS_

Submitter: Ajit Khaparde <ajit.khaparde@broadcom.com>
Date: Saturday, March 16 2024 03:54:41 
DPDK git baseline: Repo:dpdk
  Branch: master
  CommitID:7f82e9c89f3514715533feb34f46ff1ea95c6f98

138436-138437 --> testing pass

Test environment and result as below:

+----------------------------------------+--------------------+
|              Environment               | dpdk_meson_compile |
+========================================+====================+
| Ubuntu 20.04 ARM SVE                   | PASS               |
+----------------------------------------+--------------------+
| Debian 12 with MUSDK                   | PASS               |
+----------------------------------------+--------------------+
| CentOS Stream 9 (ARM)                  | PASS               |
+----------------------------------------+--------------------+
| Fedora 37 (ARM)                        | PASS               |
+----------------------------------------+--------------------+
| Fedora 38 (ARM)                        | PASS               |
+----------------------------------------+--------------------+
| Ubuntu 20.04 (ARM)                     | PASS               |
+----------------------------------------+--------------------+
| Ubuntu 20.04 aarch32 GCC Cross Compile | PASS               |
+----------------------------------------+--------------------+
| Ubuntu 20.04 ARM GCC Cross Compile     | PASS               |
+----------------------------------------+--------------------+
| Ubuntu 20.04 ARM Clang Cross Compile   | PASS               |
+----------------------------------------+--------------------+


Ubuntu 20.04 ARM SVE
	Kernel: 5.4.0-80-generic
	Compiler: gcc 10.3.0 (Ubuntu 10.3.0-1ubuntu1~20.04)

Debian 12 with MUSDK
	Kernel: Container Host Kernel
	Compiler: gcc 12

CentOS Stream 9 (ARM)
	Kernel: Container Host Kernel
	Compiler: gcc 11.3.1

Fedora 37 (ARM)
	Kernel: Depends on container host
	Compiler: gcc 12.3.1

Fedora 38 (ARM)
	Kernel: Depends on container host
	Compiler: gcc 13.1.1

Ubuntu 20.04 (ARM)
	Kernel: Container Host Kernel
	Compiler: gcc 9.4.0

Ubuntu 20.04 aarch32 GCC Cross Compile
	Kernel: 5.4.0-72-generic
	Compiler: gcc 9.3.0

Ubuntu 20.04 ARM GCC Cross Compile
	Kernel: 5.4.0-72-generic
	Compiler: aarch64-linux-gnu-gcc (Ubuntu 9.3.0-17ubuntu1~20.04) 9.3.0

Ubuntu 20.04 ARM Clang Cross Compile
	Kernel: 5.4.0-72-generic
	Compiler: clang version 10.0.0-4ubuntu1

To view detailed results, visit:
https://lab.dpdk.org/results/dashboard/patchsets/29575/

UNH-IOL DPDK Community Lab

To manage your email subscriptions, visit: 
https://lab.dpdk.org/results/dashboard/preferences/subscriptions/