From mboxrd@z Thu Jan  1 00:00:00 1970
Return-Path: <test-report-bounces@dpdk.org>
Received: from mails.dpdk.org (mails.dpdk.org [217.70.189.124])
	by inbox.dpdk.org (Postfix) with ESMTP id 096C143B85
	for <public@inbox.dpdk.org>; Sat, 16 Mar 2024 07:26:18 +0100 (CET)
Received: from mails.dpdk.org (localhost [127.0.0.1])
	by mails.dpdk.org (Postfix) with ESMTP id EDA8D402E3;
	Sat, 16 Mar 2024 07:26:17 +0100 (CET)
Received: from mail-il1-f226.google.com (mail-il1-f226.google.com
 [209.85.166.226])
 by mails.dpdk.org (Postfix) with ESMTP id 4753740266
 for <test-report@dpdk.org>; Sat, 16 Mar 2024 07:26:09 +0100 (CET)
Received: by mail-il1-f226.google.com with SMTP id
 e9e14a558f8ab-366ad40144fso639565ab.0
 for <test-report@dpdk.org>; Fri, 15 Mar 2024 23:26:09 -0700 (PDT)
DKIM-Signature: v=1; a=rsa-sha256; c=relaxed/relaxed;
 d=iol.unh.edu; s=unh-iol; t=1710570368; x=1711175168; darn=dpdk.org;
 h=references:in-reply-to:cc:to:from:subject:message-id:date:from:to
 :cc:subject:date:message-id:reply-to;
 bh=hMFI7VDArIHV9+BfKi4GVU5lYTGpvWDgrHxPXyc7VZk=;
 b=jBuBxCrdiHWQH5B3AjUnL3Yn9MfuEgABGlup6NkOGk88jNvCBgnCgOrkbgS0L9kKCJ
 MUjcChMm+nxz5WYGeevvQAjd4CQdq91WXlUwSAGfqM9OytNSOFsjBLw3kYKEOAMKKKB/
 tznIi8JsydDXP62/HWtRDSAuzsdjz/d/90fmE=
X-Google-DKIM-Signature: v=1; a=rsa-sha256; c=relaxed/relaxed;
 d=1e100.net; s=20230601; t=1710570368; x=1711175168;
 h=references:in-reply-to:cc:to:from:subject:message-id:date
 :x-gm-message-state:from:to:cc:subject:date:message-id:reply-to;
 bh=hMFI7VDArIHV9+BfKi4GVU5lYTGpvWDgrHxPXyc7VZk=;
 b=TMYeM9OQ7ecWc4q0z/IkHmcng6Qhz1g6P6yqWM9mvyZkfVRbkNgS95jC/VpUCASvjx
 79o39noEBNMZ/4YUArDMBxZjHwutxHUaNi4ExuvFmPDdfRxFjnlLWiwCqx02YMBrYNii
 r7SzWsnwf3x++Q0iSBTw+BaUXcOlIZZ4o9SNNVPNr6QZIPCIh+rpU3rcR+Tpdtsp9mIL
 edXcqXM8Iho6Fl9VhodhXvwIyTlNLPzxu/RxKl4kRSpUDibX/G7PTONFEo+cSNKxmmK1
 dwy5Ilprn1pgCIUno3QYchrF3gYzTqIPolJ7KNr8Hi1SetMMrFyhDqirbZiF4tjpT0rz
 ONWg==
X-Gm-Message-State: AOJu0YyT27+dZvzt+Xc4xPRi9M3qGkWfIwcBsTxQ5l2jtKWVxGLo7Ng1
 G8ADjzP8j/lddNC1D1nRa8Zj6CfP22N2h8WyRpar19l3OasFswOZpyvpKWMC2fiW0ch8zwNmQn4
 D2z1AlIp8/4fGvpZN0g+b3ICu7pPh0L3+7Mavgxuk
X-Google-Smtp-Source: AGHT+IE0RJjny8XzAiQ5/MGdrz+G7kjx5dWZBPkFVuvLXCSXnobvhN2zx2ZeZ/vhTJfW5+kcFujVUoPpIYIT
X-Received: by 2002:a92:d784:0:b0:366:8c58:42ea with SMTP id
 d4-20020a92d784000000b003668c5842eamr4520135iln.11.1710570368676; 
 Fri, 15 Mar 2024 23:26:08 -0700 (PDT)
Received: from postal.iol.unh.edu (postal.iol.unh.edu. [132.177.123.84])
 by smtp-relay.gmail.com with ESMTPS id
 i15-20020a056e0212cf00b00363d9deea97sm231946ilm.16.2024.03.15.23.26.08
 (version=TLS1_2 cipher=ECDHE-ECDSA-AES128-GCM-SHA256 bits=128/128);
 Fri, 15 Mar 2024 23:26:08 -0700 (PDT)
X-Relaying-Domain: iol.unh.edu
Date: Fri, 15 Mar 2024 23:26:08 -0700 (PDT)
Message-ID: <65f53b80.050a0220.9430f.202cSMTPIN_ADDED_MISSING@mx.google.com>
Received: from [172.21.0.7] (unknown [172.18.0.240])
 by postal.iol.unh.edu (Postfix) with ESMTP id 49C526052471;
 Sat, 16 Mar 2024 02:26:08 -0400 (EDT)
Subject: |SUCCESS| pw138436-138437 [PATCH] [2/2] net/bnxt: fix init failures
From: dpdklab@iol.unh.edu
To: Test Report <test-report@dpdk.org>
Cc: dpdk-test-reports@iol.unh.edu
In-Reply-To: <20240316035441.76438-3-ajit.khaparde@broadcom.com>
References: <20240316035441.76438-3-ajit.khaparde@broadcom.com>
Content-Type: text/plain
X-BeenThere: test-report@dpdk.org
X-Mailman-Version: 2.1.29
Precedence: list
List-Id: automatic DPDK test reports <test-report.dpdk.org>
List-Unsubscribe: <https://mails.dpdk.org/options/test-report>,
 <mailto:test-report-request@dpdk.org?subject=unsubscribe>
List-Archive: <http://mails.dpdk.org/archives/test-report/>
List-Post: <mailto:test-report@dpdk.org>
List-Help: <mailto:test-report-request@dpdk.org?subject=help>
List-Subscribe: <https://mails.dpdk.org/listinfo/test-report>,
 <mailto:test-report-request@dpdk.org?subject=subscribe>
Errors-To: test-report-bounces@dpdk.org

Test-Label: iol-compile-amd64-testing
Test-Status: SUCCESS
http://dpdk.org/patch/138437

_Testing PASS_

Submitter: Ajit Khaparde <ajit.khaparde@broadcom.com>
Date: Saturday, March 16 2024 03:54:41 
DPDK git baseline: Repo:dpdk
  Branch: master
  CommitID:7f82e9c89f3514715533feb34f46ff1ea95c6f98

138436-138437 --> testing pass

Test environment and result as below:

+---------------------+--------------------+----------------------+
|     Environment     | dpdk_meson_compile | dpdk_mingw64_compile |
+=====================+====================+======================+
| Windows Server 2022 | PASS               | PASS                 |
+---------------------+--------------------+----------------------+
| FreeBSD 13.2        | PASS               | SKIPPED              |
+---------------------+--------------------+----------------------+
| Windows Server 2019 | PASS               | PASS                 |
+---------------------+--------------------+----------------------+
| CentOS Stream 9     | PASS               | SKIPPED              |
+---------------------+--------------------+----------------------+
| CentOS Stream 8     | PASS               | SKIPPED              |
+---------------------+--------------------+----------------------+
| Debian 12 (arm)     | PASS               | SKIPPED              |
+---------------------+--------------------+----------------------+
| Fedora 37           | PASS               | SKIPPED              |
+---------------------+--------------------+----------------------+
| Fedora 38           | PASS               | SKIPPED              |
+---------------------+--------------------+----------------------+
| Debian Bullseye     | PASS               | SKIPPED              |
+---------------------+--------------------+----------------------+
| openSUSE Leap 15    | PASS               | SKIPPED              |
+---------------------+--------------------+----------------------+
| Ubuntu 20.04        | PASS               | SKIPPED              |
+---------------------+--------------------+----------------------+
| Ubuntu 22.04        | PASS               | SKIPPED              |
+---------------------+--------------------+----------------------+
| Alpine              | PASS               | SKIPPED              |
+---------------------+--------------------+----------------------+
| RHEL8               | PASS               | SKIPPED              |
+---------------------+--------------------+----------------------+


Windows Server 2022
	Kernel: OS Build 20348.2031
	Compiler: clang 15.0.7, gcc 8.1.0 (MinGW), and MSVC VS 17.9

FreeBSD 13.2
	Kernel: 13.2
	Compiler: clang 11.3.0

Windows Server 2019
	Kernel: 10.0
	Compiler: clang 14.0 and gcc 8.1.0 (MinGW)

CentOS Stream 9
	Kernel: 4.18.0-240.10.1.el8_3.x86_64
	Compiler: gcc 11.3.1 20220421

CentOS Stream 8
	Kernel: 4.18.0-240.10.1.el8_3.x86_64
	Compiler: gcc 8.4.1 20200928

Debian 12 (arm)
	Kernel: Container Host Kernel
	Compiler: gcc 11

Fedora 37
	Kernel: Depends on container host system
	Compiler: gcc 12.3.1

Fedora 38
	Kernel: Depends on container host
	Compiler: gcc 13.1.1

Debian Bullseye
	Kernel: 5.4.0-122-generic
	Compiler: gcc 10.2.1-6

openSUSE Leap 15
	Kernel: 4.18.0-240.10.1.el8_3.x86_64
	Compiler: gcc 7.5.0

Ubuntu 20.04
	Kernel: 5.4.0-153-generic
	Compiler: gcc 9.4.0-1ubuntu1~20.04.1

Ubuntu 22.04
	Kernel: 4.18.0-240.10.1.el8_3.x86_64
	Compiler: gcc 11.3.0

Alpine
	Kernel: 5.4.0-167-generic
	Compiler: gcc (Alpine 12.2.1_git20220924-r10) 12.2.1 20220924

RHEL8
	Kernel: 4.18.0-240.10.1.el8_3.x86_64
	Compiler: gcc 8.3.1 20191121 (Red Hat 8.3.1-5)

To view detailed results, visit:
https://lab.dpdk.org/results/dashboard/patchsets/29575/

UNH-IOL DPDK Community Lab

To manage your email subscriptions, visit: 
https://lab.dpdk.org/results/dashboard/preferences/subscriptions/