From mboxrd@z Thu Jan  1 00:00:00 1970
Return-Path: <test-report-bounces@dpdk.org>
Received: from mails.dpdk.org (mails.dpdk.org [217.70.189.124])
	by inbox.dpdk.org (Postfix) with ESMTP id 95F7843B85
	for <public@inbox.dpdk.org>; Sat, 16 Mar 2024 07:28:04 +0100 (CET)
Received: from mails.dpdk.org (localhost [127.0.0.1])
	by mails.dpdk.org (Postfix) with ESMTP id 92AB74026F;
	Sat, 16 Mar 2024 07:28:04 +0100 (CET)
Received: from mail-yw1-f226.google.com (mail-yw1-f226.google.com
 [209.85.128.226])
 by mails.dpdk.org (Postfix) with ESMTP id 90C0B40266
 for <test-report@dpdk.org>; Sat, 16 Mar 2024 07:28:03 +0100 (CET)
Received: by mail-yw1-f226.google.com with SMTP id
 00721157ae682-6098b9ed2a3so26729977b3.0
 for <test-report@dpdk.org>; Fri, 15 Mar 2024 23:28:03 -0700 (PDT)
DKIM-Signature: v=1; a=rsa-sha256; c=relaxed/relaxed;
 d=iol.unh.edu; s=unh-iol; t=1710570483; x=1711175283; darn=dpdk.org;
 h=references:in-reply-to:cc:to:from:subject:message-id:date:from:to
 :cc:subject:date:message-id:reply-to;
 bh=hMFI7VDArIHV9+BfKi4GVU5lYTGpvWDgrHxPXyc7VZk=;
 b=Y8sXZMu4rrkWHQyq2lOvzCwXgMg2Jd9yQCWF+a2u5Vhb88gMpIPyPydUc/CZbihzYQ
 I08CAVRVQqg0TA+63ZhIzFmf66Cw2u9nfx32m5vvG4a0JWQJHeBgaH3fgEx9FZcwjRxP
 43erX3gbI1v/jw+fR7AEiUxPfArCRNe3YzC4o=
X-Google-DKIM-Signature: v=1; a=rsa-sha256; c=relaxed/relaxed;
 d=1e100.net; s=20230601; t=1710570483; x=1711175283;
 h=references:in-reply-to:cc:to:from:subject:message-id:date
 :x-gm-message-state:from:to:cc:subject:date:message-id:reply-to;
 bh=hMFI7VDArIHV9+BfKi4GVU5lYTGpvWDgrHxPXyc7VZk=;
 b=nvn6hmoR1t29y8rwaUVjySGlXLAzEF02nLB49EvlVI9Z7LJ/xSsCAQw+m4m4+leSzQ
 +iBu3xYdES18HCq0cyvm5aUgUOF60UqUsO5vf8OI+bATZYr24k1hWRw6LzXGYz8Jsz6l
 FuJdu4uTql+DWQy1rUToJaRbdcB/xZngAY5v/RUSf4JjpknG/CgQ8zjHJzbX8VV4A9f+
 poCmvbIdMdghSR3eTyxS6EybnX3ZhfLScTIDSgWv9sDNca0XGfCAP+9xfUU6j7Xh/8Ku
 3uz13nWEnGiWpKkmDFjokmOg43QgzfeATqjWFHV97P2/DesMUIMBH7zEDQ1BuUm5XEfY
 4PHA==
X-Gm-Message-State: AOJu0YxMB0E4lg2FYUqrFTmTuHnKFR7KWW3L4KFjB1pBcfh2J8s1/Huw
 4/7WKaLU26luXoWkIRUsPu6vzcOVL1wYmdlX+oK229V56/zS3snAQKemUOYE8dB+IuTTqvxNpwb
 q9v9xBVbHuyfTrAQID4M8uvV409p7pZpHdUFh5tUl
X-Google-Smtp-Source: AGHT+IHSXpfZn5+T8N/iNHr297knGnxQAgnGFmuRRNSPdw/TOF9gUvnmpKpRLx0Qi1neJiqpgbAX3IKydxjl
X-Received: by 2002:a81:994f:0:b0:60c:cbe9:15a5 with SMTP id
 q76-20020a81994f000000b0060ccbe915a5mr6415927ywg.10.1710570483019; 
 Fri, 15 Mar 2024 23:28:03 -0700 (PDT)
Received: from postal.iol.unh.edu (postal.iol.unh.edu. [132.177.123.84])
 by smtp-relay.gmail.com with ESMTPS id
 t11-20020a0dea0b000000b0060971222645sm304087ywe.24.2024.03.15.23.28.02
 (version=TLS1_2 cipher=ECDHE-ECDSA-AES128-GCM-SHA256 bits=128/128);
 Fri, 15 Mar 2024 23:28:03 -0700 (PDT)
X-Relaying-Domain: iol.unh.edu
Date: Fri, 15 Mar 2024 23:28:03 -0700 (PDT)
Message-ID: <65f53bf3.0d0a0220.27645.66fcSMTPIN_ADDED_MISSING@mx.google.com>
Received: from [172.21.0.7] (unknown [172.18.0.240])
 by postal.iol.unh.edu (Postfix) with ESMTP id A72C26052471;
 Sat, 16 Mar 2024 02:28:02 -0400 (EDT)
Subject: |SUCCESS| pw138436-138437 [PATCH] [2/2] net/bnxt: fix init failures
From: dpdklab@iol.unh.edu
To: Test Report <test-report@dpdk.org>
Cc: dpdk-test-reports@iol.unh.edu
In-Reply-To: <20240316035441.76438-3-ajit.khaparde@broadcom.com>
References: <20240316035441.76438-3-ajit.khaparde@broadcom.com>
Content-Type: text/plain
X-BeenThere: test-report@dpdk.org
X-Mailman-Version: 2.1.29
Precedence: list
List-Id: automatic DPDK test reports <test-report.dpdk.org>
List-Unsubscribe: <https://mails.dpdk.org/options/test-report>,
 <mailto:test-report-request@dpdk.org?subject=unsubscribe>
List-Archive: <http://mails.dpdk.org/archives/test-report/>
List-Post: <mailto:test-report@dpdk.org>
List-Help: <mailto:test-report-request@dpdk.org?subject=help>
List-Subscribe: <https://mails.dpdk.org/listinfo/test-report>,
 <mailto:test-report-request@dpdk.org?subject=subscribe>
Errors-To: test-report-bounces@dpdk.org

Test-Label: iol-compile-amd64-testing
Test-Status: SUCCESS
http://dpdk.org/patch/138437

_Testing PASS_

Submitter: Ajit Khaparde <ajit.khaparde@broadcom.com>
Date: Saturday, March 16 2024 03:54:41 
DPDK git baseline: Repo:dpdk
  Branch: master
  CommitID:7f82e9c89f3514715533feb34f46ff1ea95c6f98

138436-138437 --> testing pass

Test environment and result as below:

+---------------------+--------------------+----------------------+
|     Environment     | dpdk_meson_compile | dpdk_mingw64_compile |
+=====================+====================+======================+
| Windows Server 2022 | PASS               | PASS                 |
+---------------------+--------------------+----------------------+
| FreeBSD 13.2        | PASS               | SKIPPED              |
+---------------------+--------------------+----------------------+
| Windows Server 2019 | PASS               | PASS                 |
+---------------------+--------------------+----------------------+
| CentOS Stream 9     | PASS               | SKIPPED              |
+---------------------+--------------------+----------------------+
| CentOS Stream 8     | PASS               | SKIPPED              |
+---------------------+--------------------+----------------------+
| Debian 12 (arm)     | PASS               | SKIPPED              |
+---------------------+--------------------+----------------------+
| Fedora 37           | PASS               | SKIPPED              |
+---------------------+--------------------+----------------------+
| Fedora 38           | PASS               | SKIPPED              |
+---------------------+--------------------+----------------------+
| Debian Bullseye     | PASS               | SKIPPED              |
+---------------------+--------------------+----------------------+
| openSUSE Leap 15    | PASS               | SKIPPED              |
+---------------------+--------------------+----------------------+
| Ubuntu 20.04        | PASS               | SKIPPED              |
+---------------------+--------------------+----------------------+
| Ubuntu 22.04        | PASS               | SKIPPED              |
+---------------------+--------------------+----------------------+
| Alpine              | PASS               | SKIPPED              |
+---------------------+--------------------+----------------------+
| RHEL8               | PASS               | SKIPPED              |
+---------------------+--------------------+----------------------+


Windows Server 2022
	Kernel: OS Build 20348.2031
	Compiler: clang 15.0.7, gcc 8.1.0 (MinGW), and MSVC VS 17.9

FreeBSD 13.2
	Kernel: 13.2
	Compiler: clang 11.3.0

Windows Server 2019
	Kernel: 10.0
	Compiler: clang 14.0 and gcc 8.1.0 (MinGW)

CentOS Stream 9
	Kernel: 4.18.0-240.10.1.el8_3.x86_64
	Compiler: gcc 11.3.1 20220421

CentOS Stream 8
	Kernel: 4.18.0-240.10.1.el8_3.x86_64
	Compiler: gcc 8.4.1 20200928

Debian 12 (arm)
	Kernel: Container Host Kernel
	Compiler: gcc 11

Fedora 37
	Kernel: Depends on container host system
	Compiler: gcc 12.3.1

Fedora 38
	Kernel: Depends on container host
	Compiler: gcc 13.1.1

Debian Bullseye
	Kernel: 5.4.0-122-generic
	Compiler: gcc 10.2.1-6

openSUSE Leap 15
	Kernel: 4.18.0-240.10.1.el8_3.x86_64
	Compiler: gcc 7.5.0

Ubuntu 20.04
	Kernel: 5.4.0-153-generic
	Compiler: gcc 9.4.0-1ubuntu1~20.04.1

Ubuntu 22.04
	Kernel: 4.18.0-240.10.1.el8_3.x86_64
	Compiler: gcc 11.3.0

Alpine
	Kernel: 5.4.0-167-generic
	Compiler: gcc (Alpine 12.2.1_git20220924-r10) 12.2.1 20220924

RHEL8
	Kernel: 4.18.0-240.10.1.el8_3.x86_64
	Compiler: gcc 8.3.1 20191121 (Red Hat 8.3.1-5)

To view detailed results, visit:
https://lab.dpdk.org/results/dashboard/patchsets/29575/

UNH-IOL DPDK Community Lab

To manage your email subscriptions, visit: 
https://lab.dpdk.org/results/dashboard/preferences/subscriptions/