From mboxrd@z Thu Jan  1 00:00:00 1970
Return-Path: <test-report-bounces@dpdk.org>
Received: from mails.dpdk.org (mails.dpdk.org [217.70.189.124])
	by inbox.dpdk.org (Postfix) with ESMTP id 0B6BB43B85
	for <public@inbox.dpdk.org>; Sat, 16 Mar 2024 07:31:05 +0100 (CET)
Received: from mails.dpdk.org (localhost [127.0.0.1])
	by mails.dpdk.org (Postfix) with ESMTP id 04D204026F;
	Sat, 16 Mar 2024 07:31:05 +0100 (CET)
Received: from mail-oo1-f97.google.com (mail-oo1-f97.google.com
 [209.85.161.97]) by mails.dpdk.org (Postfix) with ESMTP id 13CE840266
 for <test-report@dpdk.org>; Sat, 16 Mar 2024 07:31:04 +0100 (CET)
Received: by mail-oo1-f97.google.com with SMTP id
 006d021491bc7-5a49261093cso132974eaf.3
 for <test-report@dpdk.org>; Fri, 15 Mar 2024 23:31:04 -0700 (PDT)
DKIM-Signature: v=1; a=rsa-sha256; c=relaxed/relaxed;
 d=iol.unh.edu; s=unh-iol; t=1710570663; x=1711175463; darn=dpdk.org;
 h=references:in-reply-to:cc:to:from:subject:message-id:date:from:to
 :cc:subject:date:message-id:reply-to;
 bh=7E3q9784ejMMcICWV0cL+R9JpF5akbGHNK0/omvcEH0=;
 b=Hsidtpvgb16x6GS7mOgWvNMzRon5/yaJKjNJKJnsuFLYvYZoQ9HFbZdnePwuF7ozC7
 HBE9HaYHb5Vg48nrJvFFWfJECJD7+VF5ZZggL80Hhnp3+xXvoqNODBSoaN//d+Tkc0pX
 jJhLvDHZr2Z9Gk2xMG1OOdWBsYacClD9jrcqs=
X-Google-DKIM-Signature: v=1; a=rsa-sha256; c=relaxed/relaxed;
 d=1e100.net; s=20230601; t=1710570663; x=1711175463;
 h=references:in-reply-to:cc:to:from:subject:message-id:date
 :x-gm-message-state:from:to:cc:subject:date:message-id:reply-to;
 bh=7E3q9784ejMMcICWV0cL+R9JpF5akbGHNK0/omvcEH0=;
 b=lH7N7ljbf41rgKIwr12EN98+cfP3dGK5YUfa3JJRP+ioBL2jdtHu/Ml9OdTl0WOYp+
 bAXdOClp+/SEpXd+C4LooxHXnltG2r9Jos57D0kOwq9HDFS/H/rf4DZBzKB4MU7EvL7o
 NM7BSm4TdowcbphtEBg1HvEKkCIOizk65ahL9iEaKn3m9O5LyvuHAl7XcDih1M7FqXao
 ne9BgoSQCaK+419MncjXhe73lciNyUtDgLqj7MYiyqgl991/j+UOu7rEIsJcQq8Y6i0g
 EPD9IRstr78vZQH3N8IQM8ubZXGdE91vn7P2c285UPuoa3LlA/inAjY3TwurUOm1hVrX
 cVRg==
X-Gm-Message-State: AOJu0YzJyB4aZK+fjTDsb+b72YP9bAOcO0Eup+4b/7OBfP5BCMygnqB2
 izb72ptSMbCQ4F0eMMfgbkBIGYp/CXYDaNqz3YffeZ6Zg2C8G2X2rGyplguxB+xnv4g831y7Jqr
 HceW7K52YGj6CF7cfy7f1DxhY2siZMYR/eo6AMpSy
X-Google-Smtp-Source: AGHT+IFlDVBC+jKUeX7VFcTM9VURaCy9f4nIg60BNLxdLy/flxjGVMjhJBN8hvpRQMF+hS9bpxDD/WQmjtD6
X-Received: by 2002:a05:6820:1509:b0:5a4:81f1:5ca6 with SMTP id
 ay9-20020a056820150900b005a481f15ca6mr3216642oob.1.1710570663465; 
 Fri, 15 Mar 2024 23:31:03 -0700 (PDT)
Received: from postal.iol.unh.edu (postal.iol.unh.edu. [132.177.123.84])
 by smtp-relay.gmail.com with ESMTPS id
 cb18-20020a0568201b9200b005a03140379asm147164oob.2.2024.03.15.23.31.03
 (version=TLS1_2 cipher=ECDHE-ECDSA-AES128-GCM-SHA256 bits=128/128);
 Fri, 15 Mar 2024 23:31:03 -0700 (PDT)
X-Relaying-Domain: iol.unh.edu
Date: Fri, 15 Mar 2024 23:31:03 -0700 (PDT)
Message-ID: <65f53ca7.050a0220.a0508.ab22SMTPIN_ADDED_MISSING@mx.google.com>
Received: from [172.21.0.6] (unknown [172.18.0.240])
 by postal.iol.unh.edu (Postfix) with ESMTP id E20A86052471;
 Sat, 16 Mar 2024 02:31:02 -0400 (EDT)
Subject: |SUCCESS| pw138435 [PATCH] windows: make getopt functions have const
From: dpdklab@iol.unh.edu
To: Test Report <test-report@dpdk.org>
Cc: dpdk-test-reports@iol.unh.edu
In-Reply-To: <20240315151407.7517-1-stephen@networkplumber.org>
References: <20240315151407.7517-1-stephen@networkplumber.org>
Content-Type: text/plain
X-BeenThere: test-report@dpdk.org
X-Mailman-Version: 2.1.29
Precedence: list
List-Id: automatic DPDK test reports <test-report.dpdk.org>
List-Unsubscribe: <https://mails.dpdk.org/options/test-report>,
 <mailto:test-report-request@dpdk.org?subject=unsubscribe>
List-Archive: <http://mails.dpdk.org/archives/test-report/>
List-Post: <mailto:test-report@dpdk.org>
List-Help: <mailto:test-report-request@dpdk.org?subject=help>
List-Subscribe: <https://mails.dpdk.org/listinfo/test-report>,
 <mailto:test-report-request@dpdk.org?subject=subscribe>
Errors-To: test-report-bounces@dpdk.org

Test-Label: iol-compile-amd64-testing
Test-Status: SUCCESS
http://dpdk.org/patch/138435

_Testing PASS_

Submitter: Stephen Hemminger <stephen@networkplumber.org>
Date: Friday, March 15 2024 15:14:06 
DPDK git baseline: Repo:dpdk
  Branch: master
  CommitID:7f82e9c89f3514715533feb34f46ff1ea95c6f98

138435 --> testing pass

Test environment and result as below:

+---------------------+--------------------+----------------------+
|     Environment     | dpdk_meson_compile | dpdk_mingw64_compile |
+=====================+====================+======================+
| Windows Server 2022 | PASS               | SKIPPED              |
+---------------------+--------------------+----------------------+
| FreeBSD 13.2        | PASS               | SKIPPED              |
+---------------------+--------------------+----------------------+
| CentOS Stream 8     | PASS               | SKIPPED              |
+---------------------+--------------------+----------------------+
| Windows Server 2019 | PASS               | PASS                 |
+---------------------+--------------------+----------------------+
| Debian 12 (arm)     | PASS               | SKIPPED              |
+---------------------+--------------------+----------------------+
| CentOS Stream 9     | PASS               | SKIPPED              |
+---------------------+--------------------+----------------------+
| Debian Bullseye     | PASS               | SKIPPED              |
+---------------------+--------------------+----------------------+
| Fedora 37           | PASS               | SKIPPED              |
+---------------------+--------------------+----------------------+


Windows Server 2022
	Kernel: OS Build 20348.2031
	Compiler: clang 15.0.7, gcc 8.1.0 (MinGW), and MSVC VS 17.9

FreeBSD 13.2
	Kernel: 13.2
	Compiler: clang 11.3.0

CentOS Stream 8
	Kernel: 4.18.0-240.10.1.el8_3.x86_64
	Compiler: gcc 8.4.1 20200928

Windows Server 2019
	Kernel: 10.0
	Compiler: clang 14.0 and gcc 8.1.0 (MinGW)

Debian 12 (arm)
	Kernel: Container Host Kernel
	Compiler: gcc 11

CentOS Stream 9
	Kernel: 4.18.0-240.10.1.el8_3.x86_64
	Compiler: gcc 11.3.1 20220421

Debian Bullseye
	Kernel: 5.4.0-122-generic
	Compiler: gcc 10.2.1-6

Fedora 37
	Kernel: Depends on container host system
	Compiler: gcc 12.3.1

To view detailed results, visit:
https://lab.dpdk.org/results/dashboard/patchsets/29574/

UNH-IOL DPDK Community Lab

To manage your email subscriptions, visit: 
https://lab.dpdk.org/results/dashboard/preferences/subscriptions/