From mboxrd@z Thu Jan  1 00:00:00 1970
Return-Path: <test-report-bounces@dpdk.org>
Received: from mails.dpdk.org (mails.dpdk.org [217.70.189.124])
	by inbox.dpdk.org (Postfix) with ESMTP id ECD8443B85
	for <public@inbox.dpdk.org>; Sat, 16 Mar 2024 07:34:15 +0100 (CET)
Received: from mails.dpdk.org (localhost [127.0.0.1])
	by mails.dpdk.org (Postfix) with ESMTP id E819C4026F;
	Sat, 16 Mar 2024 07:34:15 +0100 (CET)
Received: from mail-ua1-f97.google.com (mail-ua1-f97.google.com
 [209.85.222.97]) by mails.dpdk.org (Postfix) with ESMTP id 1A12340266
 for <test-report@dpdk.org>; Sat, 16 Mar 2024 07:34:15 +0100 (CET)
Received: by mail-ua1-f97.google.com with SMTP id
 a1e0cc1a2514c-7e050223d43so9008241.0
 for <test-report@dpdk.org>; Fri, 15 Mar 2024 23:34:15 -0700 (PDT)
DKIM-Signature: v=1; a=rsa-sha256; c=relaxed/relaxed;
 d=iol.unh.edu; s=unh-iol; t=1710570854; x=1711175654; darn=dpdk.org;
 h=references:in-reply-to:cc:to:from:subject:message-id:date:from:to
 :cc:subject:date:message-id:reply-to;
 bh=yZHkt/LdSp9WOBLjn6t2Ma8pUvMPaDR+MmZFVm6ndDc=;
 b=GLDtEmGUUUI33l2yTtYwwn/GK1SJz3W3LppjZ6+kcrJ3V60b4+/+vEpG6ozkY6aoC7
 uWsh1hGTvuAi5bcx+FDrz09+qmASHiXsenH2SGND3ly9kCiGw5stXZUpGp50dZPgBfi3
 iszkp6tl9/Voaz12oejCgD0Uy0Klnbm/Ri2k4=
X-Google-DKIM-Signature: v=1; a=rsa-sha256; c=relaxed/relaxed;
 d=1e100.net; s=20230601; t=1710570854; x=1711175654;
 h=references:in-reply-to:cc:to:from:subject:message-id:date
 :x-gm-message-state:from:to:cc:subject:date:message-id:reply-to;
 bh=yZHkt/LdSp9WOBLjn6t2Ma8pUvMPaDR+MmZFVm6ndDc=;
 b=WQA5bX0jS8ShfInT53JRLpjspAepxPehnfrL3hSv7sqdrh+gSI9t4+pn38QwsIZjdo
 ev3ryM/YIsTveu/p1CPGMmW/xviuxk5D+I/GfAASX8syfs6BtYPzKWNCVORmf8IdHAaf
 5bUYKFkM8UPfRHeDS9BAlM2IKVMnPCrm1fZgfQH6t24Xr95UWkvpbIJGyoOr0cD/hOSM
 b2Co4zJCUQRvboUcbjDiSeLatD/s2MOUPmShJ6seqsxlBTiBwJNUspOdp8rHEA6ToEkK
 MoPC5tiudiLjdWR6JCZiWQUPxowI8OaEdGmxCBIkJw41CEcDbAzGQHLc5xgW1ETfvFXG
 F1QQ==
X-Gm-Message-State: AOJu0Yw+nYSlQzoM583r5NIL4sR2aO/ydZrpHmC0Zh2uZAKSE1hAkTv7
 MEj8WXg/HttbwQ8CfGxjFVzDcVeZZte4NlwNqmmxE1FYG1fp35MaRP2rjXQW7daSYq8CKNOBu7q
 vc/2b0/ybAsVNy7pr88jA+sZNr6TBQ280W82HXXy+mp8xKmy+D8bezFBd
X-Google-Smtp-Source: AGHT+IEXa7tB6IbgdKvxGPUmtMt/MpJFnT4MW1GcGUCt6dwuynkCB6CcYc1Tbt7q4nKyX+hxhole8uZnU8GH
X-Received: by 2002:a05:6102:18ce:b0:473:4531:745f with SMTP id
 jj14-20020a05610218ce00b004734531745fmr7192390vsb.30.1710570854320; 
 Fri, 15 Mar 2024 23:34:14 -0700 (PDT)
Received: from postal.iol.unh.edu (postal.iol.unh.edu.
 [2606:4100:3880:1234::84]) by smtp-relay.gmail.com with ESMTPS id
 z24-20020ab05658000000b007daa8defe2asm199529uaa.0.2024.03.15.23.34.14
 (version=TLS1_2 cipher=ECDHE-ECDSA-AES128-GCM-SHA256 bits=128/128);
 Fri, 15 Mar 2024 23:34:14 -0700 (PDT)
X-Relaying-Domain: iol.unh.edu
Date: Fri, 15 Mar 2024 23:34:14 -0700 (PDT)
Message-ID: <65f53d66.b00a0220.be1b7.d94cSMTPIN_ADDED_MISSING@mx.google.com>
Received: from [172.21.0.7] (unknown [172.18.0.240])
 by postal.iol.unh.edu (Postfix) with ESMTP id F15686052471;
 Sat, 16 Mar 2024 02:34:13 -0400 (EDT)
Subject: |SUCCESS| pw138435 [PATCH] windows: make getopt functions have const
From: dpdklab@iol.unh.edu
To: Test Report <test-report@dpdk.org>
Cc: dpdk-test-reports@iol.unh.edu
In-Reply-To: <20240315151407.7517-1-stephen@networkplumber.org>
References: <20240315151407.7517-1-stephen@networkplumber.org>
Content-Type: text/plain
X-BeenThere: test-report@dpdk.org
X-Mailman-Version: 2.1.29
Precedence: list
List-Id: automatic DPDK test reports <test-report.dpdk.org>
List-Unsubscribe: <https://mails.dpdk.org/options/test-report>,
 <mailto:test-report-request@dpdk.org?subject=unsubscribe>
List-Archive: <http://mails.dpdk.org/archives/test-report/>
List-Post: <mailto:test-report@dpdk.org>
List-Help: <mailto:test-report-request@dpdk.org?subject=help>
List-Subscribe: <https://mails.dpdk.org/listinfo/test-report>,
 <mailto:test-report-request@dpdk.org?subject=subscribe>
Errors-To: test-report-bounces@dpdk.org

Test-Label: iol-compile-amd64-testing
Test-Status: SUCCESS
http://dpdk.org/patch/138435

_Testing PASS_

Submitter: Stephen Hemminger <stephen@networkplumber.org>
Date: Friday, March 15 2024 15:14:06 
DPDK git baseline: Repo:dpdk
  Branch: master
  CommitID:7f82e9c89f3514715533feb34f46ff1ea95c6f98

138435 --> testing pass

Test environment and result as below:

+---------------------+--------------------+----------------------+
|     Environment     | dpdk_meson_compile | dpdk_mingw64_compile |
+=====================+====================+======================+
| Windows Server 2022 | PASS               | SKIPPED              |
+---------------------+--------------------+----------------------+
| FreeBSD 13.2        | PASS               | SKIPPED              |
+---------------------+--------------------+----------------------+
| CentOS Stream 8     | PASS               | SKIPPED              |
+---------------------+--------------------+----------------------+
| Windows Server 2019 | PASS               | PASS                 |
+---------------------+--------------------+----------------------+
| Debian 12 (arm)     | PASS               | SKIPPED              |
+---------------------+--------------------+----------------------+
| CentOS Stream 9     | PASS               | SKIPPED              |
+---------------------+--------------------+----------------------+
| Debian Bullseye     | PASS               | SKIPPED              |
+---------------------+--------------------+----------------------+
| Fedora 37           | PASS               | SKIPPED              |
+---------------------+--------------------+----------------------+
| Fedora 38           | PASS               | SKIPPED              |
+---------------------+--------------------+----------------------+


Windows Server 2022
	Kernel: OS Build 20348.2031
	Compiler: clang 15.0.7, gcc 8.1.0 (MinGW), and MSVC VS 17.9

FreeBSD 13.2
	Kernel: 13.2
	Compiler: clang 11.3.0

CentOS Stream 8
	Kernel: 4.18.0-240.10.1.el8_3.x86_64
	Compiler: gcc 8.4.1 20200928

Windows Server 2019
	Kernel: 10.0
	Compiler: clang 14.0 and gcc 8.1.0 (MinGW)

Debian 12 (arm)
	Kernel: Container Host Kernel
	Compiler: gcc 11

CentOS Stream 9
	Kernel: 4.18.0-240.10.1.el8_3.x86_64
	Compiler: gcc 11.3.1 20220421

Debian Bullseye
	Kernel: 5.4.0-122-generic
	Compiler: gcc 10.2.1-6

Fedora 37
	Kernel: Depends on container host system
	Compiler: gcc 12.3.1

Fedora 38
	Kernel: Depends on container host
	Compiler: gcc 13.1.1

To view detailed results, visit:
https://lab.dpdk.org/results/dashboard/patchsets/29574/

UNH-IOL DPDK Community Lab

To manage your email subscriptions, visit: 
https://lab.dpdk.org/results/dashboard/preferences/subscriptions/