From mboxrd@z Thu Jan  1 00:00:00 1970
Return-Path: <test-report-bounces@dpdk.org>
Received: from mails.dpdk.org (mails.dpdk.org [217.70.189.124])
	by inbox.dpdk.org (Postfix) with ESMTP id 9706043B85
	for <public@inbox.dpdk.org>; Sat, 16 Mar 2024 07:44:03 +0100 (CET)
Received: from mails.dpdk.org (localhost [127.0.0.1])
	by mails.dpdk.org (Postfix) with ESMTP id 939C142F07;
	Sat, 16 Mar 2024 07:44:03 +0100 (CET)
Received: from mail-qv1-f100.google.com (mail-qv1-f100.google.com
 [209.85.219.100])
 by mails.dpdk.org (Postfix) with ESMTP id DD10840266
 for <test-report@dpdk.org>; Sat, 16 Mar 2024 07:43:59 +0100 (CET)
Received: by mail-qv1-f100.google.com with SMTP id
 6a1803df08f44-690d75c73f4so17596026d6.2
 for <test-report@dpdk.org>; Fri, 15 Mar 2024 23:43:59 -0700 (PDT)
DKIM-Signature: v=1; a=rsa-sha256; c=relaxed/relaxed;
 d=iol.unh.edu; s=unh-iol; t=1710571439; x=1711176239; darn=dpdk.org;
 h=references:in-reply-to:cc:to:from:subject:message-id:date:from:to
 :cc:subject:date:message-id:reply-to;
 bh=fuB7m+xr1gbb5YZORaBr5GH4FIz+nKEvWluK4OoTL4E=;
 b=gx7WVFn6lgna+vJkaxSssazqfcw+uuBgNt3buNtc/GL9zjhQ8jy1VDxORFNYWGuPhN
 jOiu29Cc/Tejjq0dyeWXPQYf+wLQ+Jrbye+F/GHdJ2hs2CTwsAOmygUkpvoRS3iBqQdH
 En4o8ZI1XVbgSnqUAxh8ZmHFen7fvAh0Zlhx0=
X-Google-DKIM-Signature: v=1; a=rsa-sha256; c=relaxed/relaxed;
 d=1e100.net; s=20230601; t=1710571439; x=1711176239;
 h=references:in-reply-to:cc:to:from:subject:message-id:date
 :x-gm-message-state:from:to:cc:subject:date:message-id:reply-to;
 bh=fuB7m+xr1gbb5YZORaBr5GH4FIz+nKEvWluK4OoTL4E=;
 b=o1zWdtf9sEGpRoNmN7o4NmBSRwU8u1OeSYCaeGbFy/RV5wbhXbLzWTr19RBilXRjSY
 ETvfaAMoJCDVrmxUOn//ZRK6p/9qSAXbGGNjAVpdsQPtD9wd8PMX7AnBPwtxBeWrIpWK
 SNL6M+CqyQgxbpDSsVXk4ReH6DhyN16ibVRfz7UqcOUfVgP5fXJ1X4Pq2JU3wpPzXsCH
 sigDZn0ZIMZTR4sHsxFo2JHw5PDciczpTjTJ4qHF/gYr5T0ZFmWWqFqLzeDIFwTWIAPY
 DsWjjdVyGDfopFyAt7QUBTDfdtEfNZiMK0RSIJHv0GnwraCnD0tMmc6zZD8p+K8jtJ3f
 IepQ==
X-Gm-Message-State: AOJu0YzQruOIfFifBKP71H4qa9PpCdXo9bfPJlwpDUDjkoMUscB45ZGY
 Xcjouai+SZUVI8OgtwFZN9soTHMT7o+ztPoqD7AQNYxMl+EsChY1rXtVfyOnl0Motm2OZ4LYDR1
 ZrNLUe+aC2gzyshPXS6V2eqbI0sUJSS6YAnbjUNxu0OkgLckTe2p9RRQC
X-Google-Smtp-Source: AGHT+IFmkUrADr6tNhuebsWSguxf9KjHln4UeAQazKoh6nE1qHF26b/IinBfrtdKHtjhvjF8RCdTroR6o0Fw
X-Received: by 2002:a0c:e1c8:0:b0:691:a8a:d35f with SMTP id
 v8-20020a0ce1c8000000b006910a8ad35fmr7546744qvl.51.1710571439393; 
 Fri, 15 Mar 2024 23:43:59 -0700 (PDT)
Received: from postal.iol.unh.edu (postal.iol.unh.edu.
 [2606:4100:3880:1234::84]) by smtp-relay.gmail.com with ESMTPS id
 7-20020a0562140dc700b00690a446bd92sm232811qvt.16.2024.03.15.23.43.59
 (version=TLS1_2 cipher=ECDHE-ECDSA-AES128-GCM-SHA256 bits=128/128);
 Fri, 15 Mar 2024 23:43:59 -0700 (PDT)
X-Relaying-Domain: iol.unh.edu
Date: Fri, 15 Mar 2024 23:43:59 -0700 (PDT)
Message-ID: <65f53faf.050a0220.cbce3.14fbSMTPIN_ADDED_MISSING@mx.google.com>
Received: from [172.17.0.7] (unknown [172.18.0.217])
 by postal.iol.unh.edu (Postfix) with ESMTP id 1DFC66052471;
 Sat, 16 Mar 2024 02:43:59 -0400 (EDT)
Subject: |SUCCESS| pw138435 [PATCH] windows: make getopt functions have const
From: dpdklab@iol.unh.edu
To: Test Report <test-report@dpdk.org>
Cc: dpdk-test-reports@iol.unh.edu
In-Reply-To: <20240315151407.7517-1-stephen@networkplumber.org>
References: <20240315151407.7517-1-stephen@networkplumber.org>
Content-Type: text/plain
X-BeenThere: test-report@dpdk.org
X-Mailman-Version: 2.1.29
Precedence: list
List-Id: automatic DPDK test reports <test-report.dpdk.org>
List-Unsubscribe: <https://mails.dpdk.org/options/test-report>,
 <mailto:test-report-request@dpdk.org?subject=unsubscribe>
List-Archive: <http://mails.dpdk.org/archives/test-report/>
List-Post: <mailto:test-report@dpdk.org>
List-Help: <mailto:test-report-request@dpdk.org?subject=help>
List-Subscribe: <https://mails.dpdk.org/listinfo/test-report>,
 <mailto:test-report-request@dpdk.org?subject=subscribe>
Errors-To: test-report-bounces@dpdk.org

Test-Label: iol-compile-amd64-testing
Test-Status: SUCCESS
http://dpdk.org/patch/138435

_Testing PASS_

Submitter: Stephen Hemminger <stephen@networkplumber.org>
Date: Friday, March 15 2024 15:14:06 
DPDK git baseline: Repo:dpdk
  Branch: master
  CommitID:7f82e9c89f3514715533feb34f46ff1ea95c6f98

138435 --> testing pass

Test environment and result as below:

+---------------------+--------------------+----------------------+
|     Environment     | dpdk_meson_compile | dpdk_mingw64_compile |
+=====================+====================+======================+
| Windows Server 2022 | PASS               | SKIPPED              |
+---------------------+--------------------+----------------------+
| FreeBSD 13.2        | PASS               | SKIPPED              |
+---------------------+--------------------+----------------------+
| CentOS Stream 8     | PASS               | SKIPPED              |
+---------------------+--------------------+----------------------+
| Windows Server 2019 | PASS               | PASS                 |
+---------------------+--------------------+----------------------+
| Debian 12 (arm)     | PASS               | SKIPPED              |
+---------------------+--------------------+----------------------+
| CentOS Stream 9     | PASS               | SKIPPED              |
+---------------------+--------------------+----------------------+
| Debian Bullseye     | PASS               | SKIPPED              |
+---------------------+--------------------+----------------------+
| Fedora 37           | PASS               | SKIPPED              |
+---------------------+--------------------+----------------------+
| Fedora 38           | PASS               | SKIPPED              |
+---------------------+--------------------+----------------------+
| RHEL8               | PASS               | SKIPPED              |
+---------------------+--------------------+----------------------+
| Ubuntu 20.04        | PASS               | SKIPPED              |
+---------------------+--------------------+----------------------+
| Ubuntu 22.04        | PASS               | SKIPPED              |
+---------------------+--------------------+----------------------+
| openSUSE Leap 15    | PASS               | SKIPPED              |
+---------------------+--------------------+----------------------+
| Alpine              | PASS               | SKIPPED              |
+---------------------+--------------------+----------------------+


Windows Server 2022
	Kernel: OS Build 20348.2031
	Compiler: clang 15.0.7, gcc 8.1.0 (MinGW), and MSVC VS 17.9

FreeBSD 13.2
	Kernel: 13.2
	Compiler: clang 11.3.0

CentOS Stream 8
	Kernel: 4.18.0-240.10.1.el8_3.x86_64
	Compiler: gcc 8.4.1 20200928

Windows Server 2019
	Kernel: 10.0
	Compiler: clang 14.0 and gcc 8.1.0 (MinGW)

Debian 12 (arm)
	Kernel: Container Host Kernel
	Compiler: gcc 11

CentOS Stream 9
	Kernel: 4.18.0-240.10.1.el8_3.x86_64
	Compiler: gcc 11.3.1 20220421

Debian Bullseye
	Kernel: 5.4.0-122-generic
	Compiler: gcc 10.2.1-6

Fedora 37
	Kernel: Depends on container host system
	Compiler: gcc 12.3.1

Fedora 38
	Kernel: Depends on container host
	Compiler: gcc 13.1.1

RHEL8
	Kernel: 4.18.0-240.10.1.el8_3.x86_64
	Compiler: gcc 8.3.1 20191121 (Red Hat 8.3.1-5)

Ubuntu 20.04
	Kernel: 5.4.0-153-generic
	Compiler: gcc 9.4.0-1ubuntu1~20.04.1

Ubuntu 22.04
	Kernel: 4.18.0-240.10.1.el8_3.x86_64
	Compiler: gcc 11.3.0

openSUSE Leap 15
	Kernel: 4.18.0-240.10.1.el8_3.x86_64
	Compiler: gcc 7.5.0

Alpine
	Kernel: 5.4.0-167-generic
	Compiler: gcc (Alpine 12.2.1_git20220924-r10) 12.2.1 20220924

To view detailed results, visit:
https://lab.dpdk.org/results/dashboard/patchsets/29574/

UNH-IOL DPDK Community Lab

To manage your email subscriptions, visit: 
https://lab.dpdk.org/results/dashboard/preferences/subscriptions/