From mboxrd@z Thu Jan  1 00:00:00 1970
Return-Path: <test-report-bounces@dpdk.org>
Received: from mails.dpdk.org (mails.dpdk.org [217.70.189.124])
	by inbox.dpdk.org (Postfix) with ESMTP id 911B943C82
	for <public@inbox.dpdk.org>; Sat, 16 Mar 2024 08:06:31 +0100 (CET)
Received: from mails.dpdk.org (localhost [127.0.0.1])
	by mails.dpdk.org (Postfix) with ESMTP id 8B01B402E5;
	Sat, 16 Mar 2024 08:06:31 +0100 (CET)
Received: from mail-oa1-f100.google.com (mail-oa1-f100.google.com
 [209.85.160.100])
 by mails.dpdk.org (Postfix) with ESMTP id C6FDB40266
 for <test-report@dpdk.org>; Sat, 16 Mar 2024 08:06:29 +0100 (CET)
Received: by mail-oa1-f100.google.com with SMTP id
 586e51a60fabf-22187576d54so2221786fac.1
 for <test-report@dpdk.org>; Sat, 16 Mar 2024 00:06:29 -0700 (PDT)
DKIM-Signature: v=1; a=rsa-sha256; c=relaxed/relaxed;
 d=iol.unh.edu; s=unh-iol; t=1710572789; x=1711177589; darn=dpdk.org;
 h=references:in-reply-to:cc:to:from:subject:message-id:date:from:to
 :cc:subject:date:message-id:reply-to;
 bh=1vPJq9biDHqcY+iMpenHT1NNJA0E9pnMbsnQeUPJWRE=;
 b=jSkvvObL2Hr8a0voFYLLhKiBWRrPfYrLX2KT8u6mSpMTvOpKnEY6sGBSpntbbLWkQN
 xjjbWP6XeyBTXdpne3T5hbDh0dEYkUUau9XGMHqc/kGAfnDdCGWYvtMReAoOmjUaPqWL
 FCw9LYTqTTZPbm4irX2PdNBY4otHJxnWwDlME=
X-Google-DKIM-Signature: v=1; a=rsa-sha256; c=relaxed/relaxed;
 d=1e100.net; s=20230601; t=1710572789; x=1711177589;
 h=references:in-reply-to:cc:to:from:subject:message-id:date
 :x-gm-message-state:from:to:cc:subject:date:message-id:reply-to;
 bh=1vPJq9biDHqcY+iMpenHT1NNJA0E9pnMbsnQeUPJWRE=;
 b=VhyM+SANyN7a6aPsKAYyF8QNBvOgBh8fujz3R+hJvjuJNL/ZBYjdsRzzZParPVHu9n
 npaFun0qWaLXBvvqv4TqffUwcNk+Rpz9y88HwFSg3f+xLiZtR0mirZFAsoln1oW1pbAD
 rhD1Dq6BhdSfSxeTkmTcqbNzyWXsqG496GNTknSRJu0EvoLA1voM0IIoAw3YO7PkKsKh
 OKL/5M41eRTGqOXiMqSYngsr6IhfchKzlEk+wL/J0mGTn3kRBAd+7JBeuiyB2S3Jht+M
 OHNF5rYy8xOU0oyP6TUbmPFD4MFzxPWwdExOBYObTpm/qh2uhsj75IX9l/HxtJZiYqha
 pSeg==
X-Gm-Message-State: AOJu0YxZetbDeXefuOGJkHIqDFqBSFeVPYH6ThWERB5LBs/5U+y7gnCs
 YxMskAtUKahbyYfDXhGwGkIUWI43tAbBjurv3RCGcQHc7pulxo4jtlkSp2i4se8jA4K3IxiQM5W
 RCB1tbQF0fbk/sH7t7uYUHUhhYhqRuqViI0UoUmJ4
X-Google-Smtp-Source: AGHT+IG8fWIyrlxzsxtzs5TXCu1vbsJt8a1H+pxn42eXDg+7lnLg5lHJrT5Onf3jRiivzfWoUNRUymbmerYS
X-Received: by 2002:a05:6870:a54b:b0:21e:df12:9499 with SMTP id
 p11-20020a056870a54b00b0021edf129499mr7624844oal.51.1710572789144; 
 Sat, 16 Mar 2024 00:06:29 -0700 (PDT)
Received: from postal.iol.unh.edu (postal.iol.unh.edu. [132.177.123.84])
 by smtp-relay.gmail.com with ESMTPS id
 zc21-20020a056871271500b0021de29f59e6sm99918oab.12.2024.03.16.00.06.29
 (version=TLS1_2 cipher=ECDHE-ECDSA-AES128-GCM-SHA256 bits=128/128);
 Sat, 16 Mar 2024 00:06:29 -0700 (PDT)
X-Relaying-Domain: iol.unh.edu
Date: Sat, 16 Mar 2024 00:06:29 -0700 (PDT)
Message-ID: <65f544f5.050a0220.ef565.62b7SMTPIN_ADDED_MISSING@mx.google.com>
Received: from [172.17.0.8] (unknown [172.18.0.217])
 by postal.iol.unh.edu (Postfix) with ESMTP id 8E90E6052471;
 Sat, 16 Mar 2024 03:06:28 -0400 (EDT)
Subject: |SUCCESS| pw138435 [PATCH] windows: make getopt functions have const
From: dpdklab@iol.unh.edu
To: Test Report <test-report@dpdk.org>
Cc: dpdk-test-reports@iol.unh.edu
In-Reply-To: <20240315151407.7517-1-stephen@networkplumber.org>
References: <20240315151407.7517-1-stephen@networkplumber.org>
Content-Type: text/plain
X-BeenThere: test-report@dpdk.org
X-Mailman-Version: 2.1.29
Precedence: list
List-Id: automatic DPDK test reports <test-report.dpdk.org>
List-Unsubscribe: <https://mails.dpdk.org/options/test-report>,
 <mailto:test-report-request@dpdk.org?subject=unsubscribe>
List-Archive: <http://mails.dpdk.org/archives/test-report/>
List-Post: <mailto:test-report@dpdk.org>
List-Help: <mailto:test-report-request@dpdk.org?subject=help>
List-Subscribe: <https://mails.dpdk.org/listinfo/test-report>,
 <mailto:test-report-request@dpdk.org?subject=subscribe>
Errors-To: test-report-bounces@dpdk.org

Test-Label: iol-compile-amd64-testing
Test-Status: SUCCESS
http://dpdk.org/patch/138435

_Testing PASS_

Submitter: Stephen Hemminger <stephen@networkplumber.org>
Date: Friday, March 15 2024 15:14:06 
DPDK git baseline: Repo:dpdk
  Branch: master
  CommitID:7f82e9c89f3514715533feb34f46ff1ea95c6f98

138435 --> testing pass

Test environment and result as below:

+---------------------+--------------------+----------------------+
|     Environment     | dpdk_meson_compile | dpdk_mingw64_compile |
+=====================+====================+======================+
| Windows Server 2022 | PASS               | PASS                 |
+---------------------+--------------------+----------------------+
| FreeBSD 13.2        | PASS               | SKIPPED              |
+---------------------+--------------------+----------------------+
| CentOS Stream 8     | PASS               | SKIPPED              |
+---------------------+--------------------+----------------------+
| Windows Server 2019 | PASS               | PASS                 |
+---------------------+--------------------+----------------------+
| Debian 12 (arm)     | PASS               | SKIPPED              |
+---------------------+--------------------+----------------------+
| CentOS Stream 9     | PASS               | SKIPPED              |
+---------------------+--------------------+----------------------+
| Debian Bullseye     | PASS               | SKIPPED              |
+---------------------+--------------------+----------------------+
| Fedora 37           | PASS               | SKIPPED              |
+---------------------+--------------------+----------------------+
| Fedora 38           | PASS               | SKIPPED              |
+---------------------+--------------------+----------------------+
| RHEL8               | PASS               | SKIPPED              |
+---------------------+--------------------+----------------------+
| Ubuntu 20.04        | PASS               | SKIPPED              |
+---------------------+--------------------+----------------------+
| Ubuntu 22.04        | PASS               | SKIPPED              |
+---------------------+--------------------+----------------------+
| openSUSE Leap 15    | PASS               | SKIPPED              |
+---------------------+--------------------+----------------------+
| Alpine              | PASS               | SKIPPED              |
+---------------------+--------------------+----------------------+


Windows Server 2022
	Kernel: OS Build 20348.2031
	Compiler: clang 15.0.7, gcc 8.1.0 (MinGW), and MSVC VS 17.9

FreeBSD 13.2
	Kernel: 13.2
	Compiler: clang 11.3.0

CentOS Stream 8
	Kernel: 4.18.0-240.10.1.el8_3.x86_64
	Compiler: gcc 8.4.1 20200928

Windows Server 2019
	Kernel: 10.0
	Compiler: clang 14.0 and gcc 8.1.0 (MinGW)

Debian 12 (arm)
	Kernel: Container Host Kernel
	Compiler: gcc 11

CentOS Stream 9
	Kernel: 4.18.0-240.10.1.el8_3.x86_64
	Compiler: gcc 11.3.1 20220421

Debian Bullseye
	Kernel: 5.4.0-122-generic
	Compiler: gcc 10.2.1-6

Fedora 37
	Kernel: Depends on container host system
	Compiler: gcc 12.3.1

Fedora 38
	Kernel: Depends on container host
	Compiler: gcc 13.1.1

RHEL8
	Kernel: 4.18.0-240.10.1.el8_3.x86_64
	Compiler: gcc 8.3.1 20191121 (Red Hat 8.3.1-5)

Ubuntu 20.04
	Kernel: 5.4.0-153-generic
	Compiler: gcc 9.4.0-1ubuntu1~20.04.1

Ubuntu 22.04
	Kernel: 4.18.0-240.10.1.el8_3.x86_64
	Compiler: gcc 11.3.0

openSUSE Leap 15
	Kernel: 4.18.0-240.10.1.el8_3.x86_64
	Compiler: gcc 7.5.0

Alpine
	Kernel: 5.4.0-167-generic
	Compiler: gcc (Alpine 12.2.1_git20220924-r10) 12.2.1 20220924

To view detailed results, visit:
https://lab.dpdk.org/results/dashboard/patchsets/29574/

UNH-IOL DPDK Community Lab

To manage your email subscriptions, visit: 
https://lab.dpdk.org/results/dashboard/preferences/subscriptions/