From mboxrd@z Thu Jan  1 00:00:00 1970
Return-Path: <test-report-bounces@dpdk.org>
Received: from mails.dpdk.org (mails.dpdk.org [217.70.189.124])
	by inbox.dpdk.org (Postfix) with ESMTP id 1149843CBF
	for <public@inbox.dpdk.org>; Sat, 16 Mar 2024 08:08:30 +0100 (CET)
Received: from mails.dpdk.org (localhost [127.0.0.1])
	by mails.dpdk.org (Postfix) with ESMTP id 0D1D64026F;
	Sat, 16 Mar 2024 08:08:30 +0100 (CET)
Received: from mail-ua1-f99.google.com (mail-ua1-f99.google.com
 [209.85.222.99]) by mails.dpdk.org (Postfix) with ESMTP id 7C73740266
 for <test-report@dpdk.org>; Sat, 16 Mar 2024 08:08:28 +0100 (CET)
Received: by mail-ua1-f99.google.com with SMTP id
 a1e0cc1a2514c-7de17974a6fso1049387241.2
 for <test-report@dpdk.org>; Sat, 16 Mar 2024 00:08:28 -0700 (PDT)
DKIM-Signature: v=1; a=rsa-sha256; c=relaxed/relaxed;
 d=iol.unh.edu; s=unh-iol; t=1710572908; x=1711177708; darn=dpdk.org;
 h=references:in-reply-to:cc:to:from:subject:message-id:date:from:to
 :cc:subject:date:message-id:reply-to;
 bh=ZjhN6Qyajm9+qwQ1EvXSxngzy6IzWkgGVGfJFmBRUPg=;
 b=b//paOC0cweJK5lL43pCEb74UveqrmgaDhtKgwJ4bJ2F2ioSLTCVvzOIwZssddnpqv
 6DG6JH9pbxzDXJd0R3SXFNaH3/bMISvXVPOwkKjhQU69r/zrjDih3NKeILQeAGVPmdE4
 at9bnx+MOwYrdZkbFPd7e9Yj53f/khzeqHQrg=
X-Google-DKIM-Signature: v=1; a=rsa-sha256; c=relaxed/relaxed;
 d=1e100.net; s=20230601; t=1710572908; x=1711177708;
 h=references:in-reply-to:cc:to:from:subject:message-id:date
 :x-gm-message-state:from:to:cc:subject:date:message-id:reply-to;
 bh=ZjhN6Qyajm9+qwQ1EvXSxngzy6IzWkgGVGfJFmBRUPg=;
 b=ISYmhtGwXv4HNflBiEQKCZbGDogo43z9Sqi7p7Cq7n9YBgQXwXNsfj977aNjMqIQI+
 U9Zd0JG49Ombghs6PzyV8TsPcMea6EzC74z9snaRebG9pwPPffZAww/sWaXT35PPjam/
 BE8siFZvGXDUpW0d1XDowD0PPaPgHtHWr51zKBYvW2dpdCnwNpr+lPVzFzRZcBVfHnVU
 ksS6TWf1ZFOwF7gu/izGEX9Q5HFPcm/CpyJECgDg1aHLI5ivEldXhfasBG2pCfN3HZCO
 DWiOXITWFbOMCV0H9+QJAFbg/RETQuP9Oa/Eq9rTgxFNVWFAWbyw8Ya66NcmgqEoTf0t
 wo2w==
X-Gm-Message-State: AOJu0YwErn6XYAsa0acFSzT7iWhxjB7UTIglOPgtUH74FtqpmS5IPX9r
 irlMpRoFim87lMTvrf0Fk1mikt2ljK66y7tn3L5tGf7TIby2nHSnXCw3W6/4HeEBGRptPV639H3
 s176QoHkQhDdhkxJfVzs9GBRpiL8xUuvkxxrTYJHH4knqPB2vfId2vkBc
X-Google-Smtp-Source: AGHT+IEBiKVfb0cE9jmFiAaZbAABXWjLGp7L334XzyS+8WlSEg82xJw0yduWxudZfC62B74azjXAaSvYezGe
X-Received: by 2002:a05:6102:11e2:b0:474:cdd0:2c42 with SMTP id
 e2-20020a05610211e200b00474cdd02c42mr7228526vsg.4.1710572907813; 
 Sat, 16 Mar 2024 00:08:27 -0700 (PDT)
Received: from postal.iol.unh.edu (postal.iol.unh.edu.
 [2606:4100:3880:1234::84]) by smtp-relay.gmail.com with ESMTPS id
 s131-20020a1ff489000000b004d4239a2505sm360270vkh.13.2024.03.16.00.08.27
 (version=TLS1_2 cipher=ECDHE-ECDSA-AES128-GCM-SHA256 bits=128/128);
 Sat, 16 Mar 2024 00:08:27 -0700 (PDT)
X-Relaying-Domain: iol.unh.edu
Date: Sat, 16 Mar 2024 00:08:27 -0700 (PDT)
Message-ID: <65f5456b.1f0a0220.f5f2a.8307SMTPIN_ADDED_MISSING@mx.google.com>
Received: from [172.21.0.6] (unknown [172.18.0.240])
 by postal.iol.unh.edu (Postfix) with ESMTP id 784166052471;
 Sat, 16 Mar 2024 03:08:27 -0400 (EDT)
Subject: |SUCCESS| pw138436-138437 [PATCH] [2/2] net/bnxt: fix init failures
From: dpdklab@iol.unh.edu
To: Test Report <test-report@dpdk.org>
Cc: dpdk-test-reports@iol.unh.edu
In-Reply-To: <20240316035441.76438-3-ajit.khaparde@broadcom.com>
References: <20240316035441.76438-3-ajit.khaparde@broadcom.com>
Content-Type: text/plain
X-BeenThere: test-report@dpdk.org
X-Mailman-Version: 2.1.29
Precedence: list
List-Id: automatic DPDK test reports <test-report.dpdk.org>
List-Unsubscribe: <https://mails.dpdk.org/options/test-report>,
 <mailto:test-report-request@dpdk.org?subject=unsubscribe>
List-Archive: <http://mails.dpdk.org/archives/test-report/>
List-Post: <mailto:test-report@dpdk.org>
List-Help: <mailto:test-report-request@dpdk.org?subject=help>
List-Subscribe: <https://mails.dpdk.org/listinfo/test-report>,
 <mailto:test-report-request@dpdk.org?subject=subscribe>
Errors-To: test-report-bounces@dpdk.org

Test-Label: iol-unit-amd64-testing
Test-Status: SUCCESS
http://dpdk.org/patch/138437

_Testing PASS_

Submitter: Ajit Khaparde <ajit.khaparde@broadcom.com>
Date: Saturday, March 16 2024 03:54:41 
DPDK git baseline: Repo:dpdk
  Branch: master
  CommitID:7f82e9c89f3514715533feb34f46ff1ea95c6f98

138436-138437 --> testing pass

Test environment and result as below:

+---------------------+----------------+
|     Environment     | dpdk_unit_test |
+=====================+================+
| Windows Server 2019 | PASS           |
+---------------------+----------------+
| Windows Server 2022 | PASS           |
+---------------------+----------------+
| CentOS Stream 8     | PASS           |
+---------------------+----------------+
| CentOS Stream 9     | PASS           |
+---------------------+----------------+
| Debian Bullseye     | PASS           |
+---------------------+----------------+
| Fedora 37           | PASS           |
+---------------------+----------------+
| Debian 12 (arm)     | PASS           |
+---------------------+----------------+
| Ubuntu 22.04        | PASS           |
+---------------------+----------------+
| openSUSE Leap 15    | PASS           |
+---------------------+----------------+
| RHEL8               | PASS           |
+---------------------+----------------+
| Ubuntu 20.04        | PASS           |
+---------------------+----------------+
| Fedora 38           | PASS           |
+---------------------+----------------+


Windows Server 2019
	Kernel: 10.0
	Compiler: clang 14.0 and gcc 8.1.0 (MinGW)

Windows Server 2022
	Kernel: OS Build 20348.2031
	Compiler: clang 15.0.7, gcc 8.1.0 (MinGW), and MSVC VS 17.9

CentOS Stream 8
	Kernel: 4.18.0-240.10.1.el8_3.x86_64
	Compiler: gcc 8.4.1 20200928

CentOS Stream 9
	Kernel: 4.18.0-240.10.1.el8_3.x86_64
	Compiler: gcc 11.3.1 20220421

Debian Bullseye
	Kernel: 5.4.0-122-generic
	Compiler: gcc 10.2.1-6

Fedora 37
	Kernel: Depends on container host system
	Compiler: gcc 12.3.1

Debian 12 (arm)
	Kernel: Container Host Kernel
	Compiler: gcc 11

Ubuntu 22.04
	Kernel: 4.18.0-240.10.1.el8_3.x86_64
	Compiler: gcc 11.3.0

openSUSE Leap 15
	Kernel: 4.18.0-240.10.1.el8_3.x86_64
	Compiler: gcc 7.5.0

RHEL8
	Kernel: 4.18.0-240.10.1.el8_3.x86_64
	Compiler: gcc 8.3.1 20191121 (Red Hat 8.3.1-5)

Ubuntu 20.04
	Kernel: 5.4.0-153-generic
	Compiler: gcc 9.4.0-1ubuntu1~20.04.1

Fedora 38
	Kernel: Depends on container host
	Compiler: clang 16.0.3

To view detailed results, visit:
https://lab.dpdk.org/results/dashboard/patchsets/29575/

UNH-IOL DPDK Community Lab

To manage your email subscriptions, visit: 
https://lab.dpdk.org/results/dashboard/preferences/subscriptions/