From mboxrd@z Thu Jan  1 00:00:00 1970
Return-Path: <test-report-bounces@dpdk.org>
Received: from mails.dpdk.org (mails.dpdk.org [217.70.189.124])
	by inbox.dpdk.org (Postfix) with ESMTP id 4B0BF43CBF
	for <public@inbox.dpdk.org>; Sat, 16 Mar 2024 08:15:52 +0100 (CET)
Received: from mails.dpdk.org (localhost [127.0.0.1])
	by mails.dpdk.org (Postfix) with ESMTP id 4794D42F13;
	Sat, 16 Mar 2024 08:15:52 +0100 (CET)
Received: from mail-qv1-f98.google.com (mail-qv1-f98.google.com
 [209.85.219.98]) by mails.dpdk.org (Postfix) with ESMTP id 6AA6F40266
 for <test-report@dpdk.org>; Sat, 16 Mar 2024 08:15:39 +0100 (CET)
Received: by mail-qv1-f98.google.com with SMTP id
 6a1803df08f44-690b100da62so18986686d6.1
 for <test-report@dpdk.org>; Sat, 16 Mar 2024 00:15:39 -0700 (PDT)
DKIM-Signature: v=1; a=rsa-sha256; c=relaxed/relaxed;
 d=iol.unh.edu; s=unh-iol; t=1710573339; x=1711178139; darn=dpdk.org;
 h=references:in-reply-to:cc:to:from:subject:message-id:date:from:to
 :cc:subject:date:message-id:reply-to;
 bh=ZjhN6Qyajm9+qwQ1EvXSxngzy6IzWkgGVGfJFmBRUPg=;
 b=c0c3CTCfslfuC5Tv9+o5AmtC0QXpvg9AtTyv5Y6VPSjzQAVf8yKRqXnPgYKVs4RFwU
 XldsEtbwAUmi8RZYSevKxR+lRmzUyFsTGgBplftlBCvqQ5pRpuq8E0HRujzHQzp1dAjb
 9XipYF+/onFtyB4nW+lkKS69eo+VFl5y/t1G8=
X-Google-DKIM-Signature: v=1; a=rsa-sha256; c=relaxed/relaxed;
 d=1e100.net; s=20230601; t=1710573339; x=1711178139;
 h=references:in-reply-to:cc:to:from:subject:message-id:date
 :x-gm-message-state:from:to:cc:subject:date:message-id:reply-to;
 bh=ZjhN6Qyajm9+qwQ1EvXSxngzy6IzWkgGVGfJFmBRUPg=;
 b=AwbikKl06IxheBYZWGixwFL9tMkRthzB+bG203xsce6QOkXBEdbV+gnjdOnVvfHpzX
 e/N/gEYa7DYhcTL/xwSsmTStzndOwn/85TBr1u+BW3tUyULjuzPc3F76wadk12NKWKbW
 qNKWwmnmqsc6N349dXvUT4/01SH7pnGEdla1MayV0ecPCDYacK5pxR10XBvgSxT0Wkwq
 WKJdvt0A7oDAljOt5Dk7grV/5APK2/K6tmgXEB/Lre5TI4nQrmqrvpDjXv3MSG+7ZuqY
 Gd7KIHQW1r2b7g9CbBydynKfK/IV4J11RH1Y/qUmaMoHyG6s8KFKlY0bhm1DXVQXThF2
 /pIA==
X-Gm-Message-State: AOJu0YwxdCNuPuDEBTepKyrSs+qwntM6BF9E1Gne1+qdcACdUv+gz85E
 8FcZCCXM/V+0X7YNkxyhWUcZtZLnC35itQvvZBoJIHb98LSoxlrflxjjbkAE0YB8u1aiELF4x+o
 +zextLQf1UZQGdpNsR3ZvDpX4FZVygy7sj/1dMDG84kv2fb5o1kKDW66C
X-Google-Smtp-Source: AGHT+IG+qOWTvtDaz9FM2s04ivKsQ7DoOKyD0srhhDYxGayPeFqtN6bO3PLTPkEDso2PLffZ+ysLny1Wau7O
X-Received: by 2002:a05:6214:8d4:b0:691:122f:229f with SMTP id
 da20-20020a05621408d400b00691122f229fmr7046378qvb.0.1710573338900; 
 Sat, 16 Mar 2024 00:15:38 -0700 (PDT)
Received: from postal.iol.unh.edu (postal.iol.unh.edu.
 [2606:4100:3880:1234::84]) by smtp-relay.gmail.com with ESMTPS id
 z4-20020a056214040400b0068efbfcfecasm225370qvx.20.2024.03.16.00.15.38
 (version=TLS1_2 cipher=ECDHE-ECDSA-AES128-GCM-SHA256 bits=128/128);
 Sat, 16 Mar 2024 00:15:38 -0700 (PDT)
X-Relaying-Domain: iol.unh.edu
Date: Sat, 16 Mar 2024 00:15:38 -0700 (PDT)
Message-ID: <65f5471a.050a0220.d591d.14f5SMTPIN_ADDED_MISSING@mx.google.com>
Received: from [172.21.0.7] (unknown [172.18.0.240])
 by postal.iol.unh.edu (Postfix) with ESMTP id 9A3B06052471;
 Sat, 16 Mar 2024 03:15:38 -0400 (EDT)
Subject: |SUCCESS| pw138436-138437 [PATCH] [2/2] net/bnxt: fix init failures
From: dpdklab@iol.unh.edu
To: Test Report <test-report@dpdk.org>
Cc: dpdk-test-reports@iol.unh.edu
In-Reply-To: <20240316035441.76438-3-ajit.khaparde@broadcom.com>
References: <20240316035441.76438-3-ajit.khaparde@broadcom.com>
Content-Type: text/plain
X-BeenThere: test-report@dpdk.org
X-Mailman-Version: 2.1.29
Precedence: list
List-Id: automatic DPDK test reports <test-report.dpdk.org>
List-Unsubscribe: <https://mails.dpdk.org/options/test-report>,
 <mailto:test-report-request@dpdk.org?subject=unsubscribe>
List-Archive: <http://mails.dpdk.org/archives/test-report/>
List-Post: <mailto:test-report@dpdk.org>
List-Help: <mailto:test-report-request@dpdk.org?subject=help>
List-Subscribe: <https://mails.dpdk.org/listinfo/test-report>,
 <mailto:test-report-request@dpdk.org?subject=subscribe>
Errors-To: test-report-bounces@dpdk.org

Test-Label: iol-unit-amd64-testing
Test-Status: SUCCESS
http://dpdk.org/patch/138437

_Testing PASS_

Submitter: Ajit Khaparde <ajit.khaparde@broadcom.com>
Date: Saturday, March 16 2024 03:54:41 
DPDK git baseline: Repo:dpdk
  Branch: master
  CommitID:7f82e9c89f3514715533feb34f46ff1ea95c6f98

138436-138437 --> testing pass

Test environment and result as below:

+---------------------+----------------+
|     Environment     | dpdk_unit_test |
+=====================+================+
| Windows Server 2019 | PASS           |
+---------------------+----------------+
| Windows Server 2022 | PASS           |
+---------------------+----------------+
| CentOS Stream 8     | PASS           |
+---------------------+----------------+
| CentOS Stream 9     | PASS           |
+---------------------+----------------+
| Debian Bullseye     | PASS           |
+---------------------+----------------+
| Fedora 37           | PASS           |
+---------------------+----------------+
| Debian 12 (arm)     | PASS           |
+---------------------+----------------+
| Ubuntu 22.04        | PASS           |
+---------------------+----------------+
| openSUSE Leap 15    | PASS           |
+---------------------+----------------+
| RHEL8               | PASS           |
+---------------------+----------------+
| Ubuntu 20.04        | PASS           |
+---------------------+----------------+
| Fedora 38           | PASS           |
+---------------------+----------------+


Windows Server 2019
	Kernel: 10.0
	Compiler: clang 14.0 and gcc 8.1.0 (MinGW)

Windows Server 2022
	Kernel: OS Build 20348.2031
	Compiler: clang 15.0.7, gcc 8.1.0 (MinGW), and MSVC VS 17.9

CentOS Stream 8
	Kernel: 4.18.0-240.10.1.el8_3.x86_64
	Compiler: gcc 8.4.1 20200928

CentOS Stream 9
	Kernel: 4.18.0-240.10.1.el8_3.x86_64
	Compiler: gcc 11.3.1 20220421

Debian Bullseye
	Kernel: 5.4.0-122-generic
	Compiler: gcc 10.2.1-6

Fedora 37
	Kernel: Depends on container host system
	Compiler: gcc 12.3.1

Debian 12 (arm)
	Kernel: Container Host Kernel
	Compiler: gcc 11

Ubuntu 22.04
	Kernel: 4.18.0-240.10.1.el8_3.x86_64
	Compiler: gcc 11.3.0

openSUSE Leap 15
	Kernel: 4.18.0-240.10.1.el8_3.x86_64
	Compiler: gcc 7.5.0

RHEL8
	Kernel: 4.18.0-240.10.1.el8_3.x86_64
	Compiler: gcc 8.3.1 20191121 (Red Hat 8.3.1-5)

Ubuntu 20.04
	Kernel: 5.4.0-153-generic
	Compiler: gcc 9.4.0-1ubuntu1~20.04.1

Fedora 38
	Kernel: Depends on container host
	Compiler: clang 16.0.3

To view detailed results, visit:
https://lab.dpdk.org/results/dashboard/patchsets/29575/

UNH-IOL DPDK Community Lab

To manage your email subscriptions, visit: 
https://lab.dpdk.org/results/dashboard/preferences/subscriptions/