From mboxrd@z Thu Jan  1 00:00:00 1970
Return-Path: <test-report-bounces@dpdk.org>
Received: from mails.dpdk.org (mails.dpdk.org [217.70.189.124])
	by inbox.dpdk.org (Postfix) with ESMTP id D80B443CBF
	for <public@inbox.dpdk.org>; Sat, 16 Mar 2024 08:17:24 +0100 (CET)
Received: from mails.dpdk.org (localhost [127.0.0.1])
	by mails.dpdk.org (Postfix) with ESMTP id D27854026F;
	Sat, 16 Mar 2024 08:17:24 +0100 (CET)
Received: from mail-qv1-f98.google.com (mail-qv1-f98.google.com
 [209.85.219.98]) by mails.dpdk.org (Postfix) with ESMTP id 8DEC440266
 for <test-report@dpdk.org>; Sat, 16 Mar 2024 08:17:23 +0100 (CET)
Received: by mail-qv1-f98.google.com with SMTP id
 6a1803df08f44-690d7a8f904so31879176d6.1
 for <test-report@dpdk.org>; Sat, 16 Mar 2024 00:17:23 -0700 (PDT)
DKIM-Signature: v=1; a=rsa-sha256; c=relaxed/relaxed;
 d=iol.unh.edu; s=unh-iol; t=1710573443; x=1711178243; darn=dpdk.org;
 h=references:in-reply-to:cc:to:from:subject:message-id:date:from:to
 :cc:subject:date:message-id:reply-to;
 bh=nxRKV/MlLZ0bP4W9ZrjnimJfLZ9LFCmlihbA5IKPCXE=;
 b=DQYyTAX0IxWZbsXXJoOWe8piDna1FQZLMo8pN8C1LFirPZ5/Mz6TZWI3EztYTfEvpT
 Sq30OJW3ZgjYsGmA4mcSrAObkvKFcz2qyM3erU+gmAS+kAniSaSxo63MvYG3L8CWcS5X
 BI4+CP7IyIxlK9ZJPWZmbyAY+7Ga09fGt/YEc=
X-Google-DKIM-Signature: v=1; a=rsa-sha256; c=relaxed/relaxed;
 d=1e100.net; s=20230601; t=1710573443; x=1711178243;
 h=references:in-reply-to:cc:to:from:subject:message-id:date
 :x-gm-message-state:from:to:cc:subject:date:message-id:reply-to;
 bh=nxRKV/MlLZ0bP4W9ZrjnimJfLZ9LFCmlihbA5IKPCXE=;
 b=e5vzr0FkUMycZ/xpKql54TPSmav9U3UnQajfrxmzv0bTaBMX8M7rBFa852IFwzVyHY
 eQ7sHDRzQMV18L5gbxJNmgb4i61EOBNsLt04JrwT0tjtQXL6z3UnjErgdVZS80AjOSN6
 BVn1YqVbX8JLAr+JI4dp6jEkkVDj608Q22rocPf31YYrUhk5VL/hXBJnUXMSv5OakISW
 xk0La0vfx/DCX2Vk+ZSbhFX+JhEvmaYBlnIjNkDj7aLgFJTpolZlp7k45h+B1gGL6+Ql
 PsBJrMJD+BCsIMFI8s4Qi6P5ur05hbf3WIj/rGGX9Vbe6ChtOcbtvVSv4BVP+wb8B6Or
 TyCw==
X-Gm-Message-State: AOJu0YyaE5q/rIqTgiNaW9PIp9XdcdFftENvDbtTUsqUgYDzkKjhPwUS
 UDo14s2tUllTQF1uxgvHFKQm4SItWjr7JMxxS54lcsERx6b17YzNz1yVh6UgelMTgUF7gjHpFHG
 hmHV1RIh/rA9sBMYuLFS1bfzVsuJjmqwjeEr4ZnWMRou+ouDHJcuNvKMW
X-Google-Smtp-Source: AGHT+IFZq9BrXm0lMKYHzDUAhTSwhscbeRXeWJZFxwSXhiKHTjNUee8oZH+KZzkWVY29aTRyhsgbUY/YW639
X-Received: by 2002:a05:6214:b0f:b0:691:127c:6188 with SMTP id
 u15-20020a0562140b0f00b00691127c6188mr10940412qvj.0.1710573443001; 
 Sat, 16 Mar 2024 00:17:23 -0700 (PDT)
Received: from postal.iol.unh.edu (postal.iol.unh.edu.
 [2606:4100:3880:1234::84]) by smtp-relay.gmail.com with ESMTPS id
 10-20020a056214202a00b0068f2b1cb84asm220858qvf.3.2024.03.16.00.17.22
 (version=TLS1_2 cipher=ECDHE-ECDSA-AES128-GCM-SHA256 bits=128/128);
 Sat, 16 Mar 2024 00:17:22 -0700 (PDT)
X-Relaying-Domain: iol.unh.edu
Date: Sat, 16 Mar 2024 00:17:22 -0700 (PDT)
Message-ID: <65f54782.050a0220.b206c.026fSMTPIN_ADDED_MISSING@mx.google.com>
Received: from [172.17.0.6] (unknown [172.18.0.217])
 by postal.iol.unh.edu (Postfix) with ESMTP id AD4DE6052471;
 Sat, 16 Mar 2024 03:17:22 -0400 (EDT)
Subject: |SUCCESS| pw138435 [PATCH] windows: make getopt functions have const
From: dpdklab@iol.unh.edu
To: Test Report <test-report@dpdk.org>
Cc: dpdk-test-reports@iol.unh.edu
In-Reply-To: <20240315151407.7517-1-stephen@networkplumber.org>
References: <20240315151407.7517-1-stephen@networkplumber.org>
Content-Type: text/plain
X-BeenThere: test-report@dpdk.org
X-Mailman-Version: 2.1.29
Precedence: list
List-Id: automatic DPDK test reports <test-report.dpdk.org>
List-Unsubscribe: <https://mails.dpdk.org/options/test-report>,
 <mailto:test-report-request@dpdk.org?subject=unsubscribe>
List-Archive: <http://mails.dpdk.org/archives/test-report/>
List-Post: <mailto:test-report@dpdk.org>
List-Help: <mailto:test-report-request@dpdk.org?subject=help>
List-Subscribe: <https://mails.dpdk.org/listinfo/test-report>,
 <mailto:test-report-request@dpdk.org?subject=subscribe>
Errors-To: test-report-bounces@dpdk.org

Test-Label: iol-unit-amd64-testing
Test-Status: SUCCESS
http://dpdk.org/patch/138435

_Testing PASS_

Submitter: Stephen Hemminger <stephen@networkplumber.org>
Date: Friday, March 15 2024 15:14:06 
DPDK git baseline: Repo:dpdk
  Branch: master
  CommitID:7f82e9c89f3514715533feb34f46ff1ea95c6f98

138435 --> testing pass

Test environment and result as below:

+---------------------+----------------+
|     Environment     | dpdk_unit_test |
+=====================+================+
| Windows Server 2019 | PASS           |
+---------------------+----------------+
| CentOS Stream 9     | PASS           |
+---------------------+----------------+
| Debian Bullseye     | PASS           |
+---------------------+----------------+
| CentOS Stream 8     | PASS           |
+---------------------+----------------+
| Debian 12 (arm)     | PASS           |
+---------------------+----------------+
| Fedora 37           | PASS           |
+---------------------+----------------+
| Fedora 38           | PASS           |
+---------------------+----------------+
| openSUSE Leap 15    | PASS           |
+---------------------+----------------+
| RHEL8               | PASS           |
+---------------------+----------------+
| Ubuntu 20.04        | PASS           |
+---------------------+----------------+
| Ubuntu 22.04        | PASS           |
+---------------------+----------------+


Windows Server 2019
	Kernel: 10.0
	Compiler: clang 14.0 and gcc 8.1.0 (MinGW)

CentOS Stream 9
	Kernel: 4.18.0-240.10.1.el8_3.x86_64
	Compiler: gcc 11.3.1 20220421

Debian Bullseye
	Kernel: 5.4.0-122-generic
	Compiler: gcc 10.2.1-6

CentOS Stream 8
	Kernel: 4.18.0-240.10.1.el8_3.x86_64
	Compiler: gcc 8.4.1 20200928

Debian 12 (arm)
	Kernel: Container Host Kernel
	Compiler: gcc 11

Fedora 37
	Kernel: Depends on container host system
	Compiler: gcc 12.3.1

Fedora 38
	Kernel: Depends on container host
	Compiler: gcc 13.1.1

openSUSE Leap 15
	Kernel: 4.18.0-240.10.1.el8_3.x86_64
	Compiler: gcc 7.5.0

RHEL8
	Kernel: 4.18.0-240.10.1.el8_3.x86_64
	Compiler: gcc 8.3.1 20191121 (Red Hat 8.3.1-5)

Ubuntu 20.04
	Kernel: 5.4.0-153-generic
	Compiler: gcc 9.4.0-1ubuntu1~20.04.1

Ubuntu 22.04
	Kernel: 4.18.0-240.10.1.el8_3.x86_64
	Compiler: gcc 11.3.0

To view detailed results, visit:
https://lab.dpdk.org/results/dashboard/patchsets/29574/

UNH-IOL DPDK Community Lab

To manage your email subscriptions, visit: 
https://lab.dpdk.org/results/dashboard/preferences/subscriptions/