From mboxrd@z Thu Jan  1 00:00:00 1970
Return-Path: <test-report-bounces@dpdk.org>
Received: from mails.dpdk.org (mails.dpdk.org [217.70.189.124])
	by inbox.dpdk.org (Postfix) with ESMTP id 2CC4D43CD9
	for <public@inbox.dpdk.org>; Sun, 17 Mar 2024 17:18:17 +0100 (CET)
Received: from mails.dpdk.org (localhost [127.0.0.1])
	by mails.dpdk.org (Postfix) with ESMTP id 28DFC4026F;
	Sun, 17 Mar 2024 17:18:17 +0100 (CET)
Received: from mail-il1-f227.google.com (mail-il1-f227.google.com
 [209.85.166.227])
 by mails.dpdk.org (Postfix) with ESMTP id E9DDA40262
 for <test-report@dpdk.org>; Sun, 17 Mar 2024 17:18:15 +0100 (CET)
Received: by mail-il1-f227.google.com with SMTP id
 e9e14a558f8ab-36699481c87so9355215ab.3
 for <test-report@dpdk.org>; Sun, 17 Mar 2024 09:18:15 -0700 (PDT)
DKIM-Signature: v=1; a=rsa-sha256; c=relaxed/relaxed;
 d=iol.unh.edu; s=unh-iol; t=1710692295; x=1711297095; darn=dpdk.org;
 h=references:in-reply-to:cc:to:from:subject:message-id:date:from:to
 :cc:subject:date:message-id:reply-to;
 bh=IpnupTNLCuvl0SPBT1NYK8upQqawG0VpU+6q/bbjMMg=;
 b=gBA59nxbSpeZ/yjqxSXbxgaeZjvDVQu9TiEnYYLJ+UhuuZ8xWdo3gHkVoFSDZgaWrI
 SQEDA3lh2dn3Hj5zd2ISvnIlt7dwogs9cN8VUlTnUhI2fMrWTgdqSGiR8ZzfOvzyQybr
 mCgU7CXSrn81YYZeYfNRByV5ipqncu4Sel0Pc=
X-Google-DKIM-Signature: v=1; a=rsa-sha256; c=relaxed/relaxed;
 d=1e100.net; s=20230601; t=1710692295; x=1711297095;
 h=references:in-reply-to:cc:to:from:subject:message-id:date
 :x-gm-message-state:from:to:cc:subject:date:message-id:reply-to;
 bh=IpnupTNLCuvl0SPBT1NYK8upQqawG0VpU+6q/bbjMMg=;
 b=EdFCqMkQfGd+Va11OG2U6ffq2ZdvRMcKRK31W1P2NkcgD7otW2azq/ZsYKxe36d3PS
 FuiEawi3sZLvwxCwTz02yXbIMiwy6wiJWUnpL6Kng56Ad27tujNbGaTYuuj4x9CzPGN7
 keGcy2N4LTgdp03zbdtS6oAI5ciG19YRTHtQg7IlxhPeZHyFmp8bomrol1R1nfEhjUGX
 OvnPubI4Q3dRLz7wetn3z7GlWjFEczr8Mp4AR3olOKSycTGhQLF9qLvue9VTWRFJ2tzw
 Dln3LL1uqDFih2wqL1bO+C0VeimyjtaGVZWBgwglFwWIUXG/yySbgormCyJoLMwORWA6
 N8Hg==
X-Gm-Message-State: AOJu0YzlGoNPQmhHfF/uPpyT/ljTIamjuHewpvIbr8uSni7JzEsXWYw1
 lm4TeRvXsI40h3aR/HNYdP8ZMXlGk6owKPZHfCNKbkFbM96iSpsGCpQ7aIpRhoLTjKzp/0T+RWu
 OEU6EECYHiTBRUF0fe73gAq/nXVIk0ra2REB4p2CN
X-Google-Smtp-Source: AGHT+IHHUlDCQryYhy2CqQPrJZ/2jP4pbn97YRFqbWS6v3edXW+5ninBJGXnEVAO78M9di+obAKT1lBUaDm6
X-Received: by 2002:a05:6e02:12a3:b0:365:69a:86b2 with SMTP id
 f3-20020a056e0212a300b00365069a86b2mr9876270ilr.17.1710692295382; 
 Sun, 17 Mar 2024 09:18:15 -0700 (PDT)
Received: from postal.iol.unh.edu (postal.iol.unh.edu. [132.177.123.84])
 by smtp-relay.gmail.com with ESMTPS id
 z6-20020a92da06000000b003666affca63sm440413ilm.75.2024.03.17.09.18.15
 (version=TLS1_2 cipher=ECDHE-ECDSA-AES128-GCM-SHA256 bits=128/128);
 Sun, 17 Mar 2024 09:18:15 -0700 (PDT)
X-Relaying-Domain: iol.unh.edu
Date: Sun, 17 Mar 2024 09:18:15 -0700 (PDT)
Message-ID: <65f717c7.920a0220.c949d.009aSMTPIN_ADDED_MISSING@mx.google.com>
Received: from [172.21.0.6] (unknown [172.18.0.240])
 by postal.iol.unh.edu (Postfix) with ESMTP id DF8D26052471;
 Sun, 17 Mar 2024 12:18:14 -0400 (EDT)
Subject: |SUCCESS| pw138438 [PATCH] [v2] windows: make getopt functions have 
From: dpdklab@iol.unh.edu
To: Test Report <test-report@dpdk.org>
Cc: dpdk-test-reports@iol.unh.edu
In-Reply-To: <20240317153413.5780-1-stephen@networkplumber.org>
References: <20240317153413.5780-1-stephen@networkplumber.org>
Content-Type: text/plain
X-BeenThere: test-report@dpdk.org
X-Mailman-Version: 2.1.29
Precedence: list
List-Id: automatic DPDK test reports <test-report.dpdk.org>
List-Unsubscribe: <https://mails.dpdk.org/options/test-report>,
 <mailto:test-report-request@dpdk.org?subject=unsubscribe>
List-Archive: <http://mails.dpdk.org/archives/test-report/>
List-Post: <mailto:test-report@dpdk.org>
List-Help: <mailto:test-report-request@dpdk.org?subject=help>
List-Subscribe: <https://mails.dpdk.org/listinfo/test-report>,
 <mailto:test-report-request@dpdk.org?subject=subscribe>
Errors-To: test-report-bounces@dpdk.org

Test-Label: iol-compile-amd64-testing
Test-Status: SUCCESS
http://dpdk.org/patch/138438

_Testing PASS_

Submitter: Stephen Hemminger <stephen@networkplumber.org>
Date: Sunday, March 17 2024 15:33:59 
DPDK git baseline: Repo:dpdk
  Branch: master
  CommitID:7f82e9c89f3514715533feb34f46ff1ea95c6f98

138438 --> testing pass

Test environment and result as below:

+---------------------+--------------------+----------------------+
|     Environment     | dpdk_meson_compile | dpdk_mingw64_compile |
+=====================+====================+======================+
| Debian Bullseye     | PASS               | SKIPPED              |
+---------------------+--------------------+----------------------+
| Windows Server 2019 | PASS               | PASS                 |
+---------------------+--------------------+----------------------+
| Windows Server 2022 | PASS               | SKIPPED              |
+---------------------+--------------------+----------------------+
| CentOS Stream 8     | PASS               | SKIPPED              |
+---------------------+--------------------+----------------------+
| Fedora 37           | PASS               | SKIPPED              |
+---------------------+--------------------+----------------------+
| FreeBSD 13.2        | PASS               | SKIPPED              |
+---------------------+--------------------+----------------------+
| Ubuntu 20.04        | PASS               | SKIPPED              |
+---------------------+--------------------+----------------------+
| Debian 12 (arm)     | PASS               | SKIPPED              |
+---------------------+--------------------+----------------------+
| openSUSE Leap 15    | PASS               | SKIPPED              |
+---------------------+--------------------+----------------------+
| RHEL8               | PASS               | SKIPPED              |
+---------------------+--------------------+----------------------+
| Fedora 38           | PASS               | SKIPPED              |
+---------------------+--------------------+----------------------+
| Ubuntu 22.04        | PASS               | SKIPPED              |
+---------------------+--------------------+----------------------+


Debian Bullseye
	Kernel: 5.4.0-122-generic
	Compiler: gcc 10.2.1-6

Windows Server 2019
	Kernel: 10.0
	Compiler: clang 14.0 and gcc 8.1.0 (MinGW)

Windows Server 2022
	Kernel: OS Build 20348.2031
	Compiler: clang 15.0.7, gcc 8.1.0 (MinGW), and MSVC VS 17.9

CentOS Stream 8
	Kernel: 4.18.0-240.10.1.el8_3.x86_64
	Compiler: gcc 8.4.1 20200928

Fedora 37
	Kernel: Depends on container host system
	Compiler: gcc 12.3.1

FreeBSD 13.2
	Kernel: 13.2
	Compiler: clang 11.3.0

Ubuntu 20.04
	Kernel: 5.4.0-153-generic
	Compiler: gcc 9.4.0-1ubuntu1~20.04.1

Debian 12 (arm)
	Kernel: Container Host Kernel
	Compiler: gcc 11

openSUSE Leap 15
	Kernel: 4.18.0-240.10.1.el8_3.x86_64
	Compiler: gcc 7.5.0

RHEL8
	Kernel: 4.18.0-240.10.1.el8_3.x86_64
	Compiler: gcc 8.3.1 20191121 (Red Hat 8.3.1-5)

Fedora 38
	Kernel: Depends on container host
	Compiler: gcc 13.1.1

Ubuntu 22.04
	Kernel: 4.18.0-240.10.1.el8_3.x86_64
	Compiler: gcc 11.3.0

To view detailed results, visit:
https://lab.dpdk.org/results/dashboard/patchsets/29576/

UNH-IOL DPDK Community Lab

To manage your email subscriptions, visit: 
https://lab.dpdk.org/results/dashboard/preferences/subscriptions/