From mboxrd@z Thu Jan  1 00:00:00 1970
Return-Path: <test-report-bounces@dpdk.org>
Received: from mails.dpdk.org (mails.dpdk.org [217.70.189.124])
	by inbox.dpdk.org (Postfix) with ESMTP id 6EFFA43CD9
	for <public@inbox.dpdk.org>; Sun, 17 Mar 2024 17:23:25 +0100 (CET)
Received: from mails.dpdk.org (localhost [127.0.0.1])
	by mails.dpdk.org (Postfix) with ESMTP id 6A7304026F;
	Sun, 17 Mar 2024 17:23:25 +0100 (CET)
Received: from mail-ua1-f100.google.com (mail-ua1-f100.google.com
 [209.85.222.100])
 by mails.dpdk.org (Postfix) with ESMTP id 3A7B440262
 for <test-report@dpdk.org>; Sun, 17 Mar 2024 17:23:16 +0100 (CET)
Received: by mail-ua1-f100.google.com with SMTP id
 a1e0cc1a2514c-7e05cb778e9so202053241.0
 for <test-report@dpdk.org>; Sun, 17 Mar 2024 09:23:16 -0700 (PDT)
DKIM-Signature: v=1; a=rsa-sha256; c=relaxed/relaxed;
 d=iol.unh.edu; s=unh-iol; t=1710692595; x=1711297395; darn=dpdk.org;
 h=references:in-reply-to:cc:to:from:subject:message-id:date:from:to
 :cc:subject:date:message-id:reply-to;
 bh=eI82r+MHwS9Y/O99IzkBcbqYBoQiG40F3I5E0A46yyA=;
 b=CzCtDlpOAIoD60dCTSXlr8czoqAN6WNFgvKKp3EcpTgjHokLLeCPMRCtaUudTkO2EN
 WkkdnCXr0P497a0uz8O6n+32l8Tv4OnmGmeyFwa2o2Zw5N9EbWhy33QQWUF7GqUpJlBg
 X4BbfLJywEsXEr4dA3DyJ/xtJw0oanNE6BKvE=
X-Google-DKIM-Signature: v=1; a=rsa-sha256; c=relaxed/relaxed;
 d=1e100.net; s=20230601; t=1710692595; x=1711297395;
 h=references:in-reply-to:cc:to:from:subject:message-id:date
 :x-gm-message-state:from:to:cc:subject:date:message-id:reply-to;
 bh=eI82r+MHwS9Y/O99IzkBcbqYBoQiG40F3I5E0A46yyA=;
 b=NEbg3+TKJoK9LBTafaaRfagfurg5U9cqw3IgIX9ghZnPtVMvS/9bVlZgyn5Pj5U512
 CW8/fso+w7jrDxwIM92npWNgdrPOddb1TZZEIOy9dEgJiQAhMnYuzkqUf4GRpl8gE0Ur
 8ocSF3aa9e24MngkKz6gDln6uFvkMXhiSngSOpXMXMuZTZbJozf/C5vU/wagWPBZQidd
 Ao55gNCR/go2Sp/cJTF/2KRL4tv0EPwZeHcP+uauw/Evpw3qrxFF1BkyiUHxO33ZHmYk
 yw6ZOdkGjJWiQfcWcP3zP2Q8qomS6keOglfk4OqHJfO2p506zT6eeFTfMPyaxRf4mS6N
 RYmw==
X-Gm-Message-State: AOJu0YzKKlJPFUZymsY42qNnFgbEoeCmiFkwidcZcAaxonXX72GMTmk9
 j+7KvM7wz1OlZIyBah/QIztQWKOpe39Dmg/lOz8VV4s927FDjsripZlezRo5ZEGo/4hphrtFrXb
 rUWD78u8iTCzeWNHFScI9UzG83W8MhpXCgXfykcEC
X-Google-Smtp-Source: AGHT+IEUaxIdkVVBMoJfFdyhiR91hM716B/YgXWzaKH/CHtIE0P5mzyq6gmoyR+2Nbvx2uOQeQWZIK9wsLuR
X-Received: by 2002:a05:6102:22c2:b0:473:df7:1084 with SMTP id
 a2-20020a05610222c200b004730df71084mr6543861vsh.29.1710692595632; 
 Sun, 17 Mar 2024 09:23:15 -0700 (PDT)
Received: from postal.iol.unh.edu (postal.iol.unh.edu. [132.177.123.84])
 by smtp-relay.gmail.com with ESMTPS id
 cp7-20020a056122430700b004c0255a7384sm305001vkb.1.2024.03.17.09.23.15
 (version=TLS1_2 cipher=ECDHE-ECDSA-AES128-GCM-SHA256 bits=128/128);
 Sun, 17 Mar 2024 09:23:15 -0700 (PDT)
X-Relaying-Domain: iol.unh.edu
Date: Sun, 17 Mar 2024 09:23:15 -0700 (PDT)
Message-ID: <65f718f3.050a0220.13c20.1ac4SMTPIN_ADDED_MISSING@mx.google.com>
Received: from [172.17.0.9] (unknown [172.18.0.217])
 by postal.iol.unh.edu (Postfix) with ESMTP id 3244E6052471;
 Sun, 17 Mar 2024 12:23:15 -0400 (EDT)
Subject: |SUCCESS| pw138438 [PATCH] [v2] windows: make getopt functions have 
From: dpdklab@iol.unh.edu
To: Test Report <test-report@dpdk.org>
Cc: dpdk-test-reports@iol.unh.edu
In-Reply-To: <20240317153413.5780-1-stephen@networkplumber.org>
References: <20240317153413.5780-1-stephen@networkplumber.org>
Content-Type: text/plain
X-BeenThere: test-report@dpdk.org
X-Mailman-Version: 2.1.29
Precedence: list
List-Id: automatic DPDK test reports <test-report.dpdk.org>
List-Unsubscribe: <https://mails.dpdk.org/options/test-report>,
 <mailto:test-report-request@dpdk.org?subject=unsubscribe>
List-Archive: <http://mails.dpdk.org/archives/test-report/>
List-Post: <mailto:test-report@dpdk.org>
List-Help: <mailto:test-report-request@dpdk.org?subject=help>
List-Subscribe: <https://mails.dpdk.org/listinfo/test-report>,
 <mailto:test-report-request@dpdk.org?subject=subscribe>
Errors-To: test-report-bounces@dpdk.org

Test-Label: iol-compile-arm64-testing
Test-Status: SUCCESS
http://dpdk.org/patch/138438

_Testing PASS_

Submitter: Stephen Hemminger <stephen@networkplumber.org>
Date: Sunday, March 17 2024 15:33:59 
DPDK git baseline: Repo:dpdk
  Branch: master
  CommitID:7f82e9c89f3514715533feb34f46ff1ea95c6f98

138438 --> testing pass

Test environment and result as below:

+----------------------------------------+--------------------+
|              Environment               | dpdk_meson_compile |
+========================================+====================+
| Ubuntu 20.04 ARM SVE                   | PASS               |
+----------------------------------------+--------------------+
| Debian 12 with MUSDK                   | PASS               |
+----------------------------------------+--------------------+
| Ubuntu 20.04 ARM GCC Cross Compile     | PASS               |
+----------------------------------------+--------------------+
| Ubuntu 20.04 (ARM)                     | PASS               |
+----------------------------------------+--------------------+
| Fedora 38 (ARM)                        | PASS               |
+----------------------------------------+--------------------+
| Debian 11 (Buster) (ARM)               | PASS               |
+----------------------------------------+--------------------+
| CentOS Stream 9 (ARM)                  | PASS               |
+----------------------------------------+--------------------+
| Debian 12 (arm)                        | PASS               |
+----------------------------------------+--------------------+
| Ubuntu 20.04 aarch32 GCC Cross Compile | PASS               |
+----------------------------------------+--------------------+


Ubuntu 20.04 ARM SVE
	Kernel: 5.4.0-80-generic
	Compiler: gcc 10.3.0 (Ubuntu 10.3.0-1ubuntu1~20.04)

Debian 12 with MUSDK
	Kernel: Container Host Kernel
	Compiler: gcc 12

Ubuntu 20.04 ARM GCC Cross Compile
	Kernel: 5.4.0-72-generic
	Compiler: aarch64-linux-gnu-gcc (Ubuntu 9.3.0-17ubuntu1~20.04) 9.3.0

Ubuntu 20.04 (ARM)
	Kernel: Container Host Kernel
	Compiler: gcc 9.4.0

Fedora 38 (ARM)
	Kernel: Depends on container host
	Compiler: gcc 13.1.1

Debian 11 (Buster) (ARM)
	Kernel: Container Host Kernel
	Compiler: gcc 10.2.1

CentOS Stream 9 (ARM)
	Kernel: Container Host Kernel
	Compiler: gcc 11.3.1

Debian 12 (arm)
	Kernel: Container Host Kernel
	Compiler: gcc 11

Ubuntu 20.04 aarch32 GCC Cross Compile
	Kernel: 5.4.0-72-generic
	Compiler: gcc 9.3.0

To view detailed results, visit:
https://lab.dpdk.org/results/dashboard/patchsets/29576/

UNH-IOL DPDK Community Lab

To manage your email subscriptions, visit: 
https://lab.dpdk.org/results/dashboard/preferences/subscriptions/