From mboxrd@z Thu Jan  1 00:00:00 1970
Return-Path: <test-report-bounces@dpdk.org>
Received: from mails.dpdk.org (mails.dpdk.org [217.70.189.124])
	by inbox.dpdk.org (Postfix) with ESMTP id 4D3BA43CD9
	for <public@inbox.dpdk.org>; Sun, 17 Mar 2024 17:28:21 +0100 (CET)
Received: from mails.dpdk.org (localhost [127.0.0.1])
	by mails.dpdk.org (Postfix) with ESMTP id 46EBA4026F;
	Sun, 17 Mar 2024 17:28:21 +0100 (CET)
Received: from mail-pg1-f226.google.com (mail-pg1-f226.google.com
 [209.85.215.226])
 by mails.dpdk.org (Postfix) with ESMTP id DA7C740262
 for <test-report@dpdk.org>; Sun, 17 Mar 2024 17:28:19 +0100 (CET)
Received: by mail-pg1-f226.google.com with SMTP id
 41be03b00d2f7-5d8b887bb0cso2814787a12.2
 for <test-report@dpdk.org>; Sun, 17 Mar 2024 09:28:19 -0700 (PDT)
DKIM-Signature: v=1; a=rsa-sha256; c=relaxed/relaxed;
 d=iol.unh.edu; s=unh-iol; t=1710692899; x=1711297699; darn=dpdk.org;
 h=references:in-reply-to:cc:to:from:subject:message-id:date:from:to
 :cc:subject:date:message-id:reply-to;
 bh=Jfh4P1/8lgZu3wCLRPFTi/JVlqlFEKYXwqnYz9O5W9w=;
 b=JrZw2b17Lu+u5GeJB0/LCIFeNJeVYt5sI8wuulRJ2ACOfXaKUYtj8JYsPGq9CWlYGa
 CYBB7kvtBVhv6xyEWICycEEL+0iUrpYelUXBy8fwkMOpn5nq0aBfyYXAehKWBYVz67NP
 VvOGVZhcgAZJioijVY+CyRHQH6x8nwpIJ+DYw=
X-Google-DKIM-Signature: v=1; a=rsa-sha256; c=relaxed/relaxed;
 d=1e100.net; s=20230601; t=1710692899; x=1711297699;
 h=references:in-reply-to:cc:to:from:subject:message-id:date
 :x-gm-message-state:from:to:cc:subject:date:message-id:reply-to;
 bh=Jfh4P1/8lgZu3wCLRPFTi/JVlqlFEKYXwqnYz9O5W9w=;
 b=fzwefCNqOgbNzeQNL571W9gQnFZ37HRv5D33mOrFFBPxnFGYKQbAeszBph5ykQqcYz
 iN1qTClaM+g4vviegn9B5H09ywXZ+1/rHb15Z7qLZI0jBA6OKQ6R1i2B4LJjSwpE04d0
 C9MUy/mKsRvg2IGqjccxNnLOGfAAG1l5l7ZkOnVr7TGlaMuE0lNHeeBYUFwCpDZV35wy
 xPs1hhYgnpaZ6yhceyfeIoGCVgwPH+lBD1w0ibL7I+Edk8VeeumpSO7FbXXEzw9nQEQI
 Lt8ue1KMZf5MkwmWCJAirX8TYwtyDY0QufgPb2fxHKx49WDvtLxFPA8I14/NRHfc4lsU
 7Hxw==
X-Gm-Message-State: AOJu0YwH2npxRCQ9pZr+lPVAJrv0INvJNkifZR8gGzNTFBRgWNdIfjDw
 +AcB2p0gdI6en92SxM77r9WS/l9aCk/wazkcYfsKdoKBsJFLB4b8BUliE5yjjb+Y7Zdj0XNscMn
 xzOavKa/Kgp2Y8l5YWuB6WGkvNniGZCxoXbfB9oC4ztM//HnRrV9LkhH0
X-Google-Smtp-Source: AGHT+IG5BXnHvC7SrpUcRcRenAlaUXLNMaK2kXcoNRHMxo0sdgx+mtbKWW+Xc5u1w0gKKucot5lBWot4OTqx
X-Received: by 2002:a05:6a20:d704:b0:1a3:600e:9d01 with SMTP id
 iz4-20020a056a20d70400b001a3600e9d01mr2375800pzb.49.1710692899028; 
 Sun, 17 Mar 2024 09:28:19 -0700 (PDT)
Received: from postal.iol.unh.edu (postal.iol.unh.edu.
 [2606:4100:3880:1234::84]) by smtp-relay.gmail.com with ESMTPS id
 la14-20020a17090b160e00b0029c413478fbsm353114pjb.9.2024.03.17.09.28.18
 (version=TLS1_2 cipher=ECDHE-ECDSA-AES128-GCM-SHA256 bits=128/128);
 Sun, 17 Mar 2024 09:28:19 -0700 (PDT)
X-Relaying-Domain: iol.unh.edu
Date: Sun, 17 Mar 2024 09:28:19 -0700 (PDT)
Message-ID: <65f71a23.170a0220.79f28.8b42SMTPIN_ADDED_MISSING@mx.google.com>
Received: from [172.17.0.9] (unknown [172.18.0.217])
 by postal.iol.unh.edu (Postfix) with ESMTP id 2D2646052471;
 Sun, 17 Mar 2024 12:28:18 -0400 (EDT)
Subject: |SUCCESS| pw138438 [PATCH] [v2] windows: make getopt functions have 
From: dpdklab@iol.unh.edu
To: Test Report <test-report@dpdk.org>
Cc: dpdk-test-reports@iol.unh.edu
In-Reply-To: <20240317153413.5780-1-stephen@networkplumber.org>
References: <20240317153413.5780-1-stephen@networkplumber.org>
Content-Type: text/plain
X-BeenThere: test-report@dpdk.org
X-Mailman-Version: 2.1.29
Precedence: list
List-Id: automatic DPDK test reports <test-report.dpdk.org>
List-Unsubscribe: <https://mails.dpdk.org/options/test-report>,
 <mailto:test-report-request@dpdk.org?subject=unsubscribe>
List-Archive: <http://mails.dpdk.org/archives/test-report/>
List-Post: <mailto:test-report@dpdk.org>
List-Help: <mailto:test-report-request@dpdk.org?subject=help>
List-Subscribe: <https://mails.dpdk.org/listinfo/test-report>,
 <mailto:test-report-request@dpdk.org?subject=subscribe>
Errors-To: test-report-bounces@dpdk.org

Test-Label: iol-compile-amd64-testing
Test-Status: SUCCESS
http://dpdk.org/patch/138438

_Testing PASS_

Submitter: Stephen Hemminger <stephen@networkplumber.org>
Date: Sunday, March 17 2024 15:33:59 
DPDK git baseline: Repo:dpdk
  Branch: master
  CommitID:7f82e9c89f3514715533feb34f46ff1ea95c6f98

138438 --> testing pass

Test environment and result as below:

+---------------------+--------------------+----------------------+
|     Environment     | dpdk_meson_compile | dpdk_mingw64_compile |
+=====================+====================+======================+
| Debian Bullseye     | PASS               | SKIPPED              |
+---------------------+--------------------+----------------------+
| Windows Server 2019 | PASS               | PASS                 |
+---------------------+--------------------+----------------------+
| Windows Server 2022 | PASS               | PASS                 |
+---------------------+--------------------+----------------------+
| CentOS Stream 8     | PASS               | SKIPPED              |
+---------------------+--------------------+----------------------+
| Fedora 37           | PASS               | SKIPPED              |
+---------------------+--------------------+----------------------+
| FreeBSD 13.2        | PASS               | SKIPPED              |
+---------------------+--------------------+----------------------+
| Ubuntu 20.04        | PASS               | SKIPPED              |
+---------------------+--------------------+----------------------+
| Debian 12 (arm)     | PASS               | SKIPPED              |
+---------------------+--------------------+----------------------+
| openSUSE Leap 15    | PASS               | SKIPPED              |
+---------------------+--------------------+----------------------+
| RHEL8               | PASS               | SKIPPED              |
+---------------------+--------------------+----------------------+
| Fedora 38           | PASS               | SKIPPED              |
+---------------------+--------------------+----------------------+
| Ubuntu 22.04        | PASS               | SKIPPED              |
+---------------------+--------------------+----------------------+
| CentOS Stream 9     | PASS               | SKIPPED              |
+---------------------+--------------------+----------------------+


Debian Bullseye
	Kernel: 5.4.0-122-generic
	Compiler: gcc 10.2.1-6

Windows Server 2019
	Kernel: 10.0
	Compiler: clang 14.0 and gcc 8.1.0 (MinGW)

Windows Server 2022
	Kernel: OS Build 20348.2031
	Compiler: clang 15.0.7, gcc 8.1.0 (MinGW), and MSVC VS 17.9

CentOS Stream 8
	Kernel: 4.18.0-240.10.1.el8_3.x86_64
	Compiler: gcc 8.4.1 20200928

Fedora 37
	Kernel: Depends on container host system
	Compiler: gcc 12.3.1

FreeBSD 13.2
	Kernel: 13.2
	Compiler: clang 11.3.0

Ubuntu 20.04
	Kernel: 5.4.0-153-generic
	Compiler: gcc 9.4.0-1ubuntu1~20.04.1

Debian 12 (arm)
	Kernel: Container Host Kernel
	Compiler: gcc 11

openSUSE Leap 15
	Kernel: 4.18.0-240.10.1.el8_3.x86_64
	Compiler: gcc 7.5.0

RHEL8
	Kernel: 4.18.0-240.10.1.el8_3.x86_64
	Compiler: gcc 8.3.1 20191121 (Red Hat 8.3.1-5)

Fedora 38
	Kernel: Depends on container host
	Compiler: gcc 13.1.1

Ubuntu 22.04
	Kernel: 4.18.0-240.10.1.el8_3.x86_64
	Compiler: gcc 11.3.0

CentOS Stream 9
	Kernel: 4.18.0-240.10.1.el8_3.x86_64
	Compiler: gcc 11.3.1 20220421

To view detailed results, visit:
https://lab.dpdk.org/results/dashboard/patchsets/29576/

UNH-IOL DPDK Community Lab

To manage your email subscriptions, visit: 
https://lab.dpdk.org/results/dashboard/preferences/subscriptions/