From mboxrd@z Thu Jan  1 00:00:00 1970
Return-Path: <test-report-bounces@dpdk.org>
Received: from mails.dpdk.org (mails.dpdk.org [217.70.189.124])
	by inbox.dpdk.org (Postfix) with ESMTP id 6402843CD9
	for <public@inbox.dpdk.org>; Sun, 17 Mar 2024 17:28:30 +0100 (CET)
Received: from mails.dpdk.org (localhost [127.0.0.1])
	by mails.dpdk.org (Postfix) with ESMTP id 5B6CA4026F;
	Sun, 17 Mar 2024 17:28:30 +0100 (CET)
Received: from mail-oo1-f99.google.com (mail-oo1-f99.google.com
 [209.85.161.99]) by mails.dpdk.org (Postfix) with ESMTP id AE42D40262
 for <test-report@dpdk.org>; Sun, 17 Mar 2024 17:28:26 +0100 (CET)
Received: by mail-oo1-f99.google.com with SMTP id
 006d021491bc7-5a492093073so695854eaf.0
 for <test-report@dpdk.org>; Sun, 17 Mar 2024 09:28:26 -0700 (PDT)
DKIM-Signature: v=1; a=rsa-sha256; c=relaxed/relaxed;
 d=iol.unh.edu; s=unh-iol; t=1710692906; x=1711297706; darn=dpdk.org;
 h=references:in-reply-to:cc:to:from:subject:message-id:date:from:to
 :cc:subject:date:message-id:reply-to;
 bh=vtwpUHpGLn8y0U8NNZyE/2Hbp2Xsn3P7ZHCRWBTg7C4=;
 b=WSICvg9sapmN5XNbY0bPtWN7kpj+/GyisjH3PeNo/NjUzdDdVbgRTtjfFfsrmBaF9n
 LKC6hLdpPKl0xk0NO6fiibkE2biBm2N68n1jcBm2/2U9gmXGFDdIRHlmIAB7izJl5Mak
 TMwbN60M7sPPf+vOIj4pSI5Uotu2SQnOI7lf8=
X-Google-DKIM-Signature: v=1; a=rsa-sha256; c=relaxed/relaxed;
 d=1e100.net; s=20230601; t=1710692906; x=1711297706;
 h=references:in-reply-to:cc:to:from:subject:message-id:date
 :x-gm-message-state:from:to:cc:subject:date:message-id:reply-to;
 bh=vtwpUHpGLn8y0U8NNZyE/2Hbp2Xsn3P7ZHCRWBTg7C4=;
 b=dPDoQmo4eAdr1h9VNQbxanOyYWxJxQZN1xIWvowRM5THwZ6z4q6YScT6l6c4t9nS4n
 O9KT1+pYEc2cwoKguecVvZmiXei2VchKYIP6KzpqMZgeF28I7xT5fvzoT+8fbSWhDPao
 i2mfOMBQF+TIaKWxXIAZzrBCsw1Hq3FreJR0HR6nMaXs0ckuiUFzmycpWu/v9dLlC7ev
 z0Ekf6Kju4tdICiOcNJZLALmMmNZDF0+mgyzZlNXswiXrzdneHWDoUL1KUZO7ROVRtcx
 Da8DXjdvwdrmoqj8q+w4dtBQcM0TZcT/+9zo4tcc5xb/zVj/SJGwmFUBLuJLjf9pid6k
 3Dag==
X-Gm-Message-State: AOJu0Yxh4GZ7S/k52TuEsg6zcBZ0YX6bkhzhLFvKJ/rXxDO/LSrVyTtY
 JjxevEqUSoniRbnw3X/fXkKIhWKWEu8bDEGvo0FTNCOTFMyOHvF93N2KDI49FHUI0VSznYC9xTf
 9l3UVBIPYy6pqGhot+M7+tW2Oukzp8oyO5imhIH0w
X-Google-Smtp-Source: AGHT+IG0rpNwHGXTem30FTdJXoD0vzlidcqfbHq67irvym+yRHO3aZdsyACF87wjXrAY0Vqb20mKafZMUoZl
X-Received: by 2002:a05:6820:2b15:b0:5a4:46ac:3805 with SMTP id
 dt21-20020a0568202b1500b005a446ac3805mr4274027oob.0.1710692905938; 
 Sun, 17 Mar 2024 09:28:25 -0700 (PDT)
Received: from postal.iol.unh.edu (postal.iol.unh.edu. [132.177.123.84])
 by smtp-relay.gmail.com with ESMTPS id
 f125-20020a4a5883000000b005a46877f661sm517285oob.17.2024.03.17.09.28.25
 (version=TLS1_2 cipher=ECDHE-ECDSA-AES128-GCM-SHA256 bits=128/128);
 Sun, 17 Mar 2024 09:28:25 -0700 (PDT)
X-Relaying-Domain: iol.unh.edu
Date: Sun, 17 Mar 2024 09:28:25 -0700 (PDT)
Message-ID: <65f71a29.4a0a0220.41bc1.4bc4SMTPIN_ADDED_MISSING@mx.google.com>
Received: from [172.21.0.6] (unknown [172.18.0.240])
 by postal.iol.unh.edu (Postfix) with ESMTP id 06FDC6052471;
 Sun, 17 Mar 2024 12:28:25 -0400 (EDT)
Subject: |SUCCESS| pw138438 [PATCH] [v2] windows: make getopt functions have 
From: dpdklab@iol.unh.edu
To: Test Report <test-report@dpdk.org>
Cc: dpdk-test-reports@iol.unh.edu
In-Reply-To: <20240317153413.5780-1-stephen@networkplumber.org>
References: <20240317153413.5780-1-stephen@networkplumber.org>
Content-Type: text/plain
X-BeenThere: test-report@dpdk.org
X-Mailman-Version: 2.1.29
Precedence: list
List-Id: automatic DPDK test reports <test-report.dpdk.org>
List-Unsubscribe: <https://mails.dpdk.org/options/test-report>,
 <mailto:test-report-request@dpdk.org?subject=unsubscribe>
List-Archive: <http://mails.dpdk.org/archives/test-report/>
List-Post: <mailto:test-report@dpdk.org>
List-Help: <mailto:test-report-request@dpdk.org?subject=help>
List-Subscribe: <https://mails.dpdk.org/listinfo/test-report>,
 <mailto:test-report-request@dpdk.org?subject=subscribe>
Errors-To: test-report-bounces@dpdk.org

Test-Label: iol-abi-testing
Test-Status: SUCCESS
http://dpdk.org/patch/138438

_Testing PASS_

Submitter: Stephen Hemminger <stephen@networkplumber.org>
Date: Sunday, March 17 2024 15:33:59 
DPDK git baseline: Repo:dpdk
  Branch: master
  CommitID:7f82e9c89f3514715533feb34f46ff1ea95c6f98

138438 --> testing pass

Test environment and result as below:

+-----------------+----------+
|   Environment   | abi_test |
+=================+==========+
| CentOS Stream 9 | PASS     |
+-----------------+----------+
| Ubuntu 22.04    | PASS     |
+-----------------+----------+
| CentOS Stream 8 | PASS     |
+-----------------+----------+
| Fedora 38       | PASS     |
+-----------------+----------+
| Debian Bullseye | PASS     |
+-----------------+----------+
| Debian 12 (arm) | PASS     |
+-----------------+----------+
| Fedora 37       | PASS     |
+-----------------+----------+


CentOS Stream 9
	Kernel: 4.18.0-240.10.1.el8_3.x86_64
	Compiler: gcc 11.3.1 20220421

Ubuntu 22.04
	Kernel: 4.18.0-240.10.1.el8_3.x86_64
	Compiler: gcc 11.3.0

CentOS Stream 8
	Kernel: 4.18.0-240.10.1.el8_3.x86_64
	Compiler: gcc 8.4.1 20200928

Fedora 38
	Kernel: Depends on container host
	Compiler: clang 16.0.3

Debian Bullseye
	Kernel: 5.4.0-122-generic
	Compiler: gcc 10.2.1-6

Debian 12 (arm)
	Kernel: Container Host Kernel
	Compiler: gcc 11

Fedora 37
	Kernel: Depends on container host system
	Compiler: gcc 12.3.1

To view detailed results, visit:
https://lab.dpdk.org/results/dashboard/patchsets/29576/

UNH-IOL DPDK Community Lab

To manage your email subscriptions, visit: 
https://lab.dpdk.org/results/dashboard/preferences/subscriptions/