From mboxrd@z Thu Jan  1 00:00:00 1970
Return-Path: <test-report-bounces@dpdk.org>
Received: from mails.dpdk.org (mails.dpdk.org [217.70.189.124])
	by inbox.dpdk.org (Postfix) with ESMTP id 6DB1343CD9
	for <public@inbox.dpdk.org>; Sun, 17 Mar 2024 17:31:27 +0100 (CET)
Received: from mails.dpdk.org (localhost [127.0.0.1])
	by mails.dpdk.org (Postfix) with ESMTP id 66309402B5;
	Sun, 17 Mar 2024 17:31:27 +0100 (CET)
Received: from mail-vs1-f97.google.com (mail-vs1-f97.google.com
 [209.85.217.97]) by mails.dpdk.org (Postfix) with ESMTP id D652A40262
 for <test-report@dpdk.org>; Sun, 17 Mar 2024 17:31:25 +0100 (CET)
Received: by mail-vs1-f97.google.com with SMTP id
 ada2fe7eead31-47341f709c6so1454215137.1
 for <test-report@dpdk.org>; Sun, 17 Mar 2024 09:31:25 -0700 (PDT)
DKIM-Signature: v=1; a=rsa-sha256; c=relaxed/relaxed;
 d=iol.unh.edu; s=unh-iol; t=1710693085; x=1711297885; darn=dpdk.org;
 h=references:in-reply-to:cc:to:from:subject:message-id:date:from:to
 :cc:subject:date:message-id:reply-to;
 bh=yHPnrPyCXfj9HjoYHy6xUuoWtC1lvYKvrBBBVM/FTTs=;
 b=OEltwb33ZTHPiaIHFb7vpLEOTr8bJz4AV/lYvfaAOoc0rpAj9SP3YZ4AUtQi/hiNbu
 k/m47XpxzE62ZntSvAchm9OMg9wbhwexJc5/5GljRHyHKu3an4PwZ4g++QS8NTkcciFF
 BnQE7HOq9l9GqULgamTC06cIx402MzKR8Ku1M=
X-Google-DKIM-Signature: v=1; a=rsa-sha256; c=relaxed/relaxed;
 d=1e100.net; s=20230601; t=1710693085; x=1711297885;
 h=references:in-reply-to:cc:to:from:subject:message-id:date
 :x-gm-message-state:from:to:cc:subject:date:message-id:reply-to;
 bh=yHPnrPyCXfj9HjoYHy6xUuoWtC1lvYKvrBBBVM/FTTs=;
 b=jzmvrh4bxs5G+bAVKU9WrLgd8dQUgWggf+VQB1VGL+XpdiFKIK+JaYh2VV18iezv6I
 3jrkUc+9VCwasZUrjp7NXrZH0EAN+ZNs7NxgNRvGWwWonE+2m1nA752LDvy8ur0Q0zAO
 Vg4g0Cd19yatlpVg+Px3J6Cmaa760qZpTuUnLBPzKo27tpiTbSTK2sYJc+JFfpNKvy4+
 BGDbu7E5oj0KOwhZo9yhbrLyZo8lFfI7rNYpN92j+H2j5/7ezc1NxHCAnmkMCNXj/0Q8
 1LLCkBJnsci4V+mF1/c8oDYeMeQBkljccNOZsWWOWcM8eUGQAJg9EFuYGMfEvLif95J0
 U3kg==
X-Gm-Message-State: AOJu0YxTpyOhs4qclQsD5BuDJnTWBXPmI+N3CSpePzRyT7xrQQnZ+mA+
 lXxtBeuwrKNw7edLi1M4cfU2oDrmioh8K8+GvqfuaBKNMZTyr9rdstexjJd+7H7f712vPDDEVbE
 ha+3GSvrPMf2b7P8KuPEjpJbxnaCP/3zUqfNByJw0
X-Google-Smtp-Source: AGHT+IEfHdS5Osz2D7r6wp9tbXoLt+ZEYo7tHz3zzXU9eDO00bkqAt2ZYu4YM2W2tht9S86Xr0egT+KHkV2c
X-Received: by 2002:a05:6102:b06:b0:476:7dae:7edb with SMTP id
 b6-20020a0561020b0600b004767dae7edbmr2056005vst.11.1710693085288; 
 Sun, 17 Mar 2024 09:31:25 -0700 (PDT)
Received: from postal.iol.unh.edu (postal.iol.unh.edu. [132.177.123.84])
 by smtp-relay.gmail.com with ESMTPS id
 v1-20020ab05b41000000b007db938e7d27sm381377uae.8.2024.03.17.09.31.25
 (version=TLS1_2 cipher=ECDHE-ECDSA-AES128-GCM-SHA256 bits=128/128);
 Sun, 17 Mar 2024 09:31:25 -0700 (PDT)
X-Relaying-Domain: iol.unh.edu
Date: Sun, 17 Mar 2024 09:31:25 -0700 (PDT)
Message-ID: <65f71add.b00a0220.9e577.7722SMTPIN_ADDED_MISSING@mx.google.com>
Received: from [172.21.0.6] (unknown [172.18.0.240])
 by postal.iol.unh.edu (Postfix) with ESMTP id ED0486052471;
 Sun, 17 Mar 2024 12:31:24 -0400 (EDT)
Subject: |SUCCESS| pw138438 [PATCH] [v2] windows: make getopt functions have 
From: dpdklab@iol.unh.edu
To: Test Report <test-report@dpdk.org>
Cc: dpdk-test-reports@iol.unh.edu
In-Reply-To: <20240317153413.5780-1-stephen@networkplumber.org>
References: <20240317153413.5780-1-stephen@networkplumber.org>
Content-Type: text/plain
X-BeenThere: test-report@dpdk.org
X-Mailman-Version: 2.1.29
Precedence: list
List-Id: automatic DPDK test reports <test-report.dpdk.org>
List-Unsubscribe: <https://mails.dpdk.org/options/test-report>,
 <mailto:test-report-request@dpdk.org?subject=unsubscribe>
List-Archive: <http://mails.dpdk.org/archives/test-report/>
List-Post: <mailto:test-report@dpdk.org>
List-Help: <mailto:test-report-request@dpdk.org?subject=help>
List-Subscribe: <https://mails.dpdk.org/listinfo/test-report>,
 <mailto:test-report-request@dpdk.org?subject=subscribe>
Errors-To: test-report-bounces@dpdk.org

Test-Label: iol-unit-arm64-testing
Test-Status: SUCCESS
http://dpdk.org/patch/138438

_Testing PASS_

Submitter: Stephen Hemminger <stephen@networkplumber.org>
Date: Sunday, March 17 2024 15:33:59 
DPDK git baseline: Repo:dpdk
  Branch: master
  CommitID:7f82e9c89f3514715533feb34f46ff1ea95c6f98

138438 --> testing pass

Test environment and result as below:

+--------------------------+------------------------------+---------------------------+--------------+----------------+
|       Environment        | cryptodev_sw_snow3g_autotest | cryptodev_sw_zuc_autotest | lpm_autotest | dpdk_unit_test |
+==========================+==============================+===========================+==============+================+
| Debian 12 (arm)          | PASS                         | PASS                      | SKIPPED      | PASS           |
+--------------------------+------------------------------+---------------------------+--------------+----------------+
| Ubuntu 20.04 ARM SVE     | SKIPPED                      | SKIPPED                   | PASS         | SKIPPED        |
+--------------------------+------------------------------+---------------------------+--------------+----------------+
| CentOS Stream 9 (ARM)    | SKIPPED                      | SKIPPED                   | SKIPPED      | PASS           |
+--------------------------+------------------------------+---------------------------+--------------+----------------+
| Debian 11 (Buster) (ARM) | SKIPPED                      | SKIPPED                   | SKIPPED      | PASS           |
+--------------------------+------------------------------+---------------------------+--------------+----------------+
| Fedora 37 (ARM)          | SKIPPED                      | SKIPPED                   | SKIPPED      | PASS           |
+--------------------------+------------------------------+---------------------------+--------------+----------------+
| Ubuntu 20.04 (ARM)       | SKIPPED                      | SKIPPED                   | SKIPPED      | PASS           |
+--------------------------+------------------------------+---------------------------+--------------+----------------+


Debian 12 (arm)
	Kernel: Container Host Kernel
	Compiler: gcc 11

Ubuntu 20.04 ARM SVE
	Kernel: 5.4.0-80-generic
	Compiler: gcc 10.3.0 (Ubuntu 10.3.0-1ubuntu1~20.04)

CentOS Stream 9 (ARM)
	Kernel: Container Host Kernel
	Compiler: gcc 11.3.1

Debian 11 (Buster) (ARM)
	Kernel: Container Host Kernel
	Compiler: gcc 10.2.1

Fedora 37 (ARM)
	Kernel: Depends on container host
	Compiler: gcc 12.3.1

Ubuntu 20.04 (ARM)
	Kernel: Container Host Kernel
	Compiler: gcc 9.4.0

To view detailed results, visit:
https://lab.dpdk.org/results/dashboard/patchsets/29576/

UNH-IOL DPDK Community Lab

To manage your email subscriptions, visit: 
https://lab.dpdk.org/results/dashboard/preferences/subscriptions/