From mboxrd@z Thu Jan  1 00:00:00 1970
Return-Path: <test-report-bounces@dpdk.org>
Received: from mails.dpdk.org (mails.dpdk.org [217.70.189.124])
	by inbox.dpdk.org (Postfix) with ESMTP id 2D21643CD9
	for <public@inbox.dpdk.org>; Sun, 17 Mar 2024 17:37:21 +0100 (CET)
Received: from mails.dpdk.org (localhost [127.0.0.1])
	by mails.dpdk.org (Postfix) with ESMTP id 250634026F;
	Sun, 17 Mar 2024 17:37:21 +0100 (CET)
Received: from mail-io1-f98.google.com (mail-io1-f98.google.com
 [209.85.166.98]) by mails.dpdk.org (Postfix) with ESMTP id A09F240262
 for <test-report@dpdk.org>; Sun, 17 Mar 2024 17:37:20 +0100 (CET)
Received: by mail-io1-f98.google.com with SMTP id
 ca18e2360f4ac-7cc5fdb0148so28844339f.3
 for <test-report@dpdk.org>; Sun, 17 Mar 2024 09:37:20 -0700 (PDT)
DKIM-Signature: v=1; a=rsa-sha256; c=relaxed/relaxed;
 d=iol.unh.edu; s=unh-iol; t=1710693440; x=1711298240; darn=dpdk.org;
 h=references:in-reply-to:cc:to:from:subject:message-id:date:from:to
 :cc:subject:date:message-id:reply-to;
 bh=D4iVAGuL7LwsY9dmVucf5uqjIX6zpSidN+OdybzJPHs=;
 b=IMAlc74FSbkNKpJJ+9H5yHbM5/jnXFdNNMHVIMh9pKga0a3zU9i64bcFgc1vJaGZrY
 CGIrJM574W+rbBulEuAkbzgel6yXR8Y6xWUHOUJRdDwj9JRcVQwzahkAZ18b+KW466iI
 fx7elTwtx2mtfuFV7j7Z4dEUNcgzKWAGyHA6g=
X-Google-DKIM-Signature: v=1; a=rsa-sha256; c=relaxed/relaxed;
 d=1e100.net; s=20230601; t=1710693440; x=1711298240;
 h=references:in-reply-to:cc:to:from:subject:message-id:date
 :x-gm-message-state:from:to:cc:subject:date:message-id:reply-to;
 bh=D4iVAGuL7LwsY9dmVucf5uqjIX6zpSidN+OdybzJPHs=;
 b=qi1MTxp1hluSRSQ6kGXT4Bn7FicQW4yr+nmgZaSOX01cuU2M8q8WRXuoRm2QCVg6Rk
 80csl5av+jJQR6ZCSD6wXiY5s8fh/PUC8Bz3ofu2SI5jlzB95VKJovSknidpL5d2rb0/
 o3iFt5J7nwYtRXxyb05Wf/jLHz366YCPcQYGHjVaSCAp7V8fbJAszBchIUTOFiZDslrk
 1DRNWWazz6v9WvX4rl8OohVpM+BOVwDIFyhogoI8sEDzPnC1wo3Q/f0lG97Ex3EqTxRc
 gCT2qwhxGvU983YMR7RnJsDyfCTqR26k2ba8q3AO+B+aoqhdHodhYyGPSYqCCXEu8Jf0
 IwEA==
X-Gm-Message-State: AOJu0YwD2H0IPko5hNDkMYrAqOsJbaAny3n3U9F5yVgDSRK3oEAWyrMF
 Vx8oq1OUu0XCYYYiTYdwuMnCJtvM4yJjy1xe1rKXmkMpYWFe6uGGIGYg/X+2elBjIulZ5nk7j0L
 4TK0HCse66tdEv/I975wp1EHB7pmjGI5yZTDxP9W3SuAdDrPSrB/BEiQB
X-Google-Smtp-Source: AGHT+IGE2BpLMJrJbGfQfwKDTs24UNVuLssLLEv0KuMw3HOAwc8RAID668iiE8AcKPrKWsZQ5ajhOe4dGNKG
X-Received: by 2002:a05:6e02:df1:b0:366:986a:b7e7 with SMTP id
 m17-20020a056e020df100b00366986ab7e7mr7167658ilj.12.1710693440004; 
 Sun, 17 Mar 2024 09:37:20 -0700 (PDT)
Received: from postal.iol.unh.edu (postal.iol.unh.edu.
 [2606:4100:3880:1234::84]) by smtp-relay.gmail.com with ESMTPS id
 v14-20020a056e02164e00b00366c4d5716fsm41538ilu.6.2024.03.17.09.37.19
 (version=TLS1_2 cipher=ECDHE-ECDSA-AES128-GCM-SHA256 bits=128/128);
 Sun, 17 Mar 2024 09:37:19 -0700 (PDT)
X-Relaying-Domain: iol.unh.edu
Date: Sun, 17 Mar 2024 09:37:19 -0700 (PDT)
Message-ID: <65f71c3f.050a0220.5d639.3ae4SMTPIN_ADDED_MISSING@mx.google.com>
Received: from [172.17.0.7] (unknown [172.18.0.217])
 by postal.iol.unh.edu (Postfix) with ESMTP id 8687F6052471;
 Sun, 17 Mar 2024 12:37:19 -0400 (EDT)
Subject: |SUCCESS| pw138438 [PATCH] [v2] windows: make getopt functions have 
From: dpdklab@iol.unh.edu
To: Test Report <test-report@dpdk.org>
Cc: dpdk-test-reports@iol.unh.edu
In-Reply-To: <20240317153413.5780-1-stephen@networkplumber.org>
References: <20240317153413.5780-1-stephen@networkplumber.org>
Content-Type: text/plain
X-BeenThere: test-report@dpdk.org
X-Mailman-Version: 2.1.29
Precedence: list
List-Id: automatic DPDK test reports <test-report.dpdk.org>
List-Unsubscribe: <https://mails.dpdk.org/options/test-report>,
 <mailto:test-report-request@dpdk.org?subject=unsubscribe>
List-Archive: <http://mails.dpdk.org/archives/test-report/>
List-Post: <mailto:test-report@dpdk.org>
List-Help: <mailto:test-report-request@dpdk.org?subject=help>
List-Subscribe: <https://mails.dpdk.org/listinfo/test-report>,
 <mailto:test-report-request@dpdk.org?subject=subscribe>
Errors-To: test-report-bounces@dpdk.org

Test-Label: iol-unit-amd64-testing
Test-Status: SUCCESS
http://dpdk.org/patch/138438

_Testing PASS_

Submitter: Stephen Hemminger <stephen@networkplumber.org>
Date: Sunday, March 17 2024 15:33:59 
DPDK git baseline: Repo:dpdk
  Branch: master
  CommitID:7f82e9c89f3514715533feb34f46ff1ea95c6f98

138438 --> testing pass

Test environment and result as below:

+---------------------+----------------+
|     Environment     | dpdk_unit_test |
+=====================+================+
| CentOS Stream 8     | PASS           |
+---------------------+----------------+
| CentOS Stream 9     | PASS           |
+---------------------+----------------+
| Debian 12 (arm)     | PASS           |
+---------------------+----------------+
| Windows Server 2019 | PASS           |
+---------------------+----------------+
| Fedora 38           | PASS           |
+---------------------+----------------+
| Debian Bullseye     | PASS           |
+---------------------+----------------+
| Ubuntu 20.04        | PASS           |
+---------------------+----------------+
| RHEL8               | PASS           |
+---------------------+----------------+
| Ubuntu 22.04        | PASS           |
+---------------------+----------------+
| openSUSE Leap 15    | PASS           |
+---------------------+----------------+


CentOS Stream 8
	Kernel: 4.18.0-240.10.1.el8_3.x86_64
	Compiler: gcc 8.4.1 20200928

CentOS Stream 9
	Kernel: 4.18.0-240.10.1.el8_3.x86_64
	Compiler: gcc 11.3.1 20220421

Debian 12 (arm)
	Kernel: Container Host Kernel
	Compiler: gcc 11

Windows Server 2019
	Kernel: 10.0
	Compiler: clang 14.0 and gcc 8.1.0 (MinGW)

Fedora 38
	Kernel: Depends on container host
	Compiler: gcc 13.1.1

Debian Bullseye
	Kernel: 5.4.0-122-generic
	Compiler: gcc 10.2.1-6

Ubuntu 20.04
	Kernel: 5.4.0-153-generic
	Compiler: gcc 9.4.0-1ubuntu1~20.04.1

RHEL8
	Kernel: 4.18.0-240.10.1.el8_3.x86_64
	Compiler: gcc 8.3.1 20191121 (Red Hat 8.3.1-5)

Ubuntu 22.04
	Kernel: 4.18.0-240.10.1.el8_3.x86_64
	Compiler: gcc 11.3.0

openSUSE Leap 15
	Kernel: 4.18.0-240.10.1.el8_3.x86_64
	Compiler: gcc 7.5.0

To view detailed results, visit:
https://lab.dpdk.org/results/dashboard/patchsets/29576/

UNH-IOL DPDK Community Lab

To manage your email subscriptions, visit: 
https://lab.dpdk.org/results/dashboard/preferences/subscriptions/