From mboxrd@z Thu Jan  1 00:00:00 1970
Return-Path: <test-report-bounces@dpdk.org>
Received: from mails.dpdk.org (mails.dpdk.org [217.70.189.124])
	by inbox.dpdk.org (Postfix) with ESMTP id 13E6443CE2
	for <public@inbox.dpdk.org>; Mon, 18 Mar 2024 11:51:09 +0100 (CET)
Received: from mails.dpdk.org (localhost [127.0.0.1])
	by mails.dpdk.org (Postfix) with ESMTP id 08B564027F;
	Mon, 18 Mar 2024 11:51:09 +0100 (CET)
Received: from mail-vk1-f228.google.com (mail-vk1-f228.google.com
 [209.85.221.228])
 by mails.dpdk.org (Postfix) with ESMTP id E9DE34026E
 for <test-report@dpdk.org>; Mon, 18 Mar 2024 11:51:06 +0100 (CET)
Received: by mail-vk1-f228.google.com with SMTP id
 71dfb90a1353d-4d44216ea59so418059e0c.2
 for <test-report@dpdk.org>; Mon, 18 Mar 2024 03:51:06 -0700 (PDT)
DKIM-Signature: v=1; a=rsa-sha256; c=relaxed/relaxed;
 d=iol.unh.edu; s=unh-iol; t=1710759066; x=1711363866; darn=dpdk.org;
 h=references:in-reply-to:cc:to:from:subject:message-id:date:from:to
 :cc:subject:date:message-id:reply-to;
 bh=a4fcPFqXWYgTMLH7XAIJkNd8B6JErdp2btw6POuEo90=;
 b=Rsg4qGQRJ8xaIBKUOBsZkKWxngxJZqefQPL/ccsX7QlWtmVCeC5gmApVSmP7XHe4HE
 Iho1h4aNdDaQIlZbPuQgdDBKnONsTGR7OIhm9evgRNoyrtjuQQIhWPEQsfnfd4JaLPqi
 RsKuc4q+cM9ymf9HQdpLRYz5YDCwHnd41RmFc=
X-Google-DKIM-Signature: v=1; a=rsa-sha256; c=relaxed/relaxed;
 d=1e100.net; s=20230601; t=1710759066; x=1711363866;
 h=references:in-reply-to:cc:to:from:subject:message-id:date
 :x-gm-message-state:from:to:cc:subject:date:message-id:reply-to;
 bh=a4fcPFqXWYgTMLH7XAIJkNd8B6JErdp2btw6POuEo90=;
 b=sCAGEGSPDdGBd41KA16U3MUw+/UD+Zgq7L1Eq7Qqjk+sOIn6oyhdtLlozBkbdx0Tgi
 cldV+qiMkyVpv4Gx/5LcolL3MfKV95jaw5v4fKrZ+r1oJX0qYRZ5/rszqHJ5pfph1Reb
 FQI1iTgiS1MhP32wc+EMj8oOV8rjcF429u1dajnJ1g7X6mUNlHPo9T6GtjQRpWGJ6jiX
 xrFalNy3kqrs4LArgtk/nrZpJebUMkl4lyrl1rfYwce64EibM9RVK+pY+1UMtIMuXvE5
 AiqZgTJ8CoQI8VY+bql5XJs5pUU4h9igJPg1szTDevyYFGXfrYMdYEXd1HrlllXhiMhv
 wFzQ==
X-Gm-Message-State: AOJu0YxbemafHz/EYqhbWtmHCyKTm815p+XVLwaxrAo+/fXddBmQFZQb
 0JYxv/SqFXWLGp8kw0+oB1bX1MI1yHhqgub4YSwxJhdu356B2LtYkOf7K8tyV4YW1p8d/uXOjvM
 tKc5euwwKivdeXyWkTExLAKBdq9E9sM+pFrCD1FMNTL5a+R6ZU/otv9El
X-Google-Smtp-Source: AGHT+IG2PODmWFgFnMFC3I+j9VUG1Gcn93nQEzX5TDEOm7hWWqYtVFeQLXFtnAMoAHISHnejE7SIbZYD2bY0
X-Received: by 2002:ac5:c89b:0:b0:4c9:75c3:e79b with SMTP id
 n27-20020ac5c89b000000b004c975c3e79bmr7828778vkl.6.1710759066347; 
 Mon, 18 Mar 2024 03:51:06 -0700 (PDT)
Received: from postal.iol.unh.edu (postal.iol.unh.edu.
 [2606:4100:3880:1234::84]) by smtp-relay.gmail.com with ESMTPS id
 fm11-20020a056122290b00b004d432c89a93sm400887vkb.4.2024.03.18.03.51.06
 (version=TLS1_2 cipher=ECDHE-ECDSA-AES128-GCM-SHA256 bits=128/128);
 Mon, 18 Mar 2024 03:51:06 -0700 (PDT)
X-Relaying-Domain: iol.unh.edu
Date: Mon, 18 Mar 2024 03:51:06 -0700 (PDT)
Message-ID: <65f81c9a.050a0220.462c.5d9cSMTPIN_ADDED_MISSING@mx.google.com>
Received: from [172.21.0.8] (unknown [172.18.0.240])
 by postal.iol.unh.edu (Postfix) with ESMTP id F14B46052471;
 Mon, 18 Mar 2024 06:51:05 -0400 (EDT)
Subject: |SUCCESS| pw138446-138444 [PATCH] [v3,6/6] argparse: fix doc don't d
From: dpdklab@iol.unh.edu
To: Test Report <test-report@dpdk.org>
Cc: dpdk-test-reports@iol.unh.edu
In-Reply-To: <20240318091848.14360-7-fengchengwen@huawei.com>
References: <20240318091848.14360-7-fengchengwen@huawei.com>
Content-Type: text/plain
X-BeenThere: test-report@dpdk.org
X-Mailman-Version: 2.1.29
Precedence: list
List-Id: automatic DPDK test reports <test-report.dpdk.org>
List-Unsubscribe: <https://mails.dpdk.org/options/test-report>,
 <mailto:test-report-request@dpdk.org?subject=unsubscribe>
List-Archive: <http://mails.dpdk.org/archives/test-report/>
List-Post: <mailto:test-report@dpdk.org>
List-Help: <mailto:test-report-request@dpdk.org?subject=help>
List-Subscribe: <https://mails.dpdk.org/listinfo/test-report>,
 <mailto:test-report-request@dpdk.org?subject=subscribe>
Errors-To: test-report-bounces@dpdk.org

Test-Label: iol-compile-amd64-testing
Test-Status: SUCCESS
http://dpdk.org/patch/138444

_Testing PASS_

Submitter: fengchengwen <fengchengwen@huawei.com>
Date: Monday, March 18 2024 09:18:48 
DPDK git baseline: Repo:dpdk
  Branch: master
  CommitID:80ecef6d1f71fcebc0a51d7cabc51f73ee142ff2

138446-138444 --> testing pass

Test environment and result as below:

+---------------------+--------------------+----------------------+
|     Environment     | dpdk_meson_compile | dpdk_mingw64_compile |
+=====================+====================+======================+
| FreeBSD 13.2        | PASS               | SKIPPED              |
+---------------------+--------------------+----------------------+
| Windows Server 2022 | PASS               | SKIPPED              |
+---------------------+--------------------+----------------------+
| CentOS Stream 8     | PASS               | SKIPPED              |
+---------------------+--------------------+----------------------+
| Debian Bullseye     | PASS               | SKIPPED              |
+---------------------+--------------------+----------------------+
| Fedora 38           | PASS               | SKIPPED              |
+---------------------+--------------------+----------------------+
| Debian 12 (arm)     | PASS               | SKIPPED              |
+---------------------+--------------------+----------------------+
| CentOS Stream 9     | PASS               | SKIPPED              |
+---------------------+--------------------+----------------------+
| Windows Server 2019 | PASS               | PASS                 |
+---------------------+--------------------+----------------------+
| RHEL8               | PASS               | SKIPPED              |
+---------------------+--------------------+----------------------+
| Ubuntu 20.04        | PASS               | SKIPPED              |
+---------------------+--------------------+----------------------+
| Fedora 37           | PASS               | SKIPPED              |
+---------------------+--------------------+----------------------+


FreeBSD 13.2
	Kernel: 13.2
	Compiler: clang 11.3.0

Windows Server 2022
	Kernel: OS Build 20348.2031
	Compiler: clang 15.0.7, gcc 8.1.0 (MinGW), and MSVC VS 17.9

CentOS Stream 8
	Kernel: 4.18.0-240.10.1.el8_3.x86_64
	Compiler: gcc 8.4.1 20200928

Debian Bullseye
	Kernel: 5.4.0-122-generic
	Compiler: gcc 10.2.1-6

Fedora 38
	Kernel: Depends on container host
	Compiler: gcc 13.1.1

Debian 12 (arm)
	Kernel: Container Host Kernel
	Compiler: gcc 11

CentOS Stream 9
	Kernel: 4.18.0-240.10.1.el8_3.x86_64
	Compiler: gcc 11.3.1 20220421

Windows Server 2019
	Kernel: 10.0
	Compiler: clang 14.0 and gcc 8.1.0 (MinGW)

RHEL8
	Kernel: 4.18.0-240.10.1.el8_3.x86_64
	Compiler: gcc 8.3.1 20191121 (Red Hat 8.3.1-5)

Ubuntu 20.04
	Kernel: 5.4.0-153-generic
	Compiler: gcc 9.4.0-1ubuntu1~20.04.1

Fedora 37
	Kernel: Depends on container host system
	Compiler: gcc 12.3.1

To view detailed results, visit:
https://lab.dpdk.org/results/dashboard/patchsets/29580/

UNH-IOL DPDK Community Lab

To manage your email subscriptions, visit: 
https://lab.dpdk.org/results/dashboard/preferences/subscriptions/