From mboxrd@z Thu Jan  1 00:00:00 1970
Return-Path: <test-report-bounces@dpdk.org>
Received: from mails.dpdk.org (mails.dpdk.org [217.70.189.124])
	by inbox.dpdk.org (Postfix) with ESMTP id 9757343CE2
	for <public@inbox.dpdk.org>; Mon, 18 Mar 2024 11:55:24 +0100 (CET)
Received: from mails.dpdk.org (localhost [127.0.0.1])
	by mails.dpdk.org (Postfix) with ESMTP id 930D34027F;
	Mon, 18 Mar 2024 11:55:24 +0100 (CET)
Received: from mail-yw1-f225.google.com (mail-yw1-f225.google.com
 [209.85.128.225])
 by mails.dpdk.org (Postfix) with ESMTP id 262DE4026E
 for <test-report@dpdk.org>; Mon, 18 Mar 2024 11:55:23 +0100 (CET)
Received: by mail-yw1-f225.google.com with SMTP id
 00721157ae682-607c5679842so42930667b3.2
 for <test-report@dpdk.org>; Mon, 18 Mar 2024 03:55:23 -0700 (PDT)
DKIM-Signature: v=1; a=rsa-sha256; c=relaxed/relaxed;
 d=iol.unh.edu; s=unh-iol; t=1710759322; x=1711364122; darn=dpdk.org;
 h=references:in-reply-to:cc:to:from:subject:message-id:date:from:to
 :cc:subject:date:message-id:reply-to;
 bh=IVe0kZzI3ygIgAmAH0ERmTTFf7C6TWnYIJ4Q+ZHDAyg=;
 b=efIIpLg+JVYxeMXpEcwgSlIloS9mTcAopEpuwf67qsnfQ77UejMGsOJqPEqBSBXTz2
 bTl7BMp7axKQa7+Wkv2cPwqR9bMF0exgDDvF05BQnOWsR2RPRN79OqGV+4JpJi42mHN9
 TXOUUDSjG72SR/n04vjmCIEbgK/IZUxKwsWUM=
X-Google-DKIM-Signature: v=1; a=rsa-sha256; c=relaxed/relaxed;
 d=1e100.net; s=20230601; t=1710759322; x=1711364122;
 h=references:in-reply-to:cc:to:from:subject:message-id:date
 :x-gm-message-state:from:to:cc:subject:date:message-id:reply-to;
 bh=IVe0kZzI3ygIgAmAH0ERmTTFf7C6TWnYIJ4Q+ZHDAyg=;
 b=lt7qlg77t8Y5RyRwEuvqGilLyoZFMoj6HXr1DReRoKpRV9DINPkspZ+N04zIIGcYh5
 40Vh1Mlm8SjkT8iV3DrTcjH2sI7NCOtPiV9eLpwJVZR6mVKysOjMPG0ziroWIMzqOGx4
 EOv3QgtfFUcVtFqwUDQY7AMnqqenfjY8+nLkdqnpgZUXUYd5El+6D1G9XH1zPlIMjRdr
 neJ+/yJoaaHq40fO/AMDWkuNwozPYMWh4jCd9nGDEXCjzqx5VBtpBFoA+6eLFlX1NY2U
 nAFV3ZdSLN6/GxDBEWggRp2xG4TtruCKs9QKnSoEXczTf/pFkeYv2jVyLUHKJDeZVPeQ
 8xOQ==
X-Gm-Message-State: AOJu0YyGbU4vdnw6bhvMkXqvFzEs+AW/PQiwrK1kJbPaI8FDCcU6rhCX
 +rBp6nJRgZlpOEGcfznvTrgzDrPHgqMRyMpOUw62MSb1KHbxTNYyoVLfK+buYXHMndL9jfSM/xe
 ksdJxmXasOz8GSlrW1VGvy4gi/FRN0wojg8rHalGz
X-Google-Smtp-Source: AGHT+IEqVRqp3S+tgZe/jDyHUrW1JOLmCER7HgrOJOtP3/1A2xWpP4TTPdXmA9P6FHc1KRGmQ9LbfQQ6ZRxM
X-Received: by 2002:a81:9210:0:b0:609:87d8:4869 with SMTP id
 j16-20020a819210000000b0060987d84869mr9643323ywg.52.1710759322591; 
 Mon, 18 Mar 2024 03:55:22 -0700 (PDT)
Received: from postal.iol.unh.edu (postal.iol.unh.edu. [132.177.123.84])
 by smtp-relay.gmail.com with ESMTPS id
 j7-20020a0df907000000b00610893e5e52sm423001ywf.57.2024.03.18.03.55.22
 (version=TLS1_2 cipher=ECDHE-ECDSA-AES128-GCM-SHA256 bits=128/128);
 Mon, 18 Mar 2024 03:55:22 -0700 (PDT)
X-Relaying-Domain: iol.unh.edu
Date: Mon, 18 Mar 2024 03:55:22 -0700 (PDT)
Message-ID: <65f81d9a.0d0a0220.32816.beaaSMTPIN_ADDED_MISSING@mx.google.com>
Received: from [172.17.0.6] (unknown [172.18.0.217])
 by postal.iol.unh.edu (Postfix) with ESMTP id 3CB6D6052471;
 Mon, 18 Mar 2024 06:55:22 -0400 (EDT)
Subject: |SUCCESS| pw138446-138444 [PATCH] [v3,6/6] argparse: fix doc don't d
From: dpdklab@iol.unh.edu
To: Test Report <test-report@dpdk.org>
Cc: dpdk-test-reports@iol.unh.edu
In-Reply-To: <20240318091848.14360-7-fengchengwen@huawei.com>
References: <20240318091848.14360-7-fengchengwen@huawei.com>
Content-Type: text/plain
X-BeenThere: test-report@dpdk.org
X-Mailman-Version: 2.1.29
Precedence: list
List-Id: automatic DPDK test reports <test-report.dpdk.org>
List-Unsubscribe: <https://mails.dpdk.org/options/test-report>,
 <mailto:test-report-request@dpdk.org?subject=unsubscribe>
List-Archive: <http://mails.dpdk.org/archives/test-report/>
List-Post: <mailto:test-report@dpdk.org>
List-Help: <mailto:test-report-request@dpdk.org?subject=help>
List-Subscribe: <https://mails.dpdk.org/listinfo/test-report>,
 <mailto:test-report-request@dpdk.org?subject=subscribe>
Errors-To: test-report-bounces@dpdk.org

Test-Label: iol-compile-amd64-testing
Test-Status: SUCCESS
http://dpdk.org/patch/138444

_Testing PASS_

Submitter: fengchengwen <fengchengwen@huawei.com>
Date: Monday, March 18 2024 09:18:48 
DPDK git baseline: Repo:dpdk
  Branch: master
  CommitID:80ecef6d1f71fcebc0a51d7cabc51f73ee142ff2

138446-138444 --> testing pass

Test environment and result as below:

+---------------------+--------------------+----------------------+
|     Environment     | dpdk_meson_compile | dpdk_mingw64_compile |
+=====================+====================+======================+
| FreeBSD 13.2        | PASS               | SKIPPED              |
+---------------------+--------------------+----------------------+
| Windows Server 2022 | PASS               | PASS                 |
+---------------------+--------------------+----------------------+
| CentOS Stream 8     | PASS               | SKIPPED              |
+---------------------+--------------------+----------------------+
| Debian Bullseye     | PASS               | SKIPPED              |
+---------------------+--------------------+----------------------+
| Fedora 38           | PASS               | SKIPPED              |
+---------------------+--------------------+----------------------+
| Debian 12 (arm)     | PASS               | SKIPPED              |
+---------------------+--------------------+----------------------+
| CentOS Stream 9     | PASS               | SKIPPED              |
+---------------------+--------------------+----------------------+
| Windows Server 2019 | PASS               | PASS                 |
+---------------------+--------------------+----------------------+
| RHEL8               | PASS               | SKIPPED              |
+---------------------+--------------------+----------------------+
| Ubuntu 20.04        | PASS               | SKIPPED              |
+---------------------+--------------------+----------------------+
| Fedora 37           | PASS               | SKIPPED              |
+---------------------+--------------------+----------------------+
| Ubuntu 22.04        | PASS               | SKIPPED              |
+---------------------+--------------------+----------------------+
| openSUSE Leap 15    | PASS               | SKIPPED              |
+---------------------+--------------------+----------------------+


FreeBSD 13.2
	Kernel: 13.2
	Compiler: clang 11.3.0

Windows Server 2022
	Kernel: OS Build 20348.2031
	Compiler: clang 15.0.7, gcc 8.1.0 (MinGW), and MSVC VS 17.9

CentOS Stream 8
	Kernel: 4.18.0-240.10.1.el8_3.x86_64
	Compiler: gcc 8.4.1 20200928

Debian Bullseye
	Kernel: 5.4.0-122-generic
	Compiler: gcc 10.2.1-6

Fedora 38
	Kernel: Depends on container host
	Compiler: gcc 13.1.1

Debian 12 (arm)
	Kernel: Container Host Kernel
	Compiler: gcc 11

CentOS Stream 9
	Kernel: 4.18.0-240.10.1.el8_3.x86_64
	Compiler: gcc 11.3.1 20220421

Windows Server 2019
	Kernel: 10.0
	Compiler: clang 14.0 and gcc 8.1.0 (MinGW)

RHEL8
	Kernel: 4.18.0-240.10.1.el8_3.x86_64
	Compiler: gcc 8.3.1 20191121 (Red Hat 8.3.1-5)

Ubuntu 20.04
	Kernel: 5.4.0-153-generic
	Compiler: gcc 9.4.0-1ubuntu1~20.04.1

Fedora 37
	Kernel: Depends on container host system
	Compiler: gcc 12.3.1

Ubuntu 22.04
	Kernel: 4.18.0-240.10.1.el8_3.x86_64
	Compiler: gcc 11.3.0

openSUSE Leap 15
	Kernel: 4.18.0-240.10.1.el8_3.x86_64
	Compiler: gcc 7.5.0

To view detailed results, visit:
https://lab.dpdk.org/results/dashboard/patchsets/29580/

UNH-IOL DPDK Community Lab

To manage your email subscriptions, visit: 
https://lab.dpdk.org/results/dashboard/preferences/subscriptions/