From mboxrd@z Thu Jan  1 00:00:00 1970
Return-Path: <test-report-bounces@dpdk.org>
Received: from mails.dpdk.org (mails.dpdk.org [217.70.189.124])
	by inbox.dpdk.org (Postfix) with ESMTP id 0142743CE2
	for <public@inbox.dpdk.org>; Mon, 18 Mar 2024 11:56:22 +0100 (CET)
Received: from mails.dpdk.org (localhost [127.0.0.1])
	by mails.dpdk.org (Postfix) with ESMTP id ED4344027F;
	Mon, 18 Mar 2024 11:56:21 +0100 (CET)
Received: from mail-il1-f228.google.com (mail-il1-f228.google.com
 [209.85.166.228])
 by mails.dpdk.org (Postfix) with ESMTP id AA0894026E
 for <test-report@dpdk.org>; Mon, 18 Mar 2024 11:56:20 +0100 (CET)
Received: by mail-il1-f228.google.com with SMTP id
 e9e14a558f8ab-366b3b6d527so4365205ab.0
 for <test-report@dpdk.org>; Mon, 18 Mar 2024 03:56:20 -0700 (PDT)
DKIM-Signature: v=1; a=rsa-sha256; c=relaxed/relaxed;
 d=iol.unh.edu; s=unh-iol; t=1710759380; x=1711364180; darn=dpdk.org;
 h=references:in-reply-to:cc:to:from:subject:message-id:date:from:to
 :cc:subject:date:message-id:reply-to;
 bh=IVe0kZzI3ygIgAmAH0ERmTTFf7C6TWnYIJ4Q+ZHDAyg=;
 b=OJ5UghaqlfPJihhoL7xSMl6MISfZuGKQ2EBRKekfOsS2kjOY8qNpxFDHy+9WS+ZWym
 kmb8F8tCAtJ6zulMIKkZEpjJo57DqdoO/pn65Jn+hPnLEpcb0rWk+BjL0AcRkHVlepV1
 m1HU/AZBdUp//gf2ETJAHbBtaf9eBndwZ1PmY=
X-Google-DKIM-Signature: v=1; a=rsa-sha256; c=relaxed/relaxed;
 d=1e100.net; s=20230601; t=1710759380; x=1711364180;
 h=references:in-reply-to:cc:to:from:subject:message-id:date
 :x-gm-message-state:from:to:cc:subject:date:message-id:reply-to;
 bh=IVe0kZzI3ygIgAmAH0ERmTTFf7C6TWnYIJ4Q+ZHDAyg=;
 b=rSl+czJgAnUiKSJauGpPEudDMm+DSqgGk303AJvBHXAjbTmUz+dBbyXGwPEhjrE+SV
 PgZ/h2rffIDOOXNLhuYNtRpndENGSQ8TU6YOASK9Y8kOrlLx8WyJtkJrmxTvg/n3Rqnb
 lfV/lr+Zs908MepONzMUuwAq0gtb+0GDmw669+Ts0b8hm3x2PdVUnl9bi/VCGonLCpqN
 GQP3TGMvfPSPBzgmNogRf5PWIZaSskF4xCBfuTUMFz/chO9UxC/Ow3MVy2tq3Lh2A+XU
 pJijj+L1eY7W+NlZLd6Dpyjh4RuveU3uHVtEyRW5TM7k4J+x8ApqL65T3i0ioS6b+YQX
 NF/g==
X-Gm-Message-State: AOJu0YysO03irlIm/QVIAT6i7J8RWKXGw4vYdamC7mh2c9XRtGev8sU+
 wmZevzBGd9ynj5FvELo3oTS+1F3yqZoo2X4QjdRRmI55Vg8otTfPLRwMb8jnfy0awHCdk5Gp+3d
 A8bm08wWK10XwKefgmmb1zPUlabOoobnZaoFUClJl
X-Google-Smtp-Source: AGHT+IHkpgA+KkieG9wvGqiJE8XSzgT1gg4L1WpH7P0Q4uuWeqyaUppe7Mlr8DtLiNTlSNYTRw17Yzf6k5zs
X-Received: by 2002:a05:6e02:f83:b0:366:8bef:1e0f with SMTP id
 v3-20020a056e020f8300b003668bef1e0fmr6977583ilo.1.1710759380169; 
 Mon, 18 Mar 2024 03:56:20 -0700 (PDT)
Received: from postal.iol.unh.edu (postal.iol.unh.edu. [132.177.123.84])
 by smtp-relay.gmail.com with ESMTPS id
 e20-20020a056638021400b0047b1e23f4f8sm31369jaq.24.2024.03.18.03.56.20
 (version=TLS1_2 cipher=ECDHE-ECDSA-AES128-GCM-SHA256 bits=128/128);
 Mon, 18 Mar 2024 03:56:20 -0700 (PDT)
X-Relaying-Domain: iol.unh.edu
Date: Mon, 18 Mar 2024 03:56:20 -0700 (PDT)
Message-ID: <65f81dd4.050a0220.11911.290dSMTPIN_ADDED_MISSING@mx.google.com>
Received: from [172.17.0.6] (unknown [172.18.0.217])
 by postal.iol.unh.edu (Postfix) with ESMTP id AB51B6052471;
 Mon, 18 Mar 2024 06:56:18 -0400 (EDT)
Subject: |SUCCESS| pw138446-138444 [PATCH] [v3,6/6] argparse: fix doc don't d
From: dpdklab@iol.unh.edu
To: Test Report <test-report@dpdk.org>
Cc: dpdk-test-reports@iol.unh.edu
In-Reply-To: <20240318091848.14360-7-fengchengwen@huawei.com>
References: <20240318091848.14360-7-fengchengwen@huawei.com>
Content-Type: text/plain
X-BeenThere: test-report@dpdk.org
X-Mailman-Version: 2.1.29
Precedence: list
List-Id: automatic DPDK test reports <test-report.dpdk.org>
List-Unsubscribe: <https://mails.dpdk.org/options/test-report>,
 <mailto:test-report-request@dpdk.org?subject=unsubscribe>
List-Archive: <http://mails.dpdk.org/archives/test-report/>
List-Post: <mailto:test-report@dpdk.org>
List-Help: <mailto:test-report-request@dpdk.org?subject=help>
List-Subscribe: <https://mails.dpdk.org/listinfo/test-report>,
 <mailto:test-report-request@dpdk.org?subject=subscribe>
Errors-To: test-report-bounces@dpdk.org

Test-Label: iol-compile-amd64-testing
Test-Status: SUCCESS
http://dpdk.org/patch/138444

_Testing PASS_

Submitter: fengchengwen <fengchengwen@huawei.com>
Date: Monday, March 18 2024 09:18:48 
DPDK git baseline: Repo:dpdk
  Branch: master
  CommitID:80ecef6d1f71fcebc0a51d7cabc51f73ee142ff2

138446-138444 --> testing pass

Test environment and result as below:

+---------------------+--------------------+----------------------+
|     Environment     | dpdk_meson_compile | dpdk_mingw64_compile |
+=====================+====================+======================+
| FreeBSD 13.2        | PASS               | SKIPPED              |
+---------------------+--------------------+----------------------+
| Windows Server 2022 | PASS               | PASS                 |
+---------------------+--------------------+----------------------+
| CentOS Stream 8     | PASS               | SKIPPED              |
+---------------------+--------------------+----------------------+
| Debian Bullseye     | PASS               | SKIPPED              |
+---------------------+--------------------+----------------------+
| Fedora 38           | PASS               | SKIPPED              |
+---------------------+--------------------+----------------------+
| Debian 12 (arm)     | PASS               | SKIPPED              |
+---------------------+--------------------+----------------------+
| CentOS Stream 9     | PASS               | SKIPPED              |
+---------------------+--------------------+----------------------+
| Windows Server 2019 | PASS               | PASS                 |
+---------------------+--------------------+----------------------+
| RHEL8               | PASS               | SKIPPED              |
+---------------------+--------------------+----------------------+
| Ubuntu 20.04        | PASS               | SKIPPED              |
+---------------------+--------------------+----------------------+
| Fedora 37           | PASS               | SKIPPED              |
+---------------------+--------------------+----------------------+
| Ubuntu 22.04        | PASS               | SKIPPED              |
+---------------------+--------------------+----------------------+
| openSUSE Leap 15    | PASS               | SKIPPED              |
+---------------------+--------------------+----------------------+


FreeBSD 13.2
	Kernel: 13.2
	Compiler: clang 11.3.0

Windows Server 2022
	Kernel: OS Build 20348.2031
	Compiler: clang 15.0.7, gcc 8.1.0 (MinGW), and MSVC VS 17.9

CentOS Stream 8
	Kernel: 4.18.0-240.10.1.el8_3.x86_64
	Compiler: gcc 8.4.1 20200928

Debian Bullseye
	Kernel: 5.4.0-122-generic
	Compiler: gcc 10.2.1-6

Fedora 38
	Kernel: Depends on container host
	Compiler: gcc 13.1.1

Debian 12 (arm)
	Kernel: Container Host Kernel
	Compiler: gcc 11

CentOS Stream 9
	Kernel: 4.18.0-240.10.1.el8_3.x86_64
	Compiler: gcc 11.3.1 20220421

Windows Server 2019
	Kernel: 10.0
	Compiler: clang 14.0 and gcc 8.1.0 (MinGW)

RHEL8
	Kernel: 4.18.0-240.10.1.el8_3.x86_64
	Compiler: gcc 8.3.1 20191121 (Red Hat 8.3.1-5)

Ubuntu 20.04
	Kernel: 5.4.0-153-generic
	Compiler: gcc 9.4.0-1ubuntu1~20.04.1

Fedora 37
	Kernel: Depends on container host system
	Compiler: gcc 12.3.1

Ubuntu 22.04
	Kernel: 4.18.0-240.10.1.el8_3.x86_64
	Compiler: gcc 11.3.0

openSUSE Leap 15
	Kernel: 4.18.0-240.10.1.el8_3.x86_64
	Compiler: gcc 7.5.0

To view detailed results, visit:
https://lab.dpdk.org/results/dashboard/patchsets/29580/

UNH-IOL DPDK Community Lab

To manage your email subscriptions, visit: 
https://lab.dpdk.org/results/dashboard/preferences/subscriptions/