From mboxrd@z Thu Jan  1 00:00:00 1970
Return-Path: <test-report-bounces@dpdk.org>
Received: from mails.dpdk.org (mails.dpdk.org [217.70.189.124])
	by inbox.dpdk.org (Postfix) with ESMTP id AC26643CE3
	for <public@inbox.dpdk.org>; Mon, 18 Mar 2024 12:09:37 +0100 (CET)
Received: from mails.dpdk.org (localhost [127.0.0.1])
	by mails.dpdk.org (Postfix) with ESMTP id A77B54027F;
	Mon, 18 Mar 2024 12:09:37 +0100 (CET)
Received: from mail-yb1-f227.google.com (mail-yb1-f227.google.com
 [209.85.219.227])
 by mails.dpdk.org (Postfix) with ESMTP id 3DF404026E
 for <test-report@dpdk.org>; Mon, 18 Mar 2024 12:09:25 +0100 (CET)
Received: by mail-yb1-f227.google.com with SMTP id
 3f1490d57ef6-dcd9e34430cso4264341276.1
 for <test-report@dpdk.org>; Mon, 18 Mar 2024 04:09:25 -0700 (PDT)
DKIM-Signature: v=1; a=rsa-sha256; c=relaxed/relaxed;
 d=iol.unh.edu; s=unh-iol; t=1710760164; x=1711364964; darn=dpdk.org;
 h=references:in-reply-to:cc:to:from:subject:message-id:date:from:to
 :cc:subject:date:message-id:reply-to;
 bh=wsaRlTAX2ZvS9Up/povj0l9w4/j4tVzWMqMkNzbUmog=;
 b=gqVUPHcllUOu5SswdXKTRslmEh4IAaAvAnJMjULiRBYnRIzpu4ZIGPoQ11XzA9ct58
 zfE6GNA+XzAUSyx/8oFd4esUy60B3dEtvt+77DeAPKBJr1+ByesNfURCMJjoOauNmFJ+
 NUsrE0x7nqiPLm3XeBpmwx7gtAiEGvYWFhIJM=
X-Google-DKIM-Signature: v=1; a=rsa-sha256; c=relaxed/relaxed;
 d=1e100.net; s=20230601; t=1710760164; x=1711364964;
 h=references:in-reply-to:cc:to:from:subject:message-id:date
 :x-gm-message-state:from:to:cc:subject:date:message-id:reply-to;
 bh=wsaRlTAX2ZvS9Up/povj0l9w4/j4tVzWMqMkNzbUmog=;
 b=JRZEv7ruAOYhbEBPbOnRLL1yvIIGVtGN91TnHiA48S6jFzY0NpXScaHWGXo3/nvzOj
 A1/1Hn2r3N+c9eiYhqHhFdgPzlwIJr1T7JxBSbkZEuG6r7zpZA2O5xzIU0TuId83/Q6S
 jTxkTl3wkk9AZdXvgowHwVZ9mhUaJ07VbNrgz7eWPRjMHWV2BiU3OErDF5ps2fz/Hzze
 YW5LTbP6qW8taaNJ/u/crvbRaOtVGPKukNrWDZwim/i2Pnp9Vl12Y5c0FBWGUAhIW20O
 TvlXEGQ2U6Z1bfJS2FOYbBdq1JL7QMqzJgoMN0wNVJqBIJ8tLTsp3iW0espcrE5rLxWt
 HKfQ==
X-Gm-Message-State: AOJu0YwzFCT0Faadud9dtaEGyZ25igFGlKcnl//OhCBTdpH/nwCZfYrr
 HlyYwl6ftVaEHRe2pBK1clHLXYVZ+QYmHuKBDoYmAb2l31Cr17bw8syPyKF2ek7pOzzBS06zQc3
 5mPgSwVrL3k8N8oWotehtEsCQua0TAJoJgg8CnF9N
X-Google-Smtp-Source: AGHT+IH3TL2BtuAiW4VJoKFmYXh3obibKbMJ8mGBMWGLFQhg5cFTqpNDuFmQsbDYvcr3cCee/bt4Dqct7DzC
X-Received: by 2002:a05:6902:54e:b0:dcd:aee6:fa9 with SMTP id
 z14-20020a056902054e00b00dcdaee60fa9mr10201305ybs.53.1710760164275; 
 Mon, 18 Mar 2024 04:09:24 -0700 (PDT)
Received: from postal.iol.unh.edu (postal.iol.unh.edu. [132.177.123.84])
 by smtp-relay.gmail.com with ESMTPS id
 b13-20020a25ae8d000000b00dc21a65b93bsm337487ybj.1.2024.03.18.04.09.24
 (version=TLS1_2 cipher=ECDHE-ECDSA-AES128-GCM-SHA256 bits=128/128);
 Mon, 18 Mar 2024 04:09:24 -0700 (PDT)
X-Relaying-Domain: iol.unh.edu
Date: Mon, 18 Mar 2024 04:09:24 -0700 (PDT)
Message-ID: <65f820e4.250a0220.d36b5.586bSMTPIN_ADDED_MISSING@mx.google.com>
Received: from [172.17.0.6] (unknown [172.18.0.217])
 by postal.iol.unh.edu (Postfix) with ESMTP id E5DEC6052471;
 Mon, 18 Mar 2024 07:09:23 -0400 (EDT)
Subject: |SUCCESS| pw138446-138444 [PATCH] [v3,6/6] argparse: fix doc don't d
From: dpdklab@iol.unh.edu
To: Test Report <test-report@dpdk.org>
Cc: dpdk-test-reports@iol.unh.edu
In-Reply-To: <20240318091848.14360-7-fengchengwen@huawei.com>
References: <20240318091848.14360-7-fengchengwen@huawei.com>
Content-Type: text/plain
X-BeenThere: test-report@dpdk.org
X-Mailman-Version: 2.1.29
Precedence: list
List-Id: automatic DPDK test reports <test-report.dpdk.org>
List-Unsubscribe: <https://mails.dpdk.org/options/test-report>,
 <mailto:test-report-request@dpdk.org?subject=unsubscribe>
List-Archive: <http://mails.dpdk.org/archives/test-report/>
List-Post: <mailto:test-report@dpdk.org>
List-Help: <mailto:test-report-request@dpdk.org?subject=help>
List-Subscribe: <https://mails.dpdk.org/listinfo/test-report>,
 <mailto:test-report-request@dpdk.org?subject=subscribe>
Errors-To: test-report-bounces@dpdk.org

Test-Label: iol-unit-arm64-testing
Test-Status: SUCCESS
http://dpdk.org/patch/138444

_Testing PASS_

Submitter: fengchengwen <fengchengwen@huawei.com>
Date: Monday, March 18 2024 09:18:48 
DPDK git baseline: Repo:dpdk
  Branch: master
  CommitID:80ecef6d1f71fcebc0a51d7cabc51f73ee142ff2

138446-138444 --> testing pass

Test environment and result as below:

+--------------------------+----------------+
|       Environment        | dpdk_unit_test |
+==========================+================+
| Debian 11 (Buster) (ARM) | PASS           |
+--------------------------+----------------+
| CentOS Stream 9 (ARM)    | PASS           |
+--------------------------+----------------+
| Debian 12 (arm)          | PASS           |
+--------------------------+----------------+


Debian 11 (Buster) (ARM)
	Kernel: Container Host Kernel
	Compiler: gcc 10.2.1

CentOS Stream 9 (ARM)
	Kernel: Container Host Kernel
	Compiler: gcc 11.3.1

Debian 12 (arm)
	Kernel: Container Host Kernel
	Compiler: gcc 11

To view detailed results, visit:
https://lab.dpdk.org/results/dashboard/patchsets/29580/

UNH-IOL DPDK Community Lab

To manage your email subscriptions, visit: 
https://lab.dpdk.org/results/dashboard/preferences/subscriptions/