From mboxrd@z Thu Jan  1 00:00:00 1970
Return-Path: <test-report-bounces@dpdk.org>
Received: from mails.dpdk.org (mails.dpdk.org [217.70.189.124])
	by inbox.dpdk.org (Postfix) with ESMTP id BF6AE43CE3
	for <public@inbox.dpdk.org>; Mon, 18 Mar 2024 12:16:36 +0100 (CET)
Received: from mails.dpdk.org (localhost [127.0.0.1])
	by mails.dpdk.org (Postfix) with ESMTP id B97AF4027F;
	Mon, 18 Mar 2024 12:16:36 +0100 (CET)
Received: from mail-qv1-f97.google.com (mail-qv1-f97.google.com
 [209.85.219.97]) by mails.dpdk.org (Postfix) with ESMTP id 16B554026E
 for <test-report@dpdk.org>; Mon, 18 Mar 2024 12:16:36 +0100 (CET)
Received: by mail-qv1-f97.google.com with SMTP id
 6a1803df08f44-6904a5d71abso22616836d6.1
 for <test-report@dpdk.org>; Mon, 18 Mar 2024 04:16:36 -0700 (PDT)
DKIM-Signature: v=1; a=rsa-sha256; c=relaxed/relaxed;
 d=iol.unh.edu; s=unh-iol; t=1710760595; x=1711365395; darn=dpdk.org;
 h=references:in-reply-to:cc:to:from:subject:message-id:date:from:to
 :cc:subject:date:message-id:reply-to;
 bh=Fjgt84et+L1vnDwWiwz0ODvPqvVCrcvXU0ac2oLyUTg=;
 b=FQPMy2RcnkTZM3rlovEVc5TqMmfiA43sq0Yu6SWuU5+YYuhTFxCLn+qnWxLLzy5C0z
 er5vzTFufKybRGl4Kzbdo8tTwP6QfidwkvsEr0a/tEEeG3h0wpiPNvJfTkdgfmcJPasW
 fL650Yz9vaU500HHk2u7KYreQyCQr7ibzbGtU=
X-Google-DKIM-Signature: v=1; a=rsa-sha256; c=relaxed/relaxed;
 d=1e100.net; s=20230601; t=1710760595; x=1711365395;
 h=references:in-reply-to:cc:to:from:subject:message-id:date
 :x-gm-message-state:from:to:cc:subject:date:message-id:reply-to;
 bh=Fjgt84et+L1vnDwWiwz0ODvPqvVCrcvXU0ac2oLyUTg=;
 b=atrN+Wy2Z+G+JQ9wbNFb3ZbsbtDDb1kATeJDBR03oaK6tz7+z18YmlJdwpBeY0lQ9G
 oe4eWyxWiDRjAIqreSDSgENx2tW8OzCl5clPxuXQvK1fjcAiPL1X73hHs4UNpxQgOTVx
 6C1pe8vwXM0Y6JW9COryja39BbyAgqo1B+85JkVoQJu8iHffI4MwhQ8/bHUWNzhZAP8C
 TVKUtN3gaBRb0LBdfbqBgsbrJf5dBGajfQMMubO/vUqE9arjT0rnemk504PiipQ20CNe
 UkDX7DuS+VxZZAlNpAGemvPy+6Fr5qi5idtwlFiFk0p6ICYDvSugqwrQkD/hcCmLok0n
 y2Lg==
X-Gm-Message-State: AOJu0YyLDY2SzWFA1D5SgaoRTHvYZNLIMWF7DkIsWHZjEZJytGC/STaQ
 e3MHc3MY9t8Kq1Po+C+U6R3HbKqx4Ob+4w3DKGStYKhb4FrSWHpTZOwIvco1tlQQH112dbYzgz9
 VrDypEom7rGO7j5rLbhQw4NTQPjmwUtEmBl5VJAM3
X-Google-Smtp-Source: AGHT+IGusaFqNbUvhIugIQqMq0rhhZpYWdvBSDSSrGznvUprqoAfCkDFAniBEL4AjqQDpIISl9b/SqRxEd0m
X-Received: by 2002:a0c:fc49:0:b0:690:9a89:c432 with SMTP id
 w9-20020a0cfc49000000b006909a89c432mr12090056qvp.37.1710760595420; 
 Mon, 18 Mar 2024 04:16:35 -0700 (PDT)
Received: from postal.iol.unh.edu (postal.iol.unh.edu. [132.177.123.84])
 by smtp-relay.gmail.com with ESMTPS id
 i4-20020ad45c64000000b0068f451382a5sm571112qvh.8.2024.03.18.04.16.35
 (version=TLS1_2 cipher=ECDHE-ECDSA-AES128-GCM-SHA256 bits=128/128);
 Mon, 18 Mar 2024 04:16:35 -0700 (PDT)
X-Relaying-Domain: iol.unh.edu
Date: Mon, 18 Mar 2024 04:16:35 -0700 (PDT)
Message-ID: <65f82293.d40a0220.d0b88.7b51SMTPIN_ADDED_MISSING@mx.google.com>
Received: from [172.17.0.6] (unknown [172.18.0.217])
 by postal.iol.unh.edu (Postfix) with ESMTP id 1B6FC6052471;
 Mon, 18 Mar 2024 07:16:35 -0400 (EDT)
Subject: |SUCCESS| pw138446-138444 [PATCH] [v3,6/6] argparse: fix doc don't d
From: dpdklab@iol.unh.edu
To: Test Report <test-report@dpdk.org>
Cc: dpdk-test-reports@iol.unh.edu
In-Reply-To: <20240318091848.14360-7-fengchengwen@huawei.com>
References: <20240318091848.14360-7-fengchengwen@huawei.com>
Content-Type: text/plain
X-BeenThere: test-report@dpdk.org
X-Mailman-Version: 2.1.29
Precedence: list
List-Id: automatic DPDK test reports <test-report.dpdk.org>
List-Unsubscribe: <https://mails.dpdk.org/options/test-report>,
 <mailto:test-report-request@dpdk.org?subject=unsubscribe>
List-Archive: <http://mails.dpdk.org/archives/test-report/>
List-Post: <mailto:test-report@dpdk.org>
List-Help: <mailto:test-report-request@dpdk.org?subject=help>
List-Subscribe: <https://mails.dpdk.org/listinfo/test-report>,
 <mailto:test-report-request@dpdk.org?subject=subscribe>
Errors-To: test-report-bounces@dpdk.org

Test-Label: iol-unit-arm64-testing
Test-Status: SUCCESS
http://dpdk.org/patch/138444

_Testing PASS_

Submitter: fengchengwen <fengchengwen@huawei.com>
Date: Monday, March 18 2024 09:18:48 
DPDK git baseline: Repo:dpdk
  Branch: master
  CommitID:80ecef6d1f71fcebc0a51d7cabc51f73ee142ff2

138446-138444 --> testing pass

Test environment and result as below:

+--------------------------+----------------+--------------+
|       Environment        | dpdk_unit_test | lpm_autotest |
+==========================+================+==============+
| Debian 11 (Buster) (ARM) | PASS           | SKIPPED      |
+--------------------------+----------------+--------------+
| CentOS Stream 9 (ARM)    | PASS           | SKIPPED      |
+--------------------------+----------------+--------------+
| Debian 12 (arm)          | PASS           | SKIPPED      |
+--------------------------+----------------+--------------+
| Fedora 37 (ARM)          | PASS           | SKIPPED      |
+--------------------------+----------------+--------------+
| Fedora 38 (ARM)          | PASS           | SKIPPED      |
+--------------------------+----------------+--------------+
| Ubuntu 20.04 ARM SVE     | SKIPPED        | PASS         |
+--------------------------+----------------+--------------+


Debian 11 (Buster) (ARM)
	Kernel: Container Host Kernel
	Compiler: gcc 10.2.1

CentOS Stream 9 (ARM)
	Kernel: Container Host Kernel
	Compiler: gcc 11.3.1

Debian 12 (arm)
	Kernel: Container Host Kernel
	Compiler: gcc 11

Fedora 37 (ARM)
	Kernel: Depends on container host
	Compiler: gcc 12.3.1

Fedora 38 (ARM)
	Kernel: Depends on container host
	Compiler: gcc 13.1.1

Ubuntu 20.04 ARM SVE
	Kernel: 5.4.0-80-generic
	Compiler: gcc 10.3.0 (Ubuntu 10.3.0-1ubuntu1~20.04)

To view detailed results, visit:
https://lab.dpdk.org/results/dashboard/patchsets/29580/

UNH-IOL DPDK Community Lab

To manage your email subscriptions, visit: 
https://lab.dpdk.org/results/dashboard/preferences/subscriptions/