From mboxrd@z Thu Jan  1 00:00:00 1970
Return-Path: <test-report-bounces@dpdk.org>
Received: from mails.dpdk.org (mails.dpdk.org [217.70.189.124])
	by inbox.dpdk.org (Postfix) with ESMTP id 54AD943CE3
	for <public@inbox.dpdk.org>; Mon, 18 Mar 2024 12:19:08 +0100 (CET)
Received: from mails.dpdk.org (localhost [127.0.0.1])
	by mails.dpdk.org (Postfix) with ESMTP id 4FDDF4027F;
	Mon, 18 Mar 2024 12:19:08 +0100 (CET)
Received: from mail-oi1-f225.google.com (mail-oi1-f225.google.com
 [209.85.167.225])
 by mails.dpdk.org (Postfix) with ESMTP id 5690A4026E
 for <test-report@dpdk.org>; Mon, 18 Mar 2024 12:19:06 +0100 (CET)
Received: by mail-oi1-f225.google.com with SMTP id
 5614622812f47-3c36ecdb8cdso1851339b6e.1
 for <test-report@dpdk.org>; Mon, 18 Mar 2024 04:19:06 -0700 (PDT)
DKIM-Signature: v=1; a=rsa-sha256; c=relaxed/relaxed;
 d=iol.unh.edu; s=unh-iol; t=1710760745; x=1711365545; darn=dpdk.org;
 h=references:in-reply-to:cc:to:from:subject:message-id:date:from:to
 :cc:subject:date:message-id:reply-to;
 bh=Fjgt84et+L1vnDwWiwz0ODvPqvVCrcvXU0ac2oLyUTg=;
 b=IbTXQW0WuQ5h86zutc/rZEZdO0omgGPAxxXfL4Z6xaOw8R+4RKkoRMqElrq8edIpdk
 XAcUEuJhtyeIYYe8fhTS330XrVTfdkfsLdDSrwOV9pz45vzVsSuozTI+xnHHuCfbwKXa
 Ibx1QdZKIHz/Oks87dHgMHyTnk4K72GtvKxpk=
X-Google-DKIM-Signature: v=1; a=rsa-sha256; c=relaxed/relaxed;
 d=1e100.net; s=20230601; t=1710760745; x=1711365545;
 h=references:in-reply-to:cc:to:from:subject:message-id:date
 :x-gm-message-state:from:to:cc:subject:date:message-id:reply-to;
 bh=Fjgt84et+L1vnDwWiwz0ODvPqvVCrcvXU0ac2oLyUTg=;
 b=O2V5CZiQ0L5nSsRDS+1bezVOhtX734upjW4kkiXc1VABi99ZuZu9oOI3uKM5DkRqkK
 1LRaRjpB+rvMZkm5Ie5eNKMEjnlwQadqYbQHfhXLXCcCmTH7f66EY87JrNETD6GWFFoK
 Rfylat+tgPHkvXgX+yHAZo7tBKqcLgkpAImycm9ykM4VQMk5VElGplKtiE3+lrzAym7I
 QV4FC8gQUyYBNOTviBonPqDreLZoSkg3jXaFXD4YseVyaAGKCxg9Odi+lbChg1DLWbip
 4uLCRSYel/fMk+z2uBlQ/BBEiKzEcFqED8E2t9AhKwNkoluYCUkEm5OMNcLawHcLTMhK
 8J3A==
X-Gm-Message-State: AOJu0YyzjV9/3WXi4ccTg2hz3jenpUgznABoH9Ddq2JFuq2zB9VMORbq
 JblFr3dt8GzLLIEdJYrFuoRd69snQwrNztOEae1WmVF+C2gFxfcswoXKUGQlirgHRIlwNOivGCc
 mn2pAbP8nH8IxdL+CFqV6NSHUNyAWwh16lngP5XUZRvH6iEiNBFtO6nsr
X-Google-Smtp-Source: AGHT+IFUDuuWxX4OKA8W9VmhmgxnIufCUdx/skpNUS5Uj+dDqpWPD+xj9WV+qKleY1E42Yu+VggEXps9sn+t
X-Received: by 2002:a05:6808:128b:b0:3c3:898f:ba20 with SMTP id
 a11-20020a056808128b00b003c3898fba20mr2155532oiw.57.1710760745680; 
 Mon, 18 Mar 2024 04:19:05 -0700 (PDT)
Received: from postal.iol.unh.edu (postal.iol.unh.edu.
 [2606:4100:3880:1234::84]) by smtp-relay.gmail.com with ESMTPS id
 y18-20020a63ce12000000b005dc9afa8d03sm300103pgf.0.2024.03.18.04.19.05
 (version=TLS1_2 cipher=ECDHE-ECDSA-AES128-GCM-SHA256 bits=128/128);
 Mon, 18 Mar 2024 04:19:05 -0700 (PDT)
X-Relaying-Domain: iol.unh.edu
Date: Mon, 18 Mar 2024 04:19:05 -0700 (PDT)
Message-ID: <65f82329.630a0220.237e3.3c36SMTPIN_ADDED_MISSING@mx.google.com>
Received: from [172.17.0.6] (unknown [172.18.0.217])
 by postal.iol.unh.edu (Postfix) with ESMTP id E2CC86052471;
 Mon, 18 Mar 2024 07:19:04 -0400 (EDT)
Subject: |SUCCESS| pw138446-138444 [PATCH] [v3,6/6] argparse: fix doc don't d
From: dpdklab@iol.unh.edu
To: Test Report <test-report@dpdk.org>
Cc: dpdk-test-reports@iol.unh.edu
In-Reply-To: <20240318091848.14360-7-fengchengwen@huawei.com>
References: <20240318091848.14360-7-fengchengwen@huawei.com>
Content-Type: text/plain
X-BeenThere: test-report@dpdk.org
X-Mailman-Version: 2.1.29
Precedence: list
List-Id: automatic DPDK test reports <test-report.dpdk.org>
List-Unsubscribe: <https://mails.dpdk.org/options/test-report>,
 <mailto:test-report-request@dpdk.org?subject=unsubscribe>
List-Archive: <http://mails.dpdk.org/archives/test-report/>
List-Post: <mailto:test-report@dpdk.org>
List-Help: <mailto:test-report-request@dpdk.org?subject=help>
List-Subscribe: <https://mails.dpdk.org/listinfo/test-report>,
 <mailto:test-report-request@dpdk.org?subject=subscribe>
Errors-To: test-report-bounces@dpdk.org

Test-Label: iol-unit-arm64-testing
Test-Status: SUCCESS
http://dpdk.org/patch/138444

_Testing PASS_

Submitter: fengchengwen <fengchengwen@huawei.com>
Date: Monday, March 18 2024 09:18:48 
DPDK git baseline: Repo:dpdk
  Branch: master
  CommitID:80ecef6d1f71fcebc0a51d7cabc51f73ee142ff2

138446-138444 --> testing pass

Test environment and result as below:

+--------------------------+----------------+--------------+
|       Environment        | dpdk_unit_test | lpm_autotest |
+==========================+================+==============+
| Debian 11 (Buster) (ARM) | PASS           | SKIPPED      |
+--------------------------+----------------+--------------+
| CentOS Stream 9 (ARM)    | PASS           | SKIPPED      |
+--------------------------+----------------+--------------+
| Debian 12 (arm)          | PASS           | SKIPPED      |
+--------------------------+----------------+--------------+
| Fedora 37 (ARM)          | PASS           | SKIPPED      |
+--------------------------+----------------+--------------+
| Fedora 38 (ARM)          | PASS           | SKIPPED      |
+--------------------------+----------------+--------------+
| Ubuntu 20.04 ARM SVE     | SKIPPED        | PASS         |
+--------------------------+----------------+--------------+


Debian 11 (Buster) (ARM)
	Kernel: Container Host Kernel
	Compiler: gcc 10.2.1

CentOS Stream 9 (ARM)
	Kernel: Container Host Kernel
	Compiler: gcc 11.3.1

Debian 12 (arm)
	Kernel: Container Host Kernel
	Compiler: gcc 11

Fedora 37 (ARM)
	Kernel: Depends on container host
	Compiler: gcc 12.3.1

Fedora 38 (ARM)
	Kernel: Depends on container host
	Compiler: gcc 13.1.1

Ubuntu 20.04 ARM SVE
	Kernel: 5.4.0-80-generic
	Compiler: gcc 10.3.0 (Ubuntu 10.3.0-1ubuntu1~20.04)

To view detailed results, visit:
https://lab.dpdk.org/results/dashboard/patchsets/29580/

UNH-IOL DPDK Community Lab

To manage your email subscriptions, visit: 
https://lab.dpdk.org/results/dashboard/preferences/subscriptions/