From mboxrd@z Thu Jan  1 00:00:00 1970
Return-Path: <test-report-bounces@dpdk.org>
Received: from mails.dpdk.org (mails.dpdk.org [217.70.189.124])
	by inbox.dpdk.org (Postfix) with ESMTP id AFC8143CE4
	for <public@inbox.dpdk.org>; Mon, 18 Mar 2024 12:40:08 +0100 (CET)
Received: from mails.dpdk.org (localhost [127.0.0.1])
	by mails.dpdk.org (Postfix) with ESMTP id A86EF4027F;
	Mon, 18 Mar 2024 12:40:08 +0100 (CET)
Received: from mail-yw1-f227.google.com (mail-yw1-f227.google.com
 [209.85.128.227])
 by mails.dpdk.org (Postfix) with ESMTP id 725E64003C
 for <test-report@dpdk.org>; Mon, 18 Mar 2024 12:40:05 +0100 (CET)
Received: by mail-yw1-f227.google.com with SMTP id
 00721157ae682-607c5679842so43396687b3.2
 for <test-report@dpdk.org>; Mon, 18 Mar 2024 04:40:05 -0700 (PDT)
DKIM-Signature: v=1; a=rsa-sha256; c=relaxed/relaxed;
 d=iol.unh.edu; s=unh-iol; t=1710762005; x=1711366805; darn=dpdk.org;
 h=references:in-reply-to:cc:to:from:subject:message-id:date:from:to
 :cc:subject:date:message-id:reply-to;
 bh=CTOSWIOQeTUj4f5OXmduV5mtmWCz2fmOMaoyPymo0Z0=;
 b=T2ewIDmfqTM62FIbFEYZhEGTDP03FwU6cvIKOgEY3IhcEry5l+qZsZ42NJsc2i5TmP
 aIbHFRxORMsigHtx0m7vBSgogFEUfVvpfcOmc7Abu8I15lm0+y0ZrXaMNejUT7jGJguz
 HyTajUyK0O/+mek30iJvk63oONOkAfxW75h5M=
X-Google-DKIM-Signature: v=1; a=rsa-sha256; c=relaxed/relaxed;
 d=1e100.net; s=20230601; t=1710762005; x=1711366805;
 h=references:in-reply-to:cc:to:from:subject:message-id:date
 :x-gm-message-state:from:to:cc:subject:date:message-id:reply-to;
 bh=CTOSWIOQeTUj4f5OXmduV5mtmWCz2fmOMaoyPymo0Z0=;
 b=mZ2cTaBZlUw0Sv4ruBxtRCNGgcRCUb9WPXSn+wKh+buOC9aL0ABZC2/eSuII3QKz9A
 RM95nWndOJrBU3fUrmRkFW2sH/EC9MDnighTvzncIslFpzmxgkSZY/nFYNBigntoeZN9
 ZIs2m/Oka13fnAUHe/n7djThZwu6lvU4jPdCTKfsLwDXOjPV9thvwzs5Y2tQfwfM27th
 1n6r75G/VCK7gl3UD6oyqVygcgSSvz4Z2XoL7VJDWdKXSiUyMFo1DgV9jnO6mPtWQr5F
 /fj25L+tndV1+0nL/G0U58SWd3awT5xLxDW/ZHtg3cIlIq28Ih7FpZ2voBWQUKcEHLwZ
 YwHg==
X-Gm-Message-State: AOJu0Yxwm27XpJlfYRuoMfZbeoatPFjAlCUp8jmOhhbixSK/W8C6MQ44
 M90lfwPQb878Ivles+v2YCEWdsLuuRqSQrhCTpYBbak0LCXXIsR+rKEk2yP+npsiTvLRnCT1eGk
 tGm/dpQ++qdy6rdKuf1MQaaF9p5/fUeSvgllOTg/tlSVINulE6DMCQuMO
X-Google-Smtp-Source: AGHT+IH4g+k9G2499pWg/8TXJun9Ixo6gB+nL5vyTGe4f3OFOyTn8qFSNoCn/tsJXDYkvA7Dg/qSCLvxTtxq
X-Received: by 2002:a81:6982:0:b0:60a:35f:e92a with SMTP id
 e124-20020a816982000000b0060a035fe92amr12049481ywc.10.1710762004942; 
 Mon, 18 Mar 2024 04:40:04 -0700 (PDT)
Received: from postal.iol.unh.edu (postal.iol.unh.edu.
 [2606:4100:3880:1234::84]) by smtp-relay.gmail.com with ESMTPS id
 d1-20020a0df401000000b00608de16a1e2sm669115ywf.4.2024.03.18.04.40.04
 (version=TLS1_2 cipher=ECDHE-ECDSA-AES128-GCM-SHA256 bits=128/128);
 Mon, 18 Mar 2024 04:40:04 -0700 (PDT)
X-Relaying-Domain: iol.unh.edu
Date: Mon, 18 Mar 2024 04:40:04 -0700 (PDT)
Message-ID: <65f82814.0d0a0220.f322e.e9a9SMTPIN_ADDED_MISSING@mx.google.com>
Received: from [172.17.0.7] (unknown [172.18.0.217])
 by postal.iol.unh.edu (Postfix) with ESMTP id 956266052471;
 Mon, 18 Mar 2024 07:40:04 -0400 (EDT)
Subject: |SUCCESS| pw138446-138444 [PATCH] [v3,6/6] argparse: fix doc don't d
From: dpdklab@iol.unh.edu
To: Test Report <test-report@dpdk.org>
Cc: dpdk-test-reports@iol.unh.edu
In-Reply-To: <20240318091848.14360-7-fengchengwen@huawei.com>
References: <20240318091848.14360-7-fengchengwen@huawei.com>
Content-Type: text/plain
X-BeenThere: test-report@dpdk.org
X-Mailman-Version: 2.1.29
Precedence: list
List-Id: automatic DPDK test reports <test-report.dpdk.org>
List-Unsubscribe: <https://mails.dpdk.org/options/test-report>,
 <mailto:test-report-request@dpdk.org?subject=unsubscribe>
List-Archive: <http://mails.dpdk.org/archives/test-report/>
List-Post: <mailto:test-report@dpdk.org>
List-Help: <mailto:test-report-request@dpdk.org?subject=help>
List-Subscribe: <https://mails.dpdk.org/listinfo/test-report>,
 <mailto:test-report-request@dpdk.org?subject=subscribe>
Errors-To: test-report-bounces@dpdk.org

Test-Label: iol-unit-arm64-testing
Test-Status: SUCCESS
http://dpdk.org/patch/138444

_Testing PASS_

Submitter: fengchengwen <fengchengwen@huawei.com>
Date: Monday, March 18 2024 09:18:48 
DPDK git baseline: Repo:dpdk
  Branch: master
  CommitID:80ecef6d1f71fcebc0a51d7cabc51f73ee142ff2

138446-138444 --> testing pass

Test environment and result as below:

+--------------------------+----------------+--------------+---------------------------+------------------------------+
|       Environment        | dpdk_unit_test | lpm_autotest | cryptodev_sw_zuc_autotest | cryptodev_sw_snow3g_autotest |
+==========================+================+==============+===========================+==============================+
| Debian 11 (Buster) (ARM) | PASS           | SKIPPED      | SKIPPED                   | SKIPPED                      |
+--------------------------+----------------+--------------+---------------------------+------------------------------+
| CentOS Stream 9 (ARM)    | PASS           | SKIPPED      | SKIPPED                   | SKIPPED                      |
+--------------------------+----------------+--------------+---------------------------+------------------------------+
| Debian 12 (arm)          | PASS           | SKIPPED      | PASS                      | PASS                         |
+--------------------------+----------------+--------------+---------------------------+------------------------------+
| Fedora 37 (ARM)          | PASS           | SKIPPED      | SKIPPED                   | SKIPPED                      |
+--------------------------+----------------+--------------+---------------------------+------------------------------+
| Fedora 38 (ARM)          | PASS           | SKIPPED      | SKIPPED                   | SKIPPED                      |
+--------------------------+----------------+--------------+---------------------------+------------------------------+
| Ubuntu 20.04 (ARM)       | PASS           | SKIPPED      | SKIPPED                   | SKIPPED                      |
+--------------------------+----------------+--------------+---------------------------+------------------------------+
| Ubuntu 20.04 ARM SVE     | SKIPPED        | PASS         | SKIPPED                   | SKIPPED                      |
+--------------------------+----------------+--------------+---------------------------+------------------------------+


Debian 11 (Buster) (ARM)
	Kernel: Container Host Kernel
	Compiler: gcc 10.2.1

CentOS Stream 9 (ARM)
	Kernel: Container Host Kernel
	Compiler: gcc 11.3.1

Debian 12 (arm)
	Kernel: Container Host Kernel
	Compiler: gcc 11

Fedora 37 (ARM)
	Kernel: Depends on container host
	Compiler: gcc 12.3.1

Fedora 38 (ARM)
	Kernel: Depends on container host
	Compiler: gcc 13.1.1

Ubuntu 20.04 (ARM)
	Kernel: Container Host Kernel
	Compiler: gcc 9.4.0

Ubuntu 20.04 ARM SVE
	Kernel: 5.4.0-80-generic
	Compiler: gcc 10.3.0 (Ubuntu 10.3.0-1ubuntu1~20.04)

To view detailed results, visit:
https://lab.dpdk.org/results/dashboard/patchsets/29580/

UNH-IOL DPDK Community Lab

To manage your email subscriptions, visit: 
https://lab.dpdk.org/results/dashboard/preferences/subscriptions/