From mboxrd@z Thu Jan  1 00:00:00 1970
Return-Path: <test-report-bounces@dpdk.org>
Received: from mails.dpdk.org (mails.dpdk.org [217.70.189.124])
	by inbox.dpdk.org (Postfix) with ESMTP id E725843CE4
	for <public@inbox.dpdk.org>; Mon, 18 Mar 2024 13:32:24 +0100 (CET)
Received: from mails.dpdk.org (localhost [127.0.0.1])
	by mails.dpdk.org (Postfix) with ESMTP id E33F940E5A;
	Mon, 18 Mar 2024 13:32:24 +0100 (CET)
Received: from mail-yw1-f225.google.com (mail-yw1-f225.google.com
 [209.85.128.225])
 by mails.dpdk.org (Postfix) with ESMTP id 43DE64003C
 for <test-report@dpdk.org>; Mon, 18 Mar 2024 13:32:07 +0100 (CET)
Received: by mail-yw1-f225.google.com with SMTP id
 00721157ae682-609f1f97864so46637237b3.0
 for <test-report@dpdk.org>; Mon, 18 Mar 2024 05:32:07 -0700 (PDT)
DKIM-Signature: v=1; a=rsa-sha256; c=relaxed/relaxed;
 d=iol.unh.edu; s=unh-iol; t=1710765126; x=1711369926; darn=dpdk.org;
 h=references:in-reply-to:cc:to:from:subject:message-id:date:from:to
 :cc:subject:date:message-id:reply-to;
 bh=wniehFT7sYvENQdMr8fCEqjHbTrujySgToL9YS2F1Zk=;
 b=GZ3ZhOKiqovb0wWinFkPCf9cpGB46i6xBSWUKPj2lCQSG5w9GcT+Ur5nkTR7E7vKfO
 xPap0ToHHeqPBH9O47wyIFJyZBZK3El7SN+7eJfAb8DBzP+PjSyaPaP6MzWj3M3WuZ3d
 X+dRmyytRIzatKOn7850VAsrsnNu0z/jWMezM=
X-Google-DKIM-Signature: v=1; a=rsa-sha256; c=relaxed/relaxed;
 d=1e100.net; s=20230601; t=1710765126; x=1711369926;
 h=references:in-reply-to:cc:to:from:subject:message-id:date
 :x-gm-message-state:from:to:cc:subject:date:message-id:reply-to;
 bh=wniehFT7sYvENQdMr8fCEqjHbTrujySgToL9YS2F1Zk=;
 b=QO/GjRjlajMm5rLFFQlNU30gGCY5OviDVvjZrgQGOGlXPuAuIXmz0UqVNF8WG0cy1B
 n60cZcYZAwrJbChFhwLiMQwPgKlC6z1m9g1vvlIt1ThAcAvK3cWih3oSn8vhlh7T3U+B
 DTlcRW8rpHVPkJutnw5VPpFNmUDZX9Gayj3usjweT6eHc1CWvxLndDFyuovmwL35iUQm
 Y30HDUO/EWVtQbrSXTXm5FJEo9Kfa4NdboBjoafZ/OWUiDxVVPMgCzXquYAOb5PrHchq
 axsDzUh0jWHtpRfK05/lF0jTrHcqfU509gj61i1Pz2/gQIUzgv813J8S4ivOBY7hEDBW
 LA1A==
X-Gm-Message-State: AOJu0YzvT1Rc/vrcr0UH6MuL40tV30aiaNhJPW7PL5Up71PCAfzA2IIo
 Tu+OakvlNQyNAi0iEa+4pg9kiuTKhJm0A1qbG5vPr/yDyBpOKprPNEGDHKMOfDq08ykxDBiUuv0
 ilY4u4VNY3/n4G5K4VkJsFt/DULMQU6mtX0jcik3vLBsfOQPGsJtcGcS3
X-Google-Smtp-Source: AGHT+IF051BinDIpRf1lRm4JSK6KoQIvVtcGbbHkBU5uTEkxltHZibUittQekrQ7iNdMXc9m1Zuoi2aoYrLV
X-Received: by 2002:a81:81c3:0:b0:610:ce53:e274 with SMTP id
 r186-20020a8181c3000000b00610ce53e274mr2419729ywf.14.1710765126746; 
 Mon, 18 Mar 2024 05:32:06 -0700 (PDT)
Received: from postal.iol.unh.edu (postal.iol.unh.edu.
 [2606:4100:3880:1234::84]) by smtp-relay.gmail.com with ESMTPS id
 v200-20020a8148d1000000b00610d8605f83sm40464ywa.11.2024.03.18.05.32.06
 (version=TLS1_2 cipher=ECDHE-ECDSA-AES128-GCM-SHA256 bits=128/128);
 Mon, 18 Mar 2024 05:32:06 -0700 (PDT)
X-Relaying-Domain: iol.unh.edu
Date: Mon, 18 Mar 2024 05:32:06 -0700 (PDT)
Message-ID: <65f83446.810a0220.8f11f.3768SMTPIN_ADDED_MISSING@mx.google.com>
Received: from [172.21.0.6] (unknown [172.18.0.240])
 by postal.iol.unh.edu (Postfix) with ESMTP id 673456052471;
 Mon, 18 Mar 2024 08:32:06 -0400 (EDT)
Subject: |SUCCESS| pw138449-138454 [PATCH] [v4,6/6] argparse: fix doc don't d
From: dpdklab@iol.unh.edu
To: Test Report <test-report@dpdk.org>
Cc: dpdk-test-reports@iol.unh.edu
In-Reply-To: <20240318111838.16991-7-fengchengwen@huawei.com>
References: <20240318111838.16991-7-fengchengwen@huawei.com>
Content-Type: text/plain
X-BeenThere: test-report@dpdk.org
X-Mailman-Version: 2.1.29
Precedence: list
List-Id: automatic DPDK test reports <test-report.dpdk.org>
List-Unsubscribe: <https://mails.dpdk.org/options/test-report>,
 <mailto:test-report-request@dpdk.org?subject=unsubscribe>
List-Archive: <http://mails.dpdk.org/archives/test-report/>
List-Post: <mailto:test-report@dpdk.org>
List-Help: <mailto:test-report-request@dpdk.org?subject=help>
List-Subscribe: <https://mails.dpdk.org/listinfo/test-report>,
 <mailto:test-report-request@dpdk.org?subject=subscribe>
Errors-To: test-report-bounces@dpdk.org

Test-Label: iol-abi-testing
Test-Status: SUCCESS
http://dpdk.org/patch/138454

_Testing PASS_

Submitter: fengchengwen <fengchengwen@huawei.com>
Date: Monday, March 18 2024 11:18:38 
DPDK git baseline: Repo:dpdk
  Branch: master
  CommitID:80ecef6d1f71fcebc0a51d7cabc51f73ee142ff2

138449-138454 --> testing pass

Test environment and result as below:

+------------------+----------+
|   Environment    | abi_test |
+==================+==========+
| Debian 12 (arm)  | PASS     |
+------------------+----------+
| Fedora 37        | PASS     |
+------------------+----------+
| Ubuntu 22.04     | PASS     |
+------------------+----------+
| CentOS Stream 8  | PASS     |
+------------------+----------+
| Fedora 38        | PASS     |
+------------------+----------+
| Debian Bullseye  | PASS     |
+------------------+----------+
| CentOS Stream 9  | PASS     |
+------------------+----------+
| openSUSE Leap 15 | PASS     |
+------------------+----------+
| RHEL8            | PASS     |
+------------------+----------+


Debian 12 (arm)
	Kernel: Container Host Kernel
	Compiler: gcc 11

Fedora 37
	Kernel: Depends on container host system
	Compiler: gcc 12.3.1

Ubuntu 22.04
	Kernel: 4.18.0-240.10.1.el8_3.x86_64
	Compiler: gcc 11.3.0

CentOS Stream 8
	Kernel: 4.18.0-240.10.1.el8_3.x86_64
	Compiler: gcc 8.4.1 20200928

Fedora 38
	Kernel: Depends on container host
	Compiler: gcc 13.1.1

Debian Bullseye
	Kernel: 5.4.0-122-generic
	Compiler: gcc 10.2.1-6

CentOS Stream 9
	Kernel: 4.18.0-240.10.1.el8_3.x86_64
	Compiler: gcc 11.3.1 20220421

openSUSE Leap 15
	Kernel: 4.18.0-240.10.1.el8_3.x86_64
	Compiler: gcc 7.5.0

RHEL8
	Kernel: 4.18.0-240.10.1.el8_3.x86_64
	Compiler: gcc 8.3.1 20191121 (Red Hat 8.3.1-5)

To view detailed results, visit:
https://lab.dpdk.org/results/dashboard/patchsets/29582/

UNH-IOL DPDK Community Lab

To manage your email subscriptions, visit: 
https://lab.dpdk.org/results/dashboard/preferences/subscriptions/