From mboxrd@z Thu Jan  1 00:00:00 1970
Return-Path: <test-report-bounces@dpdk.org>
Received: from mails.dpdk.org (mails.dpdk.org [217.70.189.124])
	by inbox.dpdk.org (Postfix) with ESMTP id C0DF443CE3
	for <public@inbox.dpdk.org>; Mon, 18 Mar 2024 13:33:56 +0100 (CET)
Received: from mails.dpdk.org (localhost [127.0.0.1])
	by mails.dpdk.org (Postfix) with ESMTP id BB3644027F;
	Mon, 18 Mar 2024 13:33:56 +0100 (CET)
Received: from mail-qt1-f227.google.com (mail-qt1-f227.google.com
 [209.85.160.227])
 by mails.dpdk.org (Postfix) with ESMTP id D33CB4003C
 for <test-report@dpdk.org>; Mon, 18 Mar 2024 13:33:13 +0100 (CET)
Received: by mail-qt1-f227.google.com with SMTP id
 d75a77b69052e-430ca04b09bso8249991cf.1
 for <test-report@dpdk.org>; Mon, 18 Mar 2024 05:33:13 -0700 (PDT)
DKIM-Signature: v=1; a=rsa-sha256; c=relaxed/relaxed;
 d=iol.unh.edu; s=unh-iol; t=1710765193; x=1711369993; darn=dpdk.org;
 h=references:in-reply-to:cc:to:from:subject:message-id:date:from:to
 :cc:subject:date:message-id:reply-to;
 bh=wniehFT7sYvENQdMr8fCEqjHbTrujySgToL9YS2F1Zk=;
 b=ZbXOI+815fFktONAV1+tJ5vgHDauoCB7MsqszFS0b6zfmlxySOqccM1a+0EXCLOplV
 LOEnHczU623FYlcHI2fNucUiwPxkMiBZ4wU6PNZ/Cmcs32o3bVtaz2MmOLwoL9HuQaos
 AfBw6FjKWdR6FuREo81W5mWJ62JkfTnrG2I4U=
X-Google-DKIM-Signature: v=1; a=rsa-sha256; c=relaxed/relaxed;
 d=1e100.net; s=20230601; t=1710765193; x=1711369993;
 h=references:in-reply-to:cc:to:from:subject:message-id:date
 :x-gm-message-state:from:to:cc:subject:date:message-id:reply-to;
 bh=wniehFT7sYvENQdMr8fCEqjHbTrujySgToL9YS2F1Zk=;
 b=LFoXUoZCxthJ8oCnFeln7BHHODvcP4U6l4yijYjJvrWMieave4CvtwZtaJIGSTHMWz
 D3A5GmueVuP4HN0117JZ54PhnFRVirc4suS91NQRnmO+tv+1dHQPVQk33fPtgg4ocyEj
 zUPhVWa5nWkOa5N1QSJ6CTOCtLeUB5q/lM91jjw3AwInw1G1/ADO87JDfCVfCJVEoJOC
 ebCr1suXnbHPkCg0WdpuJO1YnvE3zmETC15F+ux5gsdFXDCzFCg3hU5259RIAuH+QDPj
 JGcWHnqEvcip2O191B7IiumVM+5V5S0rBN0YwL3S9etkSAVgbcrPcywWpG1VjZEFu8a8
 8Pmg==
X-Gm-Message-State: AOJu0Yxjvzytxn1Jp2GT+kVod8sqyc2OgNOVpXJCfLZI8O/qgZxCo1ir
 JNqy2B88vSvLzfDYqv6ds8TGADR8XYFR62vxCgRNmNPYPH1vTxfNas3eaq0/eVHNyIsfScpApbx
 APZJApi9AHt08XD4W9ucM0eMG3722FPmjXGZsYPOo
X-Google-Smtp-Source: AGHT+IGwzdcqKngFjwzsL1IlqBcD3TizQZfadB4xqL/+pU2OpnGWb6mtXbP5YZolQBZ96wXkVat5Vpn1Lwe4
X-Received: by 2002:a05:622a:1214:b0:42e:b2c3:d77a with SMTP id
 y20-20020a05622a121400b0042eb2c3d77amr13388171qtx.46.1710765193318; 
 Mon, 18 Mar 2024 05:33:13 -0700 (PDT)
Received: from postal.iol.unh.edu (postal.iol.unh.edu. [132.177.123.84])
 by smtp-relay.gmail.com with ESMTPS id
 1-20020ac85901000000b004309ed911e6sm337129qty.22.2024.03.18.05.33.13
 (version=TLS1_2 cipher=ECDHE-ECDSA-AES128-GCM-SHA256 bits=128/128);
 Mon, 18 Mar 2024 05:33:13 -0700 (PDT)
X-Relaying-Domain: iol.unh.edu
Date: Mon, 18 Mar 2024 05:33:13 -0700 (PDT)
Message-ID: <65f83489.c80a0220.72f57.4dabSMTPIN_ADDED_MISSING@mx.google.com>
Received: from [172.17.0.7] (unknown [172.18.0.217])
 by postal.iol.unh.edu (Postfix) with ESMTP id 02DCA6052471;
 Mon, 18 Mar 2024 08:33:13 -0400 (EDT)
Subject: |SUCCESS| pw138449-138454 [PATCH] [v4,6/6] argparse: fix doc don't d
From: dpdklab@iol.unh.edu
To: Test Report <test-report@dpdk.org>
Cc: dpdk-test-reports@iol.unh.edu
In-Reply-To: <20240318111838.16991-7-fengchengwen@huawei.com>
References: <20240318111838.16991-7-fengchengwen@huawei.com>
Content-Type: text/plain
X-BeenThere: test-report@dpdk.org
X-Mailman-Version: 2.1.29
Precedence: list
List-Id: automatic DPDK test reports <test-report.dpdk.org>
List-Unsubscribe: <https://mails.dpdk.org/options/test-report>,
 <mailto:test-report-request@dpdk.org?subject=unsubscribe>
List-Archive: <http://mails.dpdk.org/archives/test-report/>
List-Post: <mailto:test-report@dpdk.org>
List-Help: <mailto:test-report-request@dpdk.org?subject=help>
List-Subscribe: <https://mails.dpdk.org/listinfo/test-report>,
 <mailto:test-report-request@dpdk.org?subject=subscribe>
Errors-To: test-report-bounces@dpdk.org

Test-Label: iol-abi-testing
Test-Status: SUCCESS
http://dpdk.org/patch/138454

_Testing PASS_

Submitter: fengchengwen <fengchengwen@huawei.com>
Date: Monday, March 18 2024 11:18:38 
DPDK git baseline: Repo:dpdk
  Branch: master
  CommitID:80ecef6d1f71fcebc0a51d7cabc51f73ee142ff2

138449-138454 --> testing pass

Test environment and result as below:

+------------------+----------+
|   Environment    | abi_test |
+==================+==========+
| Debian 12 (arm)  | PASS     |
+------------------+----------+
| Fedora 37        | PASS     |
+------------------+----------+
| Ubuntu 22.04     | PASS     |
+------------------+----------+
| CentOS Stream 8  | PASS     |
+------------------+----------+
| Fedora 38        | PASS     |
+------------------+----------+
| Debian Bullseye  | PASS     |
+------------------+----------+
| CentOS Stream 9  | PASS     |
+------------------+----------+
| openSUSE Leap 15 | PASS     |
+------------------+----------+
| RHEL8            | PASS     |
+------------------+----------+


Debian 12 (arm)
	Kernel: Container Host Kernel
	Compiler: gcc 11

Fedora 37
	Kernel: Depends on container host system
	Compiler: gcc 12.3.1

Ubuntu 22.04
	Kernel: 4.18.0-240.10.1.el8_3.x86_64
	Compiler: gcc 11.3.0

CentOS Stream 8
	Kernel: 4.18.0-240.10.1.el8_3.x86_64
	Compiler: gcc 8.4.1 20200928

Fedora 38
	Kernel: Depends on container host
	Compiler: gcc 13.1.1

Debian Bullseye
	Kernel: 5.4.0-122-generic
	Compiler: gcc 10.2.1-6

CentOS Stream 9
	Kernel: 4.18.0-240.10.1.el8_3.x86_64
	Compiler: gcc 11.3.1 20220421

openSUSE Leap 15
	Kernel: 4.18.0-240.10.1.el8_3.x86_64
	Compiler: gcc 7.5.0

RHEL8
	Kernel: 4.18.0-240.10.1.el8_3.x86_64
	Compiler: gcc 8.3.1 20191121 (Red Hat 8.3.1-5)

To view detailed results, visit:
https://lab.dpdk.org/results/dashboard/patchsets/29582/

UNH-IOL DPDK Community Lab

To manage your email subscriptions, visit: 
https://lab.dpdk.org/results/dashboard/preferences/subscriptions/