From mboxrd@z Thu Jan  1 00:00:00 1970
Return-Path: <test-report-bounces@dpdk.org>
Received: from mails.dpdk.org (mails.dpdk.org [217.70.189.124])
	by inbox.dpdk.org (Postfix) with ESMTP id 32A6943CE3
	for <public@inbox.dpdk.org>; Mon, 18 Mar 2024 13:33:57 +0100 (CET)
Received: from mails.dpdk.org (localhost [127.0.0.1])
	by mails.dpdk.org (Postfix) with ESMTP id 2E12B40F35;
	Mon, 18 Mar 2024 13:33:57 +0100 (CET)
Received: from mail-yw1-f228.google.com (mail-yw1-f228.google.com
 [209.85.128.228])
 by mails.dpdk.org (Postfix) with ESMTP id 78E5A4003C
 for <test-report@dpdk.org>; Mon, 18 Mar 2024 13:33:48 +0100 (CET)
Received: by mail-yw1-f228.google.com with SMTP id
 00721157ae682-609f060cbafso50238267b3.0
 for <test-report@dpdk.org>; Mon, 18 Mar 2024 05:33:48 -0700 (PDT)
DKIM-Signature: v=1; a=rsa-sha256; c=relaxed/relaxed;
 d=iol.unh.edu; s=unh-iol; t=1710765228; x=1711370028; darn=dpdk.org;
 h=references:in-reply-to:cc:to:from:subject:message-id:date:from:to
 :cc:subject:date:message-id:reply-to;
 bh=19hyGwalqn0HMTigopiETn0ECBRt28k057tJPM1o+r0=;
 b=W2tpvs0PcpVQkgYFtbGkNhF59qS5HkG5o0cqfaFOz4M7INORHqEMLe+ae7mmqyDYUl
 LcN34iHorbRoS+UiWy0Op2XrgUXhD4Q01Ldeuk5P0LvjOQ55oJy5k3XCI9UGiLglr0Gi
 AJ/t/7Sn92cReWUxR5JifC4d6rVnkH6/tlCY0=
X-Google-DKIM-Signature: v=1; a=rsa-sha256; c=relaxed/relaxed;
 d=1e100.net; s=20230601; t=1710765228; x=1711370028;
 h=references:in-reply-to:cc:to:from:subject:message-id:date
 :x-gm-message-state:from:to:cc:subject:date:message-id:reply-to;
 bh=19hyGwalqn0HMTigopiETn0ECBRt28k057tJPM1o+r0=;
 b=CkhskQrAo6kJGxghOFlW10VpffQpk/grzhWkhL3LLynTxV6l3es8QOcK23X9it0O1d
 ia04+UfCoXeK59kNbxwHaxqJuG0Kzto8UeQSWo44iIRZfCEICTunsnqvleKrOE6yTiFz
 WGGNrqO+TBjTH/Rf3D1jGAVvdfuCtATtd2yu1h5xBcpZZ+fLkyjMedpxMu5QI2zadNq9
 SN8IVFVzGm8y9/ByHagKiRJfBFrCSpeNrPWeVGGClNMJ7kPbM9xUNy0V1sGtm4qvbfXz
 aRLQEAab688uIPXVxn+iBquZXzYdnOfCw5ZWfPsJeWWGrU+uScletP4XL7D79Eo+OkYE
 vg7A==
X-Gm-Message-State: AOJu0YyAfZj+CV8pQ3rY+C9MWyrstI9H8ADPUkNSgqJyr2Him3yjEU76
 TCcon6JM3Cxrpegayq2soQkd4G5THkwEtNik8B/dV/xk8Gb5b9JvWFUQh7XRn89QOlfuzrPpFBL
 UfQkiO16eViGANbUSrTTJwl5U8dU2f5XH8VAD9y/0lzRQbNZTvsq/UMoc
X-Google-Smtp-Source: AGHT+IH3bq/09JoiCHYuQNQ5dOeXLdK5ydVnkK+U9rhPdJ7ESqS+NAoclwmxbYYnVVBJTSIk+hrPIx0wpQ+N
X-Received: by 2002:a81:a102:0:b0:60a:172e:3c6d with SMTP id
 y2-20020a81a102000000b0060a172e3c6dmr11636622ywg.23.1710765227906; 
 Mon, 18 Mar 2024 05:33:47 -0700 (PDT)
Received: from postal.iol.unh.edu (postal.iol.unh.edu.
 [2606:4100:3880:1234::84]) by smtp-relay.gmail.com with ESMTPS id
 c5-20020a814e05000000b00610dd18bc2esm7505ywb.64.2024.03.18.05.33.47
 (version=TLS1_2 cipher=ECDHE-ECDSA-AES128-GCM-SHA256 bits=128/128);
 Mon, 18 Mar 2024 05:33:47 -0700 (PDT)
X-Relaying-Domain: iol.unh.edu
Date: Mon, 18 Mar 2024 05:33:47 -0700 (PDT)
Message-ID: <65f834ab.810a0220.6652e.0a74SMTPIN_ADDED_MISSING@mx.google.com>
Received: from [172.17.0.7] (unknown [172.18.0.217])
 by postal.iol.unh.edu (Postfix) with ESMTP id 8D0BF6052471;
 Mon, 18 Mar 2024 08:33:47 -0400 (EDT)
Subject: |SUCCESS| pw138449-138454 [PATCH] [v4,6/6] argparse: fix doc don't d
From: dpdklab@iol.unh.edu
To: Test Report <test-report@dpdk.org>
Cc: dpdk-test-reports@iol.unh.edu
In-Reply-To: <20240318111838.16991-7-fengchengwen@huawei.com>
References: <20240318111838.16991-7-fengchengwen@huawei.com>
Content-Type: text/plain
X-BeenThere: test-report@dpdk.org
X-Mailman-Version: 2.1.29
Precedence: list
List-Id: automatic DPDK test reports <test-report.dpdk.org>
List-Unsubscribe: <https://mails.dpdk.org/options/test-report>,
 <mailto:test-report-request@dpdk.org?subject=unsubscribe>
List-Archive: <http://mails.dpdk.org/archives/test-report/>
List-Post: <mailto:test-report@dpdk.org>
List-Help: <mailto:test-report-request@dpdk.org?subject=help>
List-Subscribe: <https://mails.dpdk.org/listinfo/test-report>,
 <mailto:test-report-request@dpdk.org?subject=subscribe>
Errors-To: test-report-bounces@dpdk.org

Test-Label: iol-unit-amd64-testing
Test-Status: SUCCESS
http://dpdk.org/patch/138454

_Testing PASS_

Submitter: fengchengwen <fengchengwen@huawei.com>
Date: Monday, March 18 2024 11:18:38 
DPDK git baseline: Repo:dpdk
  Branch: master
  CommitID:80ecef6d1f71fcebc0a51d7cabc51f73ee142ff2

138449-138454 --> testing pass

Test environment and result as below:

+------------------+----------------+
|   Environment    | dpdk_unit_test |
+==================+================+
| CentOS Stream 8  | PASS           |
+------------------+----------------+
| Debian 12 (arm)  | PASS           |
+------------------+----------------+
| Debian Bullseye  | PASS           |
+------------------+----------------+
| Fedora 37        | PASS           |
+------------------+----------------+
| openSUSE Leap 15 | PASS           |
+------------------+----------------+
| CentOS Stream 9  | PASS           |
+------------------+----------------+
| Ubuntu 20.04     | PASS           |
+------------------+----------------+
| Fedora 38        | PASS           |
+------------------+----------------+
| Ubuntu 22.04     | PASS           |
+------------------+----------------+
| RHEL8            | PASS           |
+------------------+----------------+


CentOS Stream 8
	Kernel: 4.18.0-240.10.1.el8_3.x86_64
	Compiler: gcc 8.4.1 20200928

Debian 12 (arm)
	Kernel: Container Host Kernel
	Compiler: gcc 11

Debian Bullseye
	Kernel: 5.4.0-122-generic
	Compiler: gcc 10.2.1-6

Fedora 37
	Kernel: Depends on container host system
	Compiler: gcc 12.3.1

openSUSE Leap 15
	Kernel: 4.18.0-240.10.1.el8_3.x86_64
	Compiler: gcc 7.5.0

CentOS Stream 9
	Kernel: 4.18.0-240.10.1.el8_3.x86_64
	Compiler: gcc 11.3.1 20220421

Ubuntu 20.04
	Kernel: 5.4.0-153-generic
	Compiler: gcc 9.4.0-1ubuntu1~20.04.1

Fedora 38
	Kernel: Depends on container host
	Compiler: clang 16.0.3

Ubuntu 22.04
	Kernel: 4.18.0-240.10.1.el8_3.x86_64
	Compiler: gcc 11.3.0

RHEL8
	Kernel: 4.18.0-240.10.1.el8_3.x86_64
	Compiler: gcc 8.3.1 20191121 (Red Hat 8.3.1-5)

To view detailed results, visit:
https://lab.dpdk.org/results/dashboard/patchsets/29582/

UNH-IOL DPDK Community Lab

To manage your email subscriptions, visit: 
https://lab.dpdk.org/results/dashboard/preferences/subscriptions/