From mboxrd@z Thu Jan  1 00:00:00 1970
Return-Path: <test-report-bounces@dpdk.org>
Received: from mails.dpdk.org (mails.dpdk.org [217.70.189.124])
	by inbox.dpdk.org (Postfix) with ESMTP id D3EE643CE3
	for <public@inbox.dpdk.org>; Mon, 18 Mar 2024 13:37:47 +0100 (CET)
Received: from mails.dpdk.org (localhost [127.0.0.1])
	by mails.dpdk.org (Postfix) with ESMTP id B84704027F;
	Mon, 18 Mar 2024 13:37:47 +0100 (CET)
Received: from mail-yw1-f226.google.com (mail-yw1-f226.google.com
 [209.85.128.226])
 by mails.dpdk.org (Postfix) with ESMTP id 722794003C
 for <test-report@dpdk.org>; Mon, 18 Mar 2024 13:37:46 +0100 (CET)
Received: by mail-yw1-f226.google.com with SMTP id
 00721157ae682-60cbcd04de8so28880787b3.0
 for <test-report@dpdk.org>; Mon, 18 Mar 2024 05:37:46 -0700 (PDT)
DKIM-Signature: v=1; a=rsa-sha256; c=relaxed/relaxed;
 d=iol.unh.edu; s=unh-iol; t=1710765466; x=1711370266; darn=dpdk.org;
 h=references:in-reply-to:cc:to:from:subject:message-id:date:from:to
 :cc:subject:date:message-id:reply-to;
 bh=1pvsh+KQezjTaXGnAOyQ9OZkiD12rlgbvahPDJb726s=;
 b=HmeT8A5Zft9uMxz4/bniXmZvKrUZaQSwfZ2jYyoIhCu0kzNl/T2NFS1kfZolL6JPU9
 FNu6KK5XEK4O3gYkgCwsrCp/EyrZTCilNaCUkdkdiDYUPCw8DjmXazkGfflp+iAucd/X
 jp8/Xt4StTVwIWkXkIzPFH2rakomg3hB3ihEA=
X-Google-DKIM-Signature: v=1; a=rsa-sha256; c=relaxed/relaxed;
 d=1e100.net; s=20230601; t=1710765466; x=1711370266;
 h=references:in-reply-to:cc:to:from:subject:message-id:date
 :x-gm-message-state:from:to:cc:subject:date:message-id:reply-to;
 bh=1pvsh+KQezjTaXGnAOyQ9OZkiD12rlgbvahPDJb726s=;
 b=dUdOj8nvT7ZKarBTQ3u0M4NAXDyNdeEF6S8yrlTF+cxo/Tf7tEzboxwQjtydSUipxm
 vE/p+B0UWVr9d90M2YUyHnCYpEOzSKdx2sOMgB2ElkFnIBp6D6hRRRIy9mGPjzhpz/rz
 DlxHIG7B1Zv9PVo/KZBjx7PqExiyqiOX2mPX/B+5qTVOY2O3CjSRQRa7Cs6cqXM1iLEQ
 thpyeMiNpt6we0o2qnYfqRYCMAsD00MBYVcYbuxjZNGB6u4vOFWnZcTvYGSbNB8FXKVs
 B5sb5sZEu561O8hkaTekFSGwePxfQCnk8NiEx0sBC1o+yiT4f9EMEvYeVAnyUtjvRaXb
 8csQ==
X-Gm-Message-State: AOJu0YyLlGR67jYibmaEHmp+Y2cKPA2Q3lARSsrVzAh2w9LzYD81Q1xu
 P+xOINPQQpyYyH2UeQQf+TZJJs3WNas+8y2EpWVGgeeES+C6IiIp+UYYYWci18rt0nRkfPB54xw
 ClRw0OaJZWfXNtry4wZU8psgUSmxrA44eq2V03N8knIGQ2ZMT7kZCIizV
X-Google-Smtp-Source: AGHT+IF975kYoC/e/eWE7xmH1uJlv0wpkB09GHJVYmts8vlX7U8yRwpMPOLRd688nqrqIP5cYdsAN8qAwaGk
X-Received: by 2002:a0d:ff02:0:b0:610:c644:4b78 with SMTP id
 p2-20020a0dff02000000b00610c6444b78mr1807927ywf.16.1710765465834; 
 Mon, 18 Mar 2024 05:37:45 -0700 (PDT)
Received: from postal.iol.unh.edu (postal.iol.unh.edu.
 [2606:4100:3880:1234::84]) by smtp-relay.gmail.com with ESMTPS id
 y187-20020a81a1c4000000b0060a61ba5729sm686710ywg.45.2024.03.18.05.37.45
 (version=TLS1_2 cipher=ECDHE-ECDSA-AES128-GCM-SHA256 bits=128/128);
 Mon, 18 Mar 2024 05:37:45 -0700 (PDT)
X-Relaying-Domain: iol.unh.edu
Date: Mon, 18 Mar 2024 05:37:45 -0700 (PDT)
Message-ID: <65f83599.810a0220.7ec65.1842SMTPIN_ADDED_MISSING@mx.google.com>
Received: from [172.17.0.7] (unknown [172.18.0.217])
 by postal.iol.unh.edu (Postfix) with ESMTP id 75B046052471;
 Mon, 18 Mar 2024 08:37:45 -0400 (EDT)
Subject: |SUCCESS| pw138449-138454 [PATCH] [v4,6/6] argparse: fix doc don't d
From: dpdklab@iol.unh.edu
To: Test Report <test-report@dpdk.org>
Cc: dpdk-test-reports@iol.unh.edu
In-Reply-To: <20240318111838.16991-7-fengchengwen@huawei.com>
References: <20240318111838.16991-7-fengchengwen@huawei.com>
Content-Type: text/plain
X-BeenThere: test-report@dpdk.org
X-Mailman-Version: 2.1.29
Precedence: list
List-Id: automatic DPDK test reports <test-report.dpdk.org>
List-Unsubscribe: <https://mails.dpdk.org/options/test-report>,
 <mailto:test-report-request@dpdk.org?subject=unsubscribe>
List-Archive: <http://mails.dpdk.org/archives/test-report/>
List-Post: <mailto:test-report@dpdk.org>
List-Help: <mailto:test-report-request@dpdk.org?subject=help>
List-Subscribe: <https://mails.dpdk.org/listinfo/test-report>,
 <mailto:test-report-request@dpdk.org?subject=subscribe>
Errors-To: test-report-bounces@dpdk.org

Test-Label: iol-compile-amd64-testing
Test-Status: SUCCESS
http://dpdk.org/patch/138454

_Testing PASS_

Submitter: fengchengwen <fengchengwen@huawei.com>
Date: Monday, March 18 2024 11:18:38 
DPDK git baseline: Repo:dpdk
  Branch: master
  CommitID:80ecef6d1f71fcebc0a51d7cabc51f73ee142ff2

138449-138454 --> testing pass

Test environment and result as below:

+---------------------+--------------------+----------------------+
|     Environment     | dpdk_meson_compile | dpdk_mingw64_compile |
+=====================+====================+======================+
| Windows Server 2022 | PASS               | PASS                 |
+---------------------+--------------------+----------------------+
| CentOS Stream 8     | PASS               | SKIPPED              |
+---------------------+--------------------+----------------------+
| Debian 12 (arm)     | PASS               | SKIPPED              |
+---------------------+--------------------+----------------------+
| CentOS Stream 9     | PASS               | SKIPPED              |
+---------------------+--------------------+----------------------+
| FreeBSD 13.2        | PASS               | SKIPPED              |
+---------------------+--------------------+----------------------+
| Fedora 38           | PASS               | SKIPPED              |
+---------------------+--------------------+----------------------+
| Windows Server 2019 | PASS               | PASS                 |
+---------------------+--------------------+----------------------+
| Debian Bullseye     | PASS               | SKIPPED              |
+---------------------+--------------------+----------------------+
| Ubuntu 22.04        | PASS               | SKIPPED              |
+---------------------+--------------------+----------------------+
| RHEL8               | PASS               | SKIPPED              |
+---------------------+--------------------+----------------------+
| Ubuntu 20.04        | PASS               | SKIPPED              |
+---------------------+--------------------+----------------------+
| openSUSE Leap 15    | PASS               | SKIPPED              |
+---------------------+--------------------+----------------------+
| Fedora 37           | PASS               | SKIPPED              |
+---------------------+--------------------+----------------------+
| Alpine              | PASS               | SKIPPED              |
+---------------------+--------------------+----------------------+


Windows Server 2022
	Kernel: OS Build 20348.2031
	Compiler: clang 15.0.7, gcc 8.1.0 (MinGW), and MSVC VS 17.9

CentOS Stream 8
	Kernel: 4.18.0-240.10.1.el8_3.x86_64
	Compiler: gcc 8.4.1 20200928

Debian 12 (arm)
	Kernel: Container Host Kernel
	Compiler: gcc 11

CentOS Stream 9
	Kernel: 4.18.0-240.10.1.el8_3.x86_64
	Compiler: gcc 11.3.1 20220421

FreeBSD 13.2
	Kernel: 13.2
	Compiler: clang 11.3.0

Fedora 38
	Kernel: Depends on container host
	Compiler: gcc 13.1.1

Windows Server 2019
	Kernel: 10.0
	Compiler: clang 14.0 and gcc 8.1.0 (MinGW)

Debian Bullseye
	Kernel: 5.4.0-122-generic
	Compiler: gcc 10.2.1-6

Ubuntu 22.04
	Kernel: 4.18.0-240.10.1.el8_3.x86_64
	Compiler: gcc 11.3.0

RHEL8
	Kernel: 4.18.0-240.10.1.el8_3.x86_64
	Compiler: gcc 8.3.1 20191121 (Red Hat 8.3.1-5)

Ubuntu 20.04
	Kernel: 5.4.0-153-generic
	Compiler: gcc 9.4.0-1ubuntu1~20.04.1

openSUSE Leap 15
	Kernel: 4.18.0-240.10.1.el8_3.x86_64
	Compiler: gcc 7.5.0

Fedora 37
	Kernel: Depends on container host system
	Compiler: gcc 12.3.1

Alpine
	Kernel: 5.4.0-167-generic
	Compiler: gcc (Alpine 12.2.1_git20220924-r10) 12.2.1 20220924

To view detailed results, visit:
https://lab.dpdk.org/results/dashboard/patchsets/29582/

UNH-IOL DPDK Community Lab

To manage your email subscriptions, visit: 
https://lab.dpdk.org/results/dashboard/preferences/subscriptions/