From mboxrd@z Thu Jan  1 00:00:00 1970
Return-Path: <test-report-bounces@dpdk.org>
Received: from mails.dpdk.org (mails.dpdk.org [217.70.189.124])
	by inbox.dpdk.org (Postfix) with ESMTP id 6502843CE6
	for <public@inbox.dpdk.org>; Mon, 18 Mar 2024 14:36:39 +0100 (CET)
Received: from mails.dpdk.org (localhost [127.0.0.1])
	by mails.dpdk.org (Postfix) with ESMTP id A50BC4027F;
	Mon, 18 Mar 2024 14:36:37 +0100 (CET)
Received: from mail-yw1-f227.google.com (mail-yw1-f227.google.com
 [209.85.128.227])
 by mails.dpdk.org (Postfix) with ESMTP id 8A9AD4003C
 for <test-report@dpdk.org>; Mon, 18 Mar 2024 14:36:36 +0100 (CET)
Received: by mail-yw1-f227.google.com with SMTP id
 00721157ae682-6098a20ab22so39206127b3.2
 for <test-report@dpdk.org>; Mon, 18 Mar 2024 06:36:36 -0700 (PDT)
DKIM-Signature: v=1; a=rsa-sha256; c=relaxed/relaxed;
 d=iol.unh.edu; s=unh-iol; t=1710768996; x=1711373796; darn=dpdk.org;
 h=references:in-reply-to:cc:to:from:subject:message-id:date:from:to
 :cc:subject:date:message-id:reply-to;
 bh=Of+p1zxdA2KlZRT+Yp0dn5bZbeI07W29OzCgWB3w27U=;
 b=Fn3fa1i9r6OYE9ykW/kmmPsNnwQ1DZagbPlkOxG4StuuHQ3cguYpjIEpyJJ8GfoGdI
 o4PNPs1ZYhaB/x16FixME+SAoUt80kBtQhybfC19pMliU2xAXNQZVAf4aeZwsWxSsnX9
 m/sPAvJTLRBw5bcpSNlra9mCFLRKidJ9wh5Ck=
X-Google-DKIM-Signature: v=1; a=rsa-sha256; c=relaxed/relaxed;
 d=1e100.net; s=20230601; t=1710768996; x=1711373796;
 h=references:in-reply-to:cc:to:from:subject:message-id:date
 :x-gm-message-state:from:to:cc:subject:date:message-id:reply-to;
 bh=Of+p1zxdA2KlZRT+Yp0dn5bZbeI07W29OzCgWB3w27U=;
 b=ih0iYpa2vnaC+tTEQWPUdSVpTvZcAlFEdcj44YaX1OrtFyb99giHHiDqwjNtbXiL2S
 lHpySiAp8cADhdD6rSaZ/OyhDR11WnVaeet1qUsSijttHR/XGdsyrwVmJqG0WnURTpf3
 eSZXT4mF8LQjDX5Lwyq5c2gs/jDiun+2TsUQfC455X7f6NrGMIatqm+rkJlbcXdjgohs
 Zg9UZEkjdawHHW6YCIKum+yg2jSJ+5wfmysN9J7303Fow3hITEsW8VktRDLnd6DIXYLO
 fK86C9Y3BlF8zbB0e2IjZb/XuR5XkR7BuK3vOxbuPq27Gx2K3H3eP+KiIEOvqTHBRJoJ
 YIjw==
X-Gm-Message-State: AOJu0YzgpOFwHEwr1FSWgEriD+rpfbcUnAM4AEw32LGPxd4sKywqzXrb
 oEZewyigpHiX5zmw0hkJV2iCaBufUh9WFdn2/50vfPGx+IT9LxrZJ+tr619XZRqJ9KlR0fdeLZz
 evvrbkhEA35Y4KyGc/iAGPvtbM34xYkzf4cLWzW8ujxu6J3X2fvKVWsE6
X-Google-Smtp-Source: AGHT+IExOpxXuLHNURBM6pE+9ZTj8FK12avxSD0I7RAb5DPq8QgCJNqJ8fYE884HyoGo5SblrriQOm64QTVQ
X-Received: by 2002:a81:6986:0:b0:609:7354:6b11 with SMTP id
 e128-20020a816986000000b0060973546b11mr11858245ywc.52.1710768995935; 
 Mon, 18 Mar 2024 06:36:35 -0700 (PDT)
Received: from postal.iol.unh.edu (postal.iol.unh.edu.
 [2606:4100:3880:1234::84]) by smtp-relay.gmail.com with ESMTPS id
 i205-20020a8191d6000000b00610be9cf98fsm256145ywg.0.2024.03.18.06.36.35
 (version=TLS1_2 cipher=ECDHE-ECDSA-AES128-GCM-SHA256 bits=128/128);
 Mon, 18 Mar 2024 06:36:35 -0700 (PDT)
X-Relaying-Domain: iol.unh.edu
Date: Mon, 18 Mar 2024 06:36:35 -0700 (PDT)
Message-ID: <65f84363.810a0220.68ef3.2e82SMTPIN_ADDED_MISSING@mx.google.com>
Received: from [172.17.0.6] (unknown [172.18.0.217])
 by postal.iol.unh.edu (Postfix) with ESMTP id 8D7566052471;
 Mon, 18 Mar 2024 09:36:35 -0400 (EDT)
Subject: |SUCCESS| pw138449-138454 [PATCH] [v4,6/6] argparse: fix doc don't d
From: dpdklab@iol.unh.edu
To: Test Report <test-report@dpdk.org>
Cc: dpdk-test-reports@iol.unh.edu
In-Reply-To: <20240318111838.16991-7-fengchengwen@huawei.com>
References: <20240318111838.16991-7-fengchengwen@huawei.com>
Content-Type: text/plain
X-BeenThere: test-report@dpdk.org
X-Mailman-Version: 2.1.29
Precedence: list
List-Id: automatic DPDK test reports <test-report.dpdk.org>
List-Unsubscribe: <https://mails.dpdk.org/options/test-report>,
 <mailto:test-report-request@dpdk.org?subject=unsubscribe>
List-Archive: <http://mails.dpdk.org/archives/test-report/>
List-Post: <mailto:test-report@dpdk.org>
List-Help: <mailto:test-report-request@dpdk.org?subject=help>
List-Subscribe: <https://mails.dpdk.org/listinfo/test-report>,
 <mailto:test-report-request@dpdk.org?subject=subscribe>
Errors-To: test-report-bounces@dpdk.org

Test-Label: iol-compile-arm64-testing
Test-Status: SUCCESS
http://dpdk.org/patch/138454

_Testing PASS_

Submitter: fengchengwen <fengchengwen@huawei.com>
Date: Monday, March 18 2024 11:18:38 
DPDK git baseline: Repo:dpdk
  Branch: master
  CommitID:80ecef6d1f71fcebc0a51d7cabc51f73ee142ff2

138449-138454 --> testing pass

Test environment and result as below:

+----------------------------------------+--------------------+
|              Environment               | dpdk_meson_compile |
+========================================+====================+
| Ubuntu 20.04 ARM SVE                   | PASS               |
+----------------------------------------+--------------------+
| Debian 12 with MUSDK                   | PASS               |
+----------------------------------------+--------------------+
| Fedora 38 (ARM)                        | PASS               |
+----------------------------------------+--------------------+
| Debian 11 (Buster) (ARM)               | PASS               |
+----------------------------------------+--------------------+
| Fedora 37 (ARM)                        | PASS               |
+----------------------------------------+--------------------+
| CentOS Stream 9 (ARM)                  | PASS               |
+----------------------------------------+--------------------+
| Ubuntu 20.04 aarch32 GCC Cross Compile | PASS               |
+----------------------------------------+--------------------+
| Ubuntu 20.04 (ARM)                     | PASS               |
+----------------------------------------+--------------------+
| Ubuntu 20.04 ARM GCC Cross Compile     | PASS               |
+----------------------------------------+--------------------+
| Ubuntu 20.04 ARM Clang Cross Compile   | PASS               |
+----------------------------------------+--------------------+
| Debian 12 (arm)                        | PASS               |
+----------------------------------------+--------------------+
| Fedora 38 (ARM Clang)                  | PASS               |
+----------------------------------------+--------------------+


Ubuntu 20.04 ARM SVE
	Kernel: 5.4.0-80-generic
	Compiler: gcc 10.3.0 (Ubuntu 10.3.0-1ubuntu1~20.04)

Debian 12 with MUSDK
	Kernel: Container Host Kernel
	Compiler: gcc 12

Fedora 38 (ARM)
	Kernel: Depends on container host
	Compiler: gcc 13.1.1

Debian 11 (Buster) (ARM)
	Kernel: Container Host Kernel
	Compiler: gcc 10.2.1

Fedora 37 (ARM)
	Kernel: Depends on container host
	Compiler: gcc 12.3.1

CentOS Stream 9 (ARM)
	Kernel: Container Host Kernel
	Compiler: gcc 11.3.1

Ubuntu 20.04 aarch32 GCC Cross Compile
	Kernel: 5.4.0-72-generic
	Compiler: gcc 9.3.0

Ubuntu 20.04 (ARM)
	Kernel: Container Host Kernel
	Compiler: gcc 9.4.0

Ubuntu 20.04 ARM GCC Cross Compile
	Kernel: 5.4.0-72-generic
	Compiler: aarch64-linux-gnu-gcc (Ubuntu 9.3.0-17ubuntu1~20.04) 9.3.0

Ubuntu 20.04 ARM Clang Cross Compile
	Kernel: 5.4.0-72-generic
	Compiler: clang version 10.0.0-4ubuntu1

Debian 12 (arm)
	Kernel: Container Host Kernel
	Compiler: gcc 11

Fedora 38 (ARM Clang)
	Kernel: Depends on container host
	Compiler: clang 16.0.3

To view detailed results, visit:
https://lab.dpdk.org/results/dashboard/patchsets/29582/

UNH-IOL DPDK Community Lab

To manage your email subscriptions, visit: 
https://lab.dpdk.org/results/dashboard/preferences/subscriptions/