From mboxrd@z Thu Jan  1 00:00:00 1970
Return-Path: <test-report-bounces@dpdk.org>
Received: from mails.dpdk.org (mails.dpdk.org [217.70.189.124])
	by inbox.dpdk.org (Postfix) with ESMTP id 6D31743CE8
	for <public@inbox.dpdk.org>; Mon, 18 Mar 2024 18:52:43 +0100 (CET)
Received: from mails.dpdk.org (localhost [127.0.0.1])
	by mails.dpdk.org (Postfix) with ESMTP id 690DB40289;
	Mon, 18 Mar 2024 18:52:43 +0100 (CET)
Received: from mail-il1-f226.google.com (mail-il1-f226.google.com
 [209.85.166.226])
 by mails.dpdk.org (Postfix) with ESMTP id F22444027F
 for <test-report@dpdk.org>; Mon, 18 Mar 2024 18:52:33 +0100 (CET)
Received: by mail-il1-f226.google.com with SMTP id
 e9e14a558f8ab-36847cd960fso577235ab.2
 for <test-report@dpdk.org>; Mon, 18 Mar 2024 10:52:33 -0700 (PDT)
DKIM-Signature: v=1; a=rsa-sha256; c=relaxed/relaxed;
 d=iol.unh.edu; s=unh-iol; t=1710784353; x=1711389153; darn=dpdk.org;
 h=references:in-reply-to:cc:to:from:subject:message-id:date:from:to
 :cc:subject:date:message-id:reply-to;
 bh=rfBErQBVg123aQkItECIt/G+pJ6wmhb+NGOI+F590G4=;
 b=ZTTkc6mSXTCSkDnSKFMkVEQuVzCjsN/wwZxA4/A085HluvDLSDVQ1uVSoyGQQktd0r
 2ePiJh0wHsBg9RsIpnn+xu8XX8vqrpPE6uSyrVS3yUAJWwZypv4gEqbmeuwsQg6a8R8d
 hrVVQhP6uDr2Z/vXKqEY2RIQ0Wj3wnhKX5tM0=
X-Google-DKIM-Signature: v=1; a=rsa-sha256; c=relaxed/relaxed;
 d=1e100.net; s=20230601; t=1710784353; x=1711389153;
 h=references:in-reply-to:cc:to:from:subject:message-id:date
 :x-gm-message-state:from:to:cc:subject:date:message-id:reply-to;
 bh=rfBErQBVg123aQkItECIt/G+pJ6wmhb+NGOI+F590G4=;
 b=kuDLpxOWqNYn/sI07MFb/kvVFTMOa8twzPDj4un3V2q4XpDwMxNpjXo1g4WQoMqGJq
 kRJnnLiQpMNBCxhwf4w9aJVlS/gcDLp0moShaqcVn/ouEaU1hDLCwRrL0IsrfomqkCrG
 ZPVdei1jX/BzugKMZkaPTYb6IY2Sh4wTzfUpPWIdjcB+mAlgU8SYXpSrLL8fW2Qw1OnR
 vcU4NdqWka5dJhplq0ejsFM4ZcpEHauTYXjwlDUQPqQj2M6fOS7sWGObhnpD6gmQT5wG
 TgVKKViI/yrHuhfN/cz2D/1l+fIlDAk+6IXL64j/KJ+G08BjDN65zdvvqWpN47txRnNy
 CGpg==
X-Gm-Message-State: AOJu0YzV6Ej3K6By1UJSjqkl3ohsD6BeS2S5LWA75FDwFnn18Rn6OBfV
 Hhp4NHdnMpKK9d6eByEEy0dYdInGa3b/eLXLYjobQSo0gUzSgPYZepeSBlPSvGASbtn3DhuLZZ+
 70/UxpmjQ8GWgp+7aVr8xZnRoubjL26Z/TZ7ZYDTt
X-Google-Smtp-Source: AGHT+IFeGIZQAOGrM6BuAGIPI4oz/+0TJ07t+QaLPPCXwVostvw8+oLUQYXezTsK+fXXMlUdXGdLu1IumQcQ
X-Received: by 2002:a05:6e02:b2f:b0:366:97f0:3dae with SMTP id
 e15-20020a056e020b2f00b0036697f03daemr204992ilu.4.1710784353380; 
 Mon, 18 Mar 2024 10:52:33 -0700 (PDT)
Received: from postal.iol.unh.edu (postal.iol.unh.edu. [132.177.123.84])
 by smtp-relay.gmail.com with ESMTPS id
 e6-20020a056e020b2600b0036666077d90sm562928ilu.2.2024.03.18.10.52.33
 (version=TLS1_2 cipher=ECDHE-ECDSA-AES128-GCM-SHA256 bits=128/128);
 Mon, 18 Mar 2024 10:52:33 -0700 (PDT)
X-Relaying-Domain: iol.unh.edu
Date: Mon, 18 Mar 2024 10:52:33 -0700 (PDT)
Message-ID: <65f87f61.050a0220.2ac41.82f4SMTPIN_ADDED_MISSING@mx.google.com>
Received: from [172.21.0.7] (unknown [172.18.0.240])
 by postal.iol.unh.edu (Postfix) with ESMTP id DDB1B6052471;
 Mon, 18 Mar 2024 13:52:32 -0400 (EDT)
Subject: |SUCCESS| pw138455-138457 [PATCH] [v2,3/3] dts: store stderr in Remo
From: dpdklab@iol.unh.edu
To: Test Report <test-report@dpdk.org>
Cc: dpdk-test-reports@iol.unh.edu
In-Reply-To: <20240318171704.798634-4-luca.vizzarro@arm.com>
References: <20240318171704.798634-4-luca.vizzarro@arm.com>
Content-Type: text/plain
X-BeenThere: test-report@dpdk.org
X-Mailman-Version: 2.1.29
Precedence: list
List-Id: automatic DPDK test reports <test-report.dpdk.org>
List-Unsubscribe: <https://mails.dpdk.org/options/test-report>,
 <mailto:test-report-request@dpdk.org?subject=unsubscribe>
List-Archive: <http://mails.dpdk.org/archives/test-report/>
List-Post: <mailto:test-report@dpdk.org>
List-Help: <mailto:test-report-request@dpdk.org?subject=help>
List-Subscribe: <https://mails.dpdk.org/listinfo/test-report>,
 <mailto:test-report-request@dpdk.org?subject=subscribe>
Errors-To: test-report-bounces@dpdk.org

Test-Label: iol-compile-amd64-testing
Test-Status: SUCCESS
http://dpdk.org/patch/138457

_Testing PASS_

Submitter: Luca Vizzarro <luca.vizzarro@arm.com>
Date: Monday, March 18 2024 17:17:04 
DPDK git baseline: Repo:dpdk
  Branch: master
  CommitID:80ecef6d1f71fcebc0a51d7cabc51f73ee142ff2

138455-138457 --> testing pass

Test environment and result as below:

+-----------------+--------------------+
|   Environment   | dpdk_meson_compile |
+=================+====================+
| FreeBSD 13.2    | PASS               |
+-----------------+--------------------+
| Debian 12 (arm) | PASS               |
+-----------------+--------------------+
| CentOS Stream 8 | PASS               |
+-----------------+--------------------+


FreeBSD 13.2
	Kernel: 13.2
	Compiler: clang 11.3.0

Debian 12 (arm)
	Kernel: Container Host Kernel
	Compiler: gcc 11

CentOS Stream 8
	Kernel: 4.18.0-240.10.1.el8_3.x86_64
	Compiler: gcc 8.4.1 20200928

To view detailed results, visit:
https://lab.dpdk.org/results/dashboard/patchsets/29583/

UNH-IOL DPDK Community Lab

To manage your email subscriptions, visit: 
https://lab.dpdk.org/results/dashboard/preferences/subscriptions/