From mboxrd@z Thu Jan  1 00:00:00 1970
Return-Path: <test-report-bounces@dpdk.org>
Received: from mails.dpdk.org (mails.dpdk.org [217.70.189.124])
	by inbox.dpdk.org (Postfix) with ESMTP id 8ABFC43CE8
	for <public@inbox.dpdk.org>; Mon, 18 Mar 2024 19:05:00 +0100 (CET)
Received: from mails.dpdk.org (localhost [127.0.0.1])
	by mails.dpdk.org (Postfix) with ESMTP id 83FBB40289;
	Mon, 18 Mar 2024 19:05:00 +0100 (CET)
Received: from mail-yw1-f227.google.com (mail-yw1-f227.google.com
 [209.85.128.227])
 by mails.dpdk.org (Postfix) with ESMTP id 5512B4027F
 for <test-report@dpdk.org>; Mon, 18 Mar 2024 19:04:55 +0100 (CET)
Received: by mail-yw1-f227.google.com with SMTP id
 00721157ae682-609f4d8551eso58292407b3.1
 for <test-report@dpdk.org>; Mon, 18 Mar 2024 11:04:55 -0700 (PDT)
DKIM-Signature: v=1; a=rsa-sha256; c=relaxed/relaxed;
 d=iol.unh.edu; s=unh-iol; t=1710785095; x=1711389895; darn=dpdk.org;
 h=references:in-reply-to:cc:to:from:subject:message-id:date:from:to
 :cc:subject:date:message-id:reply-to;
 bh=vUdGDQw3atHXHiP74mks7E2Mv+T4JT/+3NLsYZwCwzM=;
 b=hGbpPALtF1Dm1JMaAmTkOQNdbEkzXsw1p2U5ZoVy8XOLwSgCcHByY00bsRodvXvNYB
 7xAjzmd0MmVFKoEzvZ2n5FcLtZMq59Biwx2qNzTC8oe0KyUowQREf+ub+P+06NwWN/+B
 HvUeioeNe5zkCZjckKukGdZgCqwHDcs7KCpXE=
X-Google-DKIM-Signature: v=1; a=rsa-sha256; c=relaxed/relaxed;
 d=1e100.net; s=20230601; t=1710785095; x=1711389895;
 h=references:in-reply-to:cc:to:from:subject:message-id:date
 :x-gm-message-state:from:to:cc:subject:date:message-id:reply-to;
 bh=vUdGDQw3atHXHiP74mks7E2Mv+T4JT/+3NLsYZwCwzM=;
 b=B9kE7Pnz1z/Ag5j+s6tCe8RemeBSJjpknqBdVrq9sJFo2kfewcca+QuyYRNmXaeh96
 +VjubDmVdI3zYmEkMLRyPX4K5PMA1r3xcRS11gu57/wW3g97WZ7k/10GLRbxtUOxc192
 j0nECaNI1vJIiho7cJQsC10BQbvGc0QEqXspQPDk/BIO105n90WwbtcP6FErTpRyiZrp
 qYlhuZ1eNBfCxsCyPHVmWF5LYK8SicNYDMb4vR+3oaD/vx3d82b1BdK/8LA2c06Xd/PX
 Am8xQvQNf9rHfy6w2Um9giiPtwOVKg72ng9BQFCMTYxQ4K/EHwIEXBmpXu1oA8HGa8KI
 x84g==
X-Gm-Message-State: AOJu0YzUhSIsmkrg17L4J83doYw7eVZDx9SO1xYt5kYlI5NF1aiQcF/q
 36pJInhVkaip+//y/hovt3YumNPsIpa8deSaYQWdFttT1MuNP+Vb5eNbwWm+NhMio2v8s6qR783
 ZTEWfL3k2B7zk3pgrq9nWnV0gwgBFy600eO2D1XhM
X-Google-Smtp-Source: AGHT+IFGMu/siyFy28MdVPOKqI9rOn4ykTiEeBTcFfgqKV6Cpa2P06iyZk8YhjmKAQ4zxnfMHJ7jjSxNSSY6
X-Received: by 2002:a0d:d645:0:b0:60a:2540:424 with SMTP id
 y66-20020a0dd645000000b0060a25400424mr294432ywd.23.1710785094793; 
 Mon, 18 Mar 2024 11:04:54 -0700 (PDT)
Received: from postal.iol.unh.edu (postal.iol.unh.edu. [132.177.123.84])
 by smtp-relay.gmail.com with ESMTPS id
 n128-20020a0dcb86000000b00610bb30fb9csm313110ywd.58.2024.03.18.11.04.54
 (version=TLS1_2 cipher=ECDHE-ECDSA-AES128-GCM-SHA256 bits=128/128);
 Mon, 18 Mar 2024 11:04:54 -0700 (PDT)
X-Relaying-Domain: iol.unh.edu
Date: Mon, 18 Mar 2024 11:04:54 -0700 (PDT)
Message-ID: <65f88246.0d0a0220.9150e.6138SMTPIN_ADDED_MISSING@mx.google.com>
Received: from [172.21.0.7] (unknown [172.18.0.240])
 by postal.iol.unh.edu (Postfix) with ESMTP id 6C8E66052471;
 Mon, 18 Mar 2024 14:04:54 -0400 (EDT)
Subject: |SUCCESS| pw138455-138457 [PATCH] [v2,3/3] dts: store stderr in Remo
From: dpdklab@iol.unh.edu
To: Test Report <test-report@dpdk.org>
Cc: dpdk-test-reports@iol.unh.edu
In-Reply-To: <20240318171704.798634-4-luca.vizzarro@arm.com>
References: <20240318171704.798634-4-luca.vizzarro@arm.com>
Content-Type: text/plain
X-BeenThere: test-report@dpdk.org
X-Mailman-Version: 2.1.29
Precedence: list
List-Id: automatic DPDK test reports <test-report.dpdk.org>
List-Unsubscribe: <https://mails.dpdk.org/options/test-report>,
 <mailto:test-report-request@dpdk.org?subject=unsubscribe>
List-Archive: <http://mails.dpdk.org/archives/test-report/>
List-Post: <mailto:test-report@dpdk.org>
List-Help: <mailto:test-report-request@dpdk.org?subject=help>
List-Subscribe: <https://mails.dpdk.org/listinfo/test-report>,
 <mailto:test-report-request@dpdk.org?subject=subscribe>
Errors-To: test-report-bounces@dpdk.org

Test-Label: iol-compile-amd64-testing
Test-Status: SUCCESS
http://dpdk.org/patch/138457

_Testing PASS_

Submitter: Luca Vizzarro <luca.vizzarro@arm.com>
Date: Monday, March 18 2024 17:17:04 
DPDK git baseline: Repo:dpdk
  Branch: master
  CommitID:80ecef6d1f71fcebc0a51d7cabc51f73ee142ff2

138455-138457 --> testing pass

Test environment and result as below:

+---------------------+--------------------+----------------------+-------------------+
|     Environment     | dpdk_meson_compile | dpdk_mingw64_compile | dpdk_msvc_compile |
+=====================+====================+======================+===================+
| FreeBSD 13.2        | PASS               | SKIPPED              | SKIPPED           |
+---------------------+--------------------+----------------------+-------------------+
| Debian 12 (arm)     | PASS               | SKIPPED              | SKIPPED           |
+---------------------+--------------------+----------------------+-------------------+
| CentOS Stream 8     | PASS               | SKIPPED              | SKIPPED           |
+---------------------+--------------------+----------------------+-------------------+
| RHEL8               | PASS               | SKIPPED              | SKIPPED           |
+---------------------+--------------------+----------------------+-------------------+
| Fedora 37           | PASS               | SKIPPED              | SKIPPED           |
+---------------------+--------------------+----------------------+-------------------+
| Windows Server 2022 | PASS               | PASS                 | PASS              |
+---------------------+--------------------+----------------------+-------------------+
| CentOS Stream 9     | PASS               | SKIPPED              | SKIPPED           |
+---------------------+--------------------+----------------------+-------------------+
| Fedora 38           | PASS               | SKIPPED              | SKIPPED           |
+---------------------+--------------------+----------------------+-------------------+
| openSUSE Leap 15    | PASS               | SKIPPED              | SKIPPED           |
+---------------------+--------------------+----------------------+-------------------+
| Ubuntu 20.04        | PASS               | SKIPPED              | SKIPPED           |
+---------------------+--------------------+----------------------+-------------------+
| Windows Server 2019 | PASS               | PASS                 | SKIPPED           |
+---------------------+--------------------+----------------------+-------------------+


FreeBSD 13.2
	Kernel: 13.2
	Compiler: clang 11.3.0

Debian 12 (arm)
	Kernel: Container Host Kernel
	Compiler: gcc 11

CentOS Stream 8
	Kernel: 4.18.0-240.10.1.el8_3.x86_64
	Compiler: gcc 8.4.1 20200928

RHEL8
	Kernel: 4.18.0-240.10.1.el8_3.x86_64
	Compiler: gcc 8.3.1 20191121 (Red Hat 8.3.1-5)

Fedora 37
	Kernel: Depends on container host system
	Compiler: gcc 12.3.1

Windows Server 2022
	Kernel: OS Build 20348.2031
	Compiler: clang 15.0.7, gcc 8.1.0 (MinGW), and MSVC VS 17.9

CentOS Stream 9
	Kernel: 4.18.0-240.10.1.el8_3.x86_64
	Compiler: gcc 11.3.1 20220421

Fedora 38
	Kernel: Depends on container host
	Compiler: gcc 13.1.1

openSUSE Leap 15
	Kernel: 4.18.0-240.10.1.el8_3.x86_64
	Compiler: gcc 7.5.0

Ubuntu 20.04
	Kernel: 5.4.0-153-generic
	Compiler: gcc 9.4.0-1ubuntu1~20.04.1

Windows Server 2019
	Kernel: 10.0
	Compiler: clang 14.0 and gcc 8.1.0 (MinGW)

To view detailed results, visit:
https://lab.dpdk.org/results/dashboard/patchsets/29583/

UNH-IOL DPDK Community Lab

To manage your email subscriptions, visit: 
https://lab.dpdk.org/results/dashboard/preferences/subscriptions/